From mboxrd@z Thu Jan  1 00:00:00 1970
Return-Path: <test-report-bounces@dpdk.org>
Received: from mails.dpdk.org (mails.dpdk.org [217.70.189.124])
	by inbox.dpdk.org (Postfix) with ESMTP id 35FBC4619A
	for <public@inbox.dpdk.org>; Wed,  5 Feb 2025 10:42:33 +0100 (CET)
Received: from mails.dpdk.org (localhost [127.0.0.1])
	by mails.dpdk.org (Postfix) with ESMTP id 2D8E440289;
	Wed,  5 Feb 2025 10:42:33 +0100 (CET)
Received: from mail-qv1-f99.google.com (mail-qv1-f99.google.com
 [209.85.219.99]) by mails.dpdk.org (Postfix) with ESMTP id D645F40270
 for <test-report@dpdk.org>; Wed,  5 Feb 2025 10:42:31 +0100 (CET)
Received: by mail-qv1-f99.google.com with SMTP id
 6a1803df08f44-6dd43b08674so52873796d6.3
 for <test-report@dpdk.org>; Wed, 05 Feb 2025 01:42:31 -0800 (PST)
DKIM-Signature: v=1; a=rsa-sha256; c=relaxed/relaxed;
 d=iol.unh.edu; s=unh-iol; t=1738748551; x=1739353351; darn=dpdk.org;
 h=references:in-reply-to:cc:to:from:subject:message-id:date:from:to
 :cc:subject:date:message-id:reply-to;
 bh=RU+vMHJ6/Zk+YmCMRB9XJ43tpEzchm3Vs5kgGAP1P4k=;
 b=c9jw5hCjCty2pBt+1enkpliX6t1dfDl4IlJjTC5//3wQUhZG0ZN8bbUhIRZGjAqPE0
 K7A+yZvVaibpr4uz/tlnA/A0Gfpu7344uV0M3Y9FlTxHMl0L2xenffIZpj2yH2b7WfQE
 xKcl8FS4adZzCIpvYaPMAtNY5XUXgEEYnzEnE=
X-Google-DKIM-Signature: v=1; a=rsa-sha256; c=relaxed/relaxed;
 d=1e100.net; s=20230601; t=1738748551; x=1739353351;
 h=references:in-reply-to:cc:to:from:subject:message-id:date
 :x-gm-message-state:from:to:cc:subject:date:message-id:reply-to;
 bh=RU+vMHJ6/Zk+YmCMRB9XJ43tpEzchm3Vs5kgGAP1P4k=;
 b=ddhqJNzy5wNywoJEP0SZx7oyuFBtQbuxO4a2zD/l01euDwtjH/7BwV+UwRuSju8tJI
 JsuQJi0PF/+Xs0g4cph0uQQzF9hk4y9ltO36OSYPsjXbkYXt6ucwVaHB3Nof+YWl6z/Y
 9roa1VpqOBwpuXQA2DkZ7sL8qVZ3M8IMJal249GeJATaloeN3UgUXoLmfiKEJ29CW48P
 iQsGBSHX5bEg+3gevbiMF11vltyPyWPmqPrFFAMveXUrCU5pmQ+0yrrjjXFJQglvWhde
 uusovtgwSVzOxN8GVpvYgEDaRUAdIri9TN8HkMQ0d997zPjpd5+hg0yRwVCErPxnVfKu
 g0bg==
X-Gm-Message-State: AOJu0YzFuOr6wHQp9urWtbj0XvZ+KkuIAwgSB/ACT+133N1wETWzgqJV
 Z2mGS+5+/ha2dminIi3W3c5Cji7rfeuUS/9DU1s9YZciSlGjA7rufzR/EclGq2KC36lHYZ5Dh/v
 iztzjATjrjve7cWyf0h1qy+5Y5wzkLww0gp3k4rRh5dcR3acEvy2s0Y7R
X-Gm-Gg: ASbGnct005YqVnsV089om0Kqa8exI6WdeaCY9g94UllvWilOdKJQzjx0nfJTHTYNlBT
 YdQg6bn4BYAs4v3AqnDMoxrb1qIf8droiIY/6Z3r8XrGJtaXx//oxHuVAFVWdlI5z/Lgg3Iaya4
 XoguYLoYQ1WprnjRRDjztsWcqFt9LHZyDZIf7spgNjPHDdv81qk6BO9IJeDRDyVtOBWYigbfFas
 jVM8YWNY8Vcquo+/Vs7Z2tx0SacvJohkYFPXl15QW/A1Kg/O7G+18+BmJrWF22sfpI9wdZIGvF3
 YaomsXGZRkmQtxC5JLxIRpRbXenWYBrApQQt1eHLjg==
X-Google-Smtp-Source: AGHT+IEogkZdHN/N1lNafQF08L+lwh/8mk+KAZCm0pnH8jvNjWGrDcibOPNTJrjBmcG+ay68UvEbt1AfZVxb
X-Received: by 2002:a05:6214:f66:b0:6e2:49d0:6897 with SMTP id
 6a1803df08f44-6e42fbcd1d0mr28282896d6.24.1738748551234; 
 Wed, 05 Feb 2025 01:42:31 -0800 (PST)
Received: from postal.iol.unh.edu (postal.iol.unh.edu.
 [2606:4100:3880:1234::84]) by smtp-relay.gmail.com with ESMTPS id
 6a1803df08f44-6e25480c980sm10185936d6.21.2025.02.05.01.42.31
 (version=TLS1_2 cipher=ECDHE-ECDSA-AES128-GCM-SHA256 bits=128/128);
 Wed, 05 Feb 2025 01:42:31 -0800 (PST)
X-Relaying-Domain: iol.unh.edu
Date: Wed, 05 Feb 2025 01:42:31 -0800 (PST)
Message-ID: <67a33287.050a0220.1600a.f102SMTPIN_ADDED_MISSING@mx.google.com>
Received: from [172.21.0.7] (unknown [172.18.0.240])
 by postal.iol.unh.edu (Postfix) with ESMTP id EB83A6052471;
 Wed,  5 Feb 2025 04:42:30 -0500 (EST)
Subject: |WARNING| pw150543-150544 [PATCH] [v2,2/2] lib/hash: avoid implicit 
From: dpdklab@iol.unh.edu
To: Test Report <test-report@dpdk.org>
Cc: dpdk-test-reports@iol.unh.edu
In-Reply-To: <1737993833-22957-2-git-send-email-andremue@linux.microsoft.com>
References: <1737993833-22957-2-git-send-email-andremue@linux.microsoft.com>
Content-Type: text/plain
X-BeenThere: test-report@dpdk.org
X-Mailman-Version: 2.1.29
Precedence: list
List-Id: automatic DPDK test reports <test-report.dpdk.org>
List-Unsubscribe: <https://mails.dpdk.org/options/test-report>,
 <mailto:test-report-request@dpdk.org?subject=unsubscribe>
List-Archive: <http://mails.dpdk.org/archives/test-report/>
List-Post: <mailto:test-report@dpdk.org>
List-Help: <mailto:test-report-request@dpdk.org?subject=help>
List-Subscribe: <https://mails.dpdk.org/listinfo/test-report>,
 <mailto:test-report-request@dpdk.org?subject=subscribe>
Errors-To: test-report-bounces@dpdk.org

Test-Label: iol-compile-amd64-testing
Test-Status: WARNING
http://dpdk.org/patch/150544

_Testing issues_

Submitter: Andre Muezerie <andremue@linux.microsoft.com>
Date: Monday, January 27 2025 16:03:53 
DPDK git baseline: Repo:dpdk
  Branch: master
  CommitID:e110e9ecc60a78e26026496b1697863312f262a4

150543-150544 --> testing issues

Upstream job id: Windows-Compile-DPDK-Native#26376

Test environment and result as below:

+---------------------+--------------------+------------------+-------------------+-------------------+----------------------+-------------------------+
|     Environment     | dpdk_meson_compile | dpdk_compile_ovs | dpdk_compile_spdk | dpdk_msvc_compile | dpdk_mingw64_compile | dpdk_llvm_clang_compile |
+=====================+====================+==================+===================+===================+======================+=========================+
| CentOS Stream 9     | PASS               | PASS             | PASS              | SKIPPED           | SKIPPED              | SKIPPED                 |
+---------------------+--------------------+------------------+-------------------+-------------------+----------------------+-------------------------+
| Debian 12           | PASS               | PASS             | PASS              | SKIPPED           | SKIPPED              | SKIPPED                 |
+---------------------+--------------------+------------------+-------------------+-------------------+----------------------+-------------------------+
| Fedora 40 (Clang)   | PASS               | PASS             | PASS              | SKIPPED           | SKIPPED              | SKIPPED                 |
+---------------------+--------------------+------------------+-------------------+-------------------+----------------------+-------------------------+
| Fedora 40           | PASS               | PASS             | PASS              | SKIPPED           | SKIPPED              | SKIPPED                 |
+---------------------+--------------------+------------------+-------------------+-------------------+----------------------+-------------------------+
| Fedora 41 (Clang)   | PASS               | PASS             | PASS              | SKIPPED           | SKIPPED              | SKIPPED                 |
+---------------------+--------------------+------------------+-------------------+-------------------+----------------------+-------------------------+
| Fedora 41           | PASS               | PASS             | PASS              | SKIPPED           | SKIPPED              | SKIPPED                 |
+---------------------+--------------------+------------------+-------------------+-------------------+----------------------+-------------------------+
| RHEL9               | PASS               | PASS             | SKIPPED           | SKIPPED           | SKIPPED              | SKIPPED                 |
+---------------------+--------------------+------------------+-------------------+-------------------+----------------------+-------------------------+
| RHEL8               | PASS               | PASS             | SKIPPED           | SKIPPED           | SKIPPED              | SKIPPED                 |
+---------------------+--------------------+------------------+-------------------+-------------------+----------------------+-------------------------+
| openSUSE Leap 15    | PASS               | SKIPPED          | SKIPPED           | SKIPPED           | SKIPPED              | SKIPPED                 |
+---------------------+--------------------+------------------+-------------------+-------------------+----------------------+-------------------------+
| Ubuntu 20.04        | PASS               | WARN             | SKIPPED           | SKIPPED           | SKIPPED              | SKIPPED                 |
+---------------------+--------------------+------------------+-------------------+-------------------+----------------------+-------------------------+
| Ubuntu 22.04        | PASS               | PASS             | PASS              | SKIPPED           | SKIPPED              | SKIPPED                 |
+---------------------+--------------------+------------------+-------------------+-------------------+----------------------+-------------------------+
| Ubuntu 24.04        | PASS               | PASS             | PASS              | SKIPPED           | SKIPPED              | SKIPPED                 |
+---------------------+--------------------+------------------+-------------------+-------------------+----------------------+-------------------------+
| Alpine              | PASS               | PASS             | SKIPPED           | SKIPPED           | SKIPPED              | SKIPPED                 |
+---------------------+--------------------+------------------+-------------------+-------------------+----------------------+-------------------------+
| FreeBSD 13.4        | PASS               | SKIPPED          | SKIPPED           | SKIPPED           | SKIPPED              | SKIPPED                 |
+---------------------+--------------------+------------------+-------------------+-------------------+----------------------+-------------------------+
| FreeBSD 14.2        | PASS               | SKIPPED          | SKIPPED           | SKIPPED           | SKIPPED              | SKIPPED                 |
+---------------------+--------------------+------------------+-------------------+-------------------+----------------------+-------------------------+
| Debian Bullseye     | PASS               | PASS             | PASS              | SKIPPED           | SKIPPED              | SKIPPED                 |
+---------------------+--------------------+------------------+-------------------+-------------------+----------------------+-------------------------+
| Windows Server 2022 | SKIPPED            | SKIPPED          | SKIPPED           | PASS              | PASS                 | PASS                    |
+---------------------+--------------------+------------------+-------------------+-------------------+----------------------+-------------------------+

==== 20 line log output for Ubuntu 20.04 (dpdk_compile_ovs): ====
 --- Failed to get log output --- 
==== End log output ====

CentOS Stream 9
	Kernel: Depends on container host
	Compiler: gcc 11.5.0 20240719 (Red Hat 11.5.0-2)

Debian 12
	Kernel: Depends on container host
	Compiler: gcc (Debian 12.2.0-14) 12.2.0

Fedora 40 (Clang)
	Kernel: Depends on container host
	Compiler: clang 18.1.8 (Fedora 18.1.8-1.fc40)

Fedora 40
	Kernel: Depends on container host
	Compiler: gcc 14.2.1 20240912 (Red Hat 14.2.1-3)

Fedora 41 (Clang)
	Kernel: Depends on container host
	Compiler: clang 19.1.5 (Fedora 19.1.5-1.fc41)

Fedora 41
	Kernel: Depends on container host
	Compiler: gcc 14.2.1 20240912 (Red Hat 14.2.1-3)

RHEL9
	Kernel: Depends on container host
	Compiler: gcc 11.5.0 20240719 (Red Hat 11.5.0-2)

RHEL8
	Kernel: Depends on container host
	Compiler: gcc 8.5.0 20210514 (Red Hat 8.5.0-22)

openSUSE Leap 15
	Kernel: Depends on container host
	Compiler: gcc (SUSE Linux) 7.5.0

Ubuntu 20.04
	Kernel: Depends on container host
	Compiler: gcc (Ubuntu 9.4.0-1ubuntu1~20.04.2) 9.4.0

Ubuntu 22.04
	Kernel: Depends on container host
	Compiler: gcc (Ubuntu 11.4.0-1ubuntu1~22.04) 11.4.0

Ubuntu 24.04
	Kernel: Depends on container host
	Compiler: gcc (Ubuntu 13.3.0-6ubuntu2~24.04) 13.3.0

Alpine
	Kernel: Depends on container host
	Compiler: gcc (Alpine 14.2.0) 14.2.0

FreeBSD 13.4
	Kernel: 13.4-RELEASE-p1
	Compiler: clang 18.1.6

FreeBSD 14.2
	Kernel: 14.2-RELEASE
	Compiler: clang 18.1.6

Debian Bullseye
	Kernel: Depends on container host
	Compiler: gcc (Debian 10.2.1-6) 10.2.1 20210110

Windows Server 2022
	Kernel: 10.0.20348.2031
	Compiler: clang 15.0.7, gcc 14.1.0 (MinGW), and MSVC VS 19.39.33521

To view detailed results, visit:
https://lab.dpdk.org/results/dashboard/patchsets/32433/

UNH-IOL DPDK Community Lab

To manage your email subscriptions, visit: 
https://lab.dpdk.org/results/dashboard/preferences/subscriptions/