From mboxrd@z Thu Jan 1 00:00:00 1970 Return-Path: Received: from mails.dpdk.org (mails.dpdk.org [217.70.189.124]) by inbox.dpdk.org (Postfix) with ESMTP id 95B504619A for ; Wed, 5 Feb 2025 10:44:59 +0100 (CET) Received: from mails.dpdk.org (localhost [127.0.0.1]) by mails.dpdk.org (Postfix) with ESMTP id 7485640289; Wed, 5 Feb 2025 10:44:59 +0100 (CET) Received: from mail-yw1-f225.google.com (mail-yw1-f225.google.com [209.85.128.225]) by mails.dpdk.org (Postfix) with ESMTP id 2A7CA40270 for ; Wed, 5 Feb 2025 10:44:58 +0100 (CET) Received: by mail-yw1-f225.google.com with SMTP id 00721157ae682-6f9625c0fccso28119447b3.1 for ; Wed, 05 Feb 2025 01:44:58 -0800 (PST) DKIM-Signature: v=1; a=rsa-sha256; c=relaxed/relaxed; d=iol.unh.edu; s=unh-iol; t=1738748697; x=1739353497; darn=dpdk.org; h=cc:to:from:subject:message-id:date:from:to:cc:subject:date :message-id:reply-to; bh=xTozy2i2PWPdXuNaLii+Uzu1Sj9QaJZK0aXq232ZJPU=; b=fRCuINpv4KObKIQkyMp5TiVFnr6qwXwh6uT2r095GxmTJ38m+Y9Pgg8t6CZpDoqLDT peObYkir0EeVOSNRkOc5aTRj2FOcFWZb/VOx2Cr+uEeYoz5Q7zHtSHwPM8G+dFOXtRwn DutoFnR80GN73d7IvzX7Ib0w8bJTvLlyfGO1U= X-Google-DKIM-Signature: v=1; a=rsa-sha256; c=relaxed/relaxed; d=1e100.net; s=20230601; t=1738748697; x=1739353497; h=cc:to:from:subject:message-id:date:x-gm-message-state:from:to:cc :subject:date:message-id:reply-to; bh=xTozy2i2PWPdXuNaLii+Uzu1Sj9QaJZK0aXq232ZJPU=; b=WsDF3z4KqedJCghwDRbjMgM0/c4UU72ZHau0rp32Ad+zQT88ndn4S38fEz6EFn80sq cbgmkhuRrXpTUicoEQ46paD4SN+Wk3ahjq9xpyR9uMLOx86C1kD44ty9NKwp8OuGT2PO Yglc2efCgvuMxEMNJzKCpV8b3JZizdSp/UXG5w9qCltWxDkMEOZNkUnlxLbB+/tD91Ww 000eqRSESYO7OTLzaxh0WhUwvm7bGFyIXyQDIJZjo18HUw2yT7haBoCWZ88tPc+znWDy 9+h+/wv2cP77qi1Tk8OJ7W2SEEhLrYQPWdS1M1mij8eEPlGjPOswWGvfWdjMlauptXDs dw9Q== X-Gm-Message-State: AOJu0YyKcxQMQDm8jE5H8+QvuTHvS0xgfu1fHM1XfaXEMyjkcljhDxkf HRfFojHVP/KHayLbYiJoHaVqGkLqP5KoDSNIPhdCGwawZIzdLX4AKVy87KXLxR1bq1UVWnRugYy 8kHvJzyHSh6VICsYh5j3EURS7LJNCY8St4LeoXXCy/Vim4svz X-Gm-Gg: ASbGnctwlneidgLhZA86pXJOORUbguAXNjpP4AfdYdUlf7dGv4TygRecs8Tg9Ktksqh YJCVtFFOOgpfWi7bORH6eNmNLK2+Hb6tfku9RUINq1D1SbBMStO+Vha30K125HzcyVZqJi6eUHi yt13UhuDuh/o7cTw8oWk/ayMRYtPPJ9Pt7muamLc0qO6j6PbUwWh5aTmocbEvLyKZds0P5r1tNj FjAFMHpzpQq50iPlDv9eECXKAn8I67VtWjm0XMSc8WwEadXOIpPzQYkzfCZVRLnWIGeinHfGU9A VNtyqiiKmz0vJmjQkn2pcVMjxiN2fepumicDkgRvpQ== X-Google-Smtp-Source: AGHT+IHIRCnmhoHvde2wVh69z3DUiruW9fRjnzMNzoyQsB0mXSWbwio5zKijY2Z1eRuaavvbWC6UhK5Ba7KY X-Received: by 2002:a05:690c:6f8d:b0:6f7:acc3:63e3 with SMTP id 00721157ae682-6f989fb9051mr16938207b3.37.1738748697445; Wed, 05 Feb 2025 01:44:57 -0800 (PST) Received: from postal.iol.unh.edu (postal.iol.unh.edu. [2606:4100:3880:1234::84]) by smtp-relay.gmail.com with ESMTPS id 00721157ae682-6f8c463d15asm11082897b3.24.2025.02.05.01.44.57 (version=TLS1_2 cipher=ECDHE-ECDSA-AES128-GCM-SHA256 bits=128/128); Wed, 05 Feb 2025 01:44:57 -0800 (PST) X-Relaying-Domain: iol.unh.edu Date: Wed, 05 Feb 2025 01:44:57 -0800 (PST) Message-ID: <67a33319.0d0a0220.2c2897.80a4SMTPIN_ADDED_MISSING@mx.google.com> Received: from [172.21.0.6] (unknown [172.18.0.240]) by postal.iol.unh.edu (Postfix) with ESMTP id 153326052471; Wed, 5 Feb 2025 04:44:57 -0500 (EST) Subject: |SUCCESS| [GIT MASTER] 7ce7d3341d7e21c2a81f2fea8e451681d7306d77 From: dpdklab@iol.unh.edu To: Test Report Cc: dpdk-test-reports@iol.unh.edu, Xueming Li , Christian Ehrhardt , Kevin Traynor , Luca Boccassi Content-Type: text/plain X-BeenThere: test-report@dpdk.org X-Mailman-Version: 2.1.29 Precedence: list List-Id: automatic DPDK test reports List-Unsubscribe: , List-Archive: List-Post: List-Help: List-Subscribe: , Errors-To: test-report-bounces@dpdk.org _Testing PASS_ Branch: tags/v22.11 7ce7d3341d7e21c2a81f2fea8e451681d7306d77 --> testing pass Upstream job id: Generic-DPDK-Compile-Meson#357869 Test environment and result as below: +-------------------+--------------------+ | Environment | dpdk_meson_compile | +===================+====================+ | FreeBSD 13.4 | PASS | +-------------------+--------------------+ | FreeBSD 14.2 | PASS | +-------------------+--------------------+ | CentOS Stream 9 | PASS | +-------------------+--------------------+ | Debian Bullseye | PASS | +-------------------+--------------------+ | Debian 12 | PASS | +-------------------+--------------------+ | Fedora 40 | PASS | +-------------------+--------------------+ | Fedora 41 | PASS | +-------------------+--------------------+ | openSUSE Leap 15 | PASS | +-------------------+--------------------+ | RHEL8 | PASS | +-------------------+--------------------+ | RHEL9 | PASS | +-------------------+--------------------+ | Ubuntu 20.04 | PASS | +-------------------+--------------------+ | Ubuntu 22.04 | PASS | +-------------------+--------------------+ | Ubuntu 24.04 | PASS | +-------------------+--------------------+ | Fedora 41 (Clang) | PASS | +-------------------+--------------------+ | Fedora 40 (Clang) | PASS | +-------------------+--------------------+ FreeBSD 13.4 Kernel: 13.4-RELEASE-p1 Compiler: clang 18.1.6 FreeBSD 14.2 Kernel: 14.2-RELEASE Compiler: clang 18.1.6 CentOS Stream 9 Kernel: Depends on container host Compiler: gcc 11.5.0 20240719 (Red Hat 11.5.0-2) Debian Bullseye Kernel: Depends on container host Compiler: gcc (Debian 10.2.1-6) 10.2.1 20210110 Debian 12 Kernel: Depends on container host Compiler: gcc (Debian 12.2.0-14) 12.2.0 Fedora 40 Kernel: Depends on container host Compiler: gcc 14.2.1 20240912 (Red Hat 14.2.1-3) Fedora 41 Kernel: Depends on container host Compiler: gcc 14.2.1 20240912 (Red Hat 14.2.1-3) openSUSE Leap 15 Kernel: Depends on container host Compiler: gcc (SUSE Linux) 7.5.0 RHEL8 Kernel: Depends on container host Compiler: gcc 8.5.0 20210514 (Red Hat 8.5.0-22) RHEL9 Kernel: Depends on container host Compiler: gcc 11.5.0 20240719 (Red Hat 11.5.0-2) Ubuntu 20.04 Kernel: Depends on container host Compiler: gcc (Ubuntu 9.4.0-1ubuntu1~20.04.2) 9.4.0 Ubuntu 22.04 Kernel: Depends on container host Compiler: gcc (Ubuntu 11.4.0-1ubuntu1~22.04) 11.4.0 Ubuntu 24.04 Kernel: Depends on container host Compiler: gcc (Ubuntu 13.3.0-6ubuntu2~24.04) 13.3.0 Fedora 41 (Clang) Kernel: Depends on container host Compiler: clang 19.1.5 (Fedora 19.1.5-1.fc41) Fedora 40 (Clang) Kernel: Depends on container host Compiler: clang 18.1.8 (Fedora 18.1.8-1.fc40) To view detailed results, visit: https://lab.dpdk.org/results/dashboard/tarballs/32445/ UNH-IOL DPDK Community Lab To manage your email subscriptions, visit: https://lab.dpdk.org/results/dashboard/preferences/subscriptions/