From mboxrd@z Thu Jan 1 00:00:00 1970 Return-Path: Received: from mails.dpdk.org (mails.dpdk.org [217.70.189.124]) by inbox.dpdk.org (Postfix) with ESMTP id B47634619A for ; Wed, 5 Feb 2025 10:46:18 +0100 (CET) Received: from mails.dpdk.org (localhost [127.0.0.1]) by mails.dpdk.org (Postfix) with ESMTP id AA6D240289; Wed, 5 Feb 2025 10:46:18 +0100 (CET) Received: from mail-pl1-f227.google.com (mail-pl1-f227.google.com [209.85.214.227]) by mails.dpdk.org (Postfix) with ESMTP id 71B1240270 for ; Wed, 5 Feb 2025 10:46:17 +0100 (CET) Received: by mail-pl1-f227.google.com with SMTP id d9443c01a7336-2162c0f6a39so11642475ad.0 for ; Wed, 05 Feb 2025 01:46:17 -0800 (PST) DKIM-Signature: v=1; a=rsa-sha256; c=relaxed/relaxed; d=iol.unh.edu; s=unh-iol; t=1738748776; x=1739353576; darn=dpdk.org; h=cc:to:from:subject:message-id:date:from:to:cc:subject:date :message-id:reply-to; bh=mY47IkjbwJOieV78ZZNY3uFM/jwBmdxzhDdkHIq4a+4=; b=dgzSlJopPcTxkcQG4rJqH1XPCFdnAcbpjyPVKmUOjO6Gy0vQZPsnOWiLag5lsl3MHy cELzYOZJzct9yMIRHVT8ueWbHJOseEc+GXZ3AUaV7VJkdi7HJRpm5u7nj/YLXk/rPJfP m0GavOELCoTYRM6Mqu6tnjC+HrTvMywNBLDk0= X-Google-DKIM-Signature: v=1; a=rsa-sha256; c=relaxed/relaxed; d=1e100.net; s=20230601; t=1738748776; x=1739353576; h=cc:to:from:subject:message-id:date:x-gm-message-state:from:to:cc :subject:date:message-id:reply-to; bh=mY47IkjbwJOieV78ZZNY3uFM/jwBmdxzhDdkHIq4a+4=; b=SWWBiPJ5N5/oamTFg4fK1/ZYU4zmi1YLZBvMpRd6JwCNOI9lR8FTpGlnOgpNS8u9Zl 8MyBxOqYVs/Ip1OyVdCVrLYZY6GAoFWrLq6eLyTIYG7PYnBFGHYCWaw8qC+2wfdrRLek bUBG0mRvQ3mYB9buKW1cfwRLwFD9X/XlXAlQ3otQ3DIGx9dTsfuDmH5h6Fi88okZKIih TsvGAHRy1JUu4DIA/O4loz8dWHS4RbFzhIbslaCgYySF43Xd6/OM4OZnHMq36AXeTcZv jZcEMxqewmss9ddMHUE5s5a7WxaPdmVr/FOi14IW3OezJTG99RsN9TBZJ4xrKcOfjeXP Hx1Q== X-Gm-Message-State: AOJu0YwcD5IvXiAvhw3wc9rXxw9OoYvPIMpy1ZnhBh+kNfbh6SBwp9VZ r/u+KH6MYZm2+iJ7B6jo9gzVt7gTTg9uVfZMoLm1BASojpiSfAcBoRyaIcR3m71CTtev1CWXY2y RF3oBkEsKt7W2ISww/aHqdv+cEXR2m1ex X-Gm-Gg: ASbGncthH8n2CFpgitb5lML89XDL/oXsxXMg6sJUomlOBzmVr69AYej7OJK60NWg5+C Nwg9bI0yUcTv1ALnTfb9SpzkMwrVVVMAX5e2bgDOH0PxzqrpBjeUu/+mr5hBU3OxDms+jaJBbpY fCQmdrUk86z2qtdwcb8OxV6Uqrz0T6Nr5M5Hc1/I5IGKDuNczC6vrdDhUmVURLXb+3sGuUfJRR1 yQ5n2eCHv8+r2kJ6WEyaNAyiwuJJbyXJ47JN0c88Ch3wJN4R6jWX+k9pmOiwbG9ob3f7eZfx1aA ANr2es9ZUhsoWZ2hPC1R8Z3RGjLOeQ== X-Google-Smtp-Source: AGHT+IGX11/HribvBF4y5/XaTo4rfXyZAYr8SaOcQYNTuYvyeDPFg7j9v15F2Quj/vA+V24jAhNHXnKG/XZw X-Received: by 2002:a05:6a20:6f88:b0:1e1:9e9f:ae4 with SMTP id adf61e73a8af0-1ede8302a6cmr3871283637.13.1738748776533; Wed, 05 Feb 2025 01:46:16 -0800 (PST) Received: from postal.iol.unh.edu (postal.iol.unh.edu. [132.177.123.84]) by smtp-relay.gmail.com with ESMTPS id d2e1a72fcca58-72fe6903228sm1048207b3a.14.2025.02.05.01.46.16 (version=TLS1_2 cipher=ECDHE-ECDSA-AES128-GCM-SHA256 bits=128/128); Wed, 05 Feb 2025 01:46:16 -0800 (PST) X-Relaying-Domain: iol.unh.edu Date: Wed, 05 Feb 2025 01:46:16 -0800 (PST) Message-ID: <67a33368.050a0220.13a85.06fcSMTPIN_ADDED_MISSING@mx.google.com> Received: from [172.21.0.5] (unknown [172.18.0.240]) by postal.iol.unh.edu (Postfix) with ESMTP id AA6E76052471; Wed, 5 Feb 2025 04:46:15 -0500 (EST) Subject: |SUCCESS| [GIT MASTER] 7ce7d3341d7e21c2a81f2fea8e451681d7306d77 From: dpdklab@iol.unh.edu To: Test Report Cc: dpdk-test-reports@iol.unh.edu, Xueming Li , Christian Ehrhardt , Kevin Traynor , Luca Boccassi Content-Type: text/plain X-BeenThere: test-report@dpdk.org X-Mailman-Version: 2.1.29 Precedence: list List-Id: automatic DPDK test reports List-Unsubscribe: , List-Archive: List-Post: List-Help: List-Subscribe: , Errors-To: test-report-bounces@dpdk.org _Testing PASS_ Branch: tags/v22.11 7ce7d3341d7e21c2a81f2fea8e451681d7306d77 --> testing pass Upstream job id: Generic-DPDK-Compile-Meson#357867 Test environment and result as below: +-------------------+--------------------+ | Environment | dpdk_meson_compile | +===================+====================+ | FreeBSD 13.4 | PASS | +-------------------+--------------------+ | FreeBSD 14.2 | PASS | +-------------------+--------------------+ | CentOS Stream 9 | PASS | +-------------------+--------------------+ | Debian Bullseye | PASS | +-------------------+--------------------+ | Debian 12 | PASS | +-------------------+--------------------+ | Fedora 40 | PASS | +-------------------+--------------------+ | Fedora 41 | PASS | +-------------------+--------------------+ | openSUSE Leap 15 | PASS | +-------------------+--------------------+ | RHEL8 | PASS | +-------------------+--------------------+ | RHEL9 | PASS | +-------------------+--------------------+ | Ubuntu 20.04 | PASS | +-------------------+--------------------+ | Ubuntu 22.04 | PASS | +-------------------+--------------------+ | Ubuntu 24.04 | PASS | +-------------------+--------------------+ | Fedora 41 (Clang) | PASS | +-------------------+--------------------+ | Fedora 40 (Clang) | PASS | +-------------------+--------------------+ FreeBSD 13.4 Kernel: 13.4-RELEASE-p1 Compiler: clang 18.1.6 FreeBSD 14.2 Kernel: 14.2-RELEASE Compiler: clang 18.1.6 CentOS Stream 9 Kernel: Depends on container host Compiler: gcc 11.5.0 20240719 (Red Hat 11.5.0-2) Debian Bullseye Kernel: Depends on container host Compiler: gcc (Debian 10.2.1-6) 10.2.1 20210110 Debian 12 Kernel: Depends on container host Compiler: gcc (Debian 12.2.0-14) 12.2.0 Fedora 40 Kernel: Depends on container host Compiler: gcc 14.2.1 20240912 (Red Hat 14.2.1-3) Fedora 41 Kernel: Depends on container host Compiler: gcc 14.2.1 20240912 (Red Hat 14.2.1-3) openSUSE Leap 15 Kernel: Depends on container host Compiler: gcc (SUSE Linux) 7.5.0 RHEL8 Kernel: Depends on container host Compiler: gcc 8.5.0 20210514 (Red Hat 8.5.0-22) RHEL9 Kernel: Depends on container host Compiler: gcc 11.5.0 20240719 (Red Hat 11.5.0-2) Ubuntu 20.04 Kernel: Depends on container host Compiler: gcc (Ubuntu 9.4.0-1ubuntu1~20.04.2) 9.4.0 Ubuntu 22.04 Kernel: Depends on container host Compiler: gcc (Ubuntu 11.4.0-1ubuntu1~22.04) 11.4.0 Ubuntu 24.04 Kernel: Depends on container host Compiler: gcc (Ubuntu 13.3.0-6ubuntu2~24.04) 13.3.0 Fedora 41 (Clang) Kernel: Depends on container host Compiler: clang 19.1.5 (Fedora 19.1.5-1.fc41) Fedora 40 (Clang) Kernel: Depends on container host Compiler: clang 18.1.8 (Fedora 18.1.8-1.fc40) To view detailed results, visit: https://lab.dpdk.org/results/dashboard/tarballs/32445/ UNH-IOL DPDK Community Lab To manage your email subscriptions, visit: https://lab.dpdk.org/results/dashboard/preferences/subscriptions/