From mboxrd@z Thu Jan 1 00:00:00 1970 Return-Path: Received: from mails.dpdk.org (mails.dpdk.org [217.70.189.124]) by inbox.dpdk.org (Postfix) with ESMTP id 1CD8E4619A for ; Wed, 5 Feb 2025 10:58:43 +0100 (CET) Received: from mails.dpdk.org (localhost [127.0.0.1]) by mails.dpdk.org (Postfix) with ESMTP id 07D2040289; Wed, 5 Feb 2025 10:58:43 +0100 (CET) Received: from mail-yw1-f226.google.com (mail-yw1-f226.google.com [209.85.128.226]) by mails.dpdk.org (Postfix) with ESMTP id 9AA4340270 for ; Wed, 5 Feb 2025 10:58:41 +0100 (CET) Received: by mail-yw1-f226.google.com with SMTP id 00721157ae682-6f974a5e5e3so17116407b3.0 for ; Wed, 05 Feb 2025 01:58:41 -0800 (PST) DKIM-Signature: v=1; a=rsa-sha256; c=relaxed/relaxed; d=iol.unh.edu; s=unh-iol; t=1738749521; x=1739354321; darn=dpdk.org; h=references:in-reply-to:cc:to:from:subject:message-id:date:from:to :cc:subject:date:message-id:reply-to; bh=3IDzQ2B7G8mKeAn6Ar7ls/EBx5SjjpBu78C194Nv4FI=; b=hDjhg7RIDObe81X8BG3+Gb7Q9mh+mo2rspGU2eJeH/MpuL3cHSlx3xgEkH67smA/Xk scHhHr/0D75JKhUzmdpy3X6ytsAAbsSXol3sDjoTZCj01QsYSH5SSiz6MYjQLaCq/leh WsVWMvHTCAE/Nc9t0DR0VGz2ocCOLecyx7CRU= X-Google-DKIM-Signature: v=1; a=rsa-sha256; c=relaxed/relaxed; d=1e100.net; s=20230601; t=1738749521; x=1739354321; h=references:in-reply-to:cc:to:from:subject:message-id:date :x-gm-message-state:from:to:cc:subject:date:message-id:reply-to; bh=3IDzQ2B7G8mKeAn6Ar7ls/EBx5SjjpBu78C194Nv4FI=; b=AHQS5IUyf+wxhIC2i82wV/gdMLetJ6Pqc91R5ZmfY+TdB6hjyVEQIuFcvDsfEUPQSX KXG8PR10M0u6xYcoUTmyD+03P88WV7c7JgQTjG9Wql4/mOEgZZFeXluHITrz81i5zind A3c1qRZ+0Q6YBsVZFObLsBx5o2rbs+BK0BbChkyAK8olMva6gbzIMDzPNV+MMCfEu/JT KTv/VK+IYM02OveZia8YCLCN2YO9M/5nfL6TmIehGl7TOlKER4IiaM1yf9HeL86HaZ38 kaM2iiEvTLnsYbZ/NiHRgRCDAfcf9bybO98lxAqZrFdAnOCbaZhcJaeJrARdxfZstBTV ORzw== X-Gm-Message-State: AOJu0YwDIXvpf8uuhlaKwEKu5SQ9B1I+8OezUXjI/Nm4HCGH/BJ5cmdx jFz2Gkpo9HAt2CKNxGppVa0pVGjeYi+hgs2gJTXg4/N0fcKD2YiCD3w8XRvzJImdPFA4VMuZITw RhatgtC4Li14IgjSWePJt+PiqmGD0Z1FCGPnFrlB3 X-Gm-Gg: ASbGncsu8NdWKTodExjPZbQRh4pdgjtNKslnRGj5HnqYmgaest7pHirbiNJxPGh0V2K Ec319Va+ShM7XjpywIpb/PCfasFJd0Z+K0O5KFjKukb76ljBXkw0VtURiLNx3otd7MwC4kg1jqw xamj44nhEtPOc9qu5FYjRvZEzCZJXrVlnijSoocl6dftv2meSRD4+S6FZ4yvNMUIRJDzrsXK4MG SkoTj6bQepeBmT1SLJ4JoGm0rNq1PDFUNDWTDU1oEh8mu8J1oX0/H1I18j1FY69QxtTnCfN/f7z LVcoGk9Zqc1V1x2QZT/Z+hrMwv/GSw== X-Google-Smtp-Source: AGHT+IFveOkD2ktwvyq9Cwz+Rd1BMl+SS6RWCr6WmzUghRpXSVNOtdbbTYlG+th5FzFWKCmEjc78XDagS3TY X-Received: by 2002:a05:690c:3808:b0:6ef:641a:2a73 with SMTP id 00721157ae682-6f989e2bb3cmr15027767b3.9.1738749520568; Wed, 05 Feb 2025 01:58:40 -0800 (PST) Received: from postal.iol.unh.edu (postal.iol.unh.edu. [132.177.123.84]) by smtp-relay.gmail.com with ESMTPS id 00721157ae682-6f8c460bd9bsm6539767b3.8.2025.02.05.01.58.40 (version=TLS1_2 cipher=ECDHE-ECDSA-AES128-GCM-SHA256 bits=128/128); Wed, 05 Feb 2025 01:58:40 -0800 (PST) X-Relaying-Domain: iol.unh.edu Date: Wed, 05 Feb 2025 01:58:40 -0800 (PST) Message-ID: <67a33650.050a0220.9481d.cfc9SMTPIN_ADDED_MISSING@mx.google.com> Received: from [172.21.0.6] (unknown [172.18.0.240]) by postal.iol.unh.edu (Postfix) with ESMTP id 4061F6052471; Wed, 5 Feb 2025 04:58:40 -0500 (EST) Subject: |WARNING| pw150540 [PATCH] [v2] net/virtio: add virtio hash report f From: dpdklab@iol.unh.edu To: Test Report Cc: dpdk-test-reports@iol.unh.edu In-Reply-To: <20250127074150.3499851-1-kshankar@marvell.com> References: <20250127074150.3499851-1-kshankar@marvell.com> Content-Type: text/plain X-BeenThere: test-report@dpdk.org X-Mailman-Version: 2.1.29 Precedence: list List-Id: automatic DPDK test reports List-Unsubscribe: , List-Archive: List-Post: List-Help: List-Subscribe: , Errors-To: test-report-bounces@dpdk.org Test-Label: iol-compile-amd64-testing Test-Status: WARNING http://dpdk.org/patch/150540 _Testing issues_ Submitter: Kommula Shiva Shankar Date: Monday, January 27 2025 07:41:50 DPDK git baseline: Repo:dpdk Branch: master CommitID:d92688baedcfc963b7539899347012a09c45a15b 150540 --> testing issues Upstream job id: Windows-Compile-DPDK-Native#26378 Test environment and result as below: +---------------------+--------------------+------------------+-------------------+-------------------+----------------------+-------------------------+ | Environment | dpdk_meson_compile | dpdk_compile_ovs | dpdk_compile_spdk | dpdk_msvc_compile | dpdk_mingw64_compile | dpdk_llvm_clang_compile | +=====================+====================+==================+===================+===================+======================+=========================+ | CentOS Stream 9 | PASS | PASS | PASS | SKIPPED | SKIPPED | SKIPPED | +---------------------+--------------------+------------------+-------------------+-------------------+----------------------+-------------------------+ | Debian Bullseye | PASS | PASS | PASS | SKIPPED | SKIPPED | SKIPPED | +---------------------+--------------------+------------------+-------------------+-------------------+----------------------+-------------------------+ | Fedora 40 (Clang) | PASS | PASS | PASS | SKIPPED | SKIPPED | SKIPPED | +---------------------+--------------------+------------------+-------------------+-------------------+----------------------+-------------------------+ | Debian 12 | PASS | PASS | PASS | SKIPPED | SKIPPED | SKIPPED | +---------------------+--------------------+------------------+-------------------+-------------------+----------------------+-------------------------+ | RHEL9 | PASS | PASS | SKIPPED | SKIPPED | SKIPPED | SKIPPED | +---------------------+--------------------+------------------+-------------------+-------------------+----------------------+-------------------------+ | Fedora 41 (Clang) | PASS | PASS | PASS | SKIPPED | SKIPPED | SKIPPED | +---------------------+--------------------+------------------+-------------------+-------------------+----------------------+-------------------------+ | Fedora 41 | PASS | PASS | PASS | SKIPPED | SKIPPED | SKIPPED | +---------------------+--------------------+------------------+-------------------+-------------------+----------------------+-------------------------+ | openSUSE Leap 15 | PASS | SKIPPED | SKIPPED | SKIPPED | SKIPPED | SKIPPED | +---------------------+--------------------+------------------+-------------------+-------------------+----------------------+-------------------------+ | Fedora 40 | PASS | PASS | PASS | SKIPPED | SKIPPED | SKIPPED | +---------------------+--------------------+------------------+-------------------+-------------------+----------------------+-------------------------+ | RHEL8 | PASS | PASS | SKIPPED | SKIPPED | SKIPPED | SKIPPED | +---------------------+--------------------+------------------+-------------------+-------------------+----------------------+-------------------------+ | Ubuntu 24.04 | PASS | PASS | PASS | SKIPPED | SKIPPED | SKIPPED | +---------------------+--------------------+------------------+-------------------+-------------------+----------------------+-------------------------+ | Ubuntu 20.04 | PASS | WARN | SKIPPED | SKIPPED | SKIPPED | SKIPPED | +---------------------+--------------------+------------------+-------------------+-------------------+----------------------+-------------------------+ | Alpine | PASS | PASS | SKIPPED | SKIPPED | SKIPPED | SKIPPED | +---------------------+--------------------+------------------+-------------------+-------------------+----------------------+-------------------------+ | Ubuntu 22.04 | PASS | PASS | PASS | SKIPPED | SKIPPED | SKIPPED | +---------------------+--------------------+------------------+-------------------+-------------------+----------------------+-------------------------+ | FreeBSD 13.4 | PASS | SKIPPED | SKIPPED | SKIPPED | SKIPPED | SKIPPED | +---------------------+--------------------+------------------+-------------------+-------------------+----------------------+-------------------------+ | FreeBSD 14.2 | PASS | SKIPPED | SKIPPED | SKIPPED | SKIPPED | SKIPPED | +---------------------+--------------------+------------------+-------------------+-------------------+----------------------+-------------------------+ | Windows Server 2022 | SKIPPED | SKIPPED | SKIPPED | PASS | PASS | PASS | +---------------------+--------------------+------------------+-------------------+-------------------+----------------------+-------------------------+ ==== 20 line log output for Ubuntu 20.04 (dpdk_compile_ovs): ==== --- Failed to get log output --- ==== End log output ==== CentOS Stream 9 Kernel: Depends on container host Compiler: gcc 11.5.0 20240719 (Red Hat 11.5.0-2) Debian Bullseye Kernel: Depends on container host Compiler: gcc (Debian 10.2.1-6) 10.2.1 20210110 Fedora 40 (Clang) Kernel: Depends on container host Compiler: clang 18.1.8 (Fedora 18.1.8-1.fc40) Debian 12 Kernel: Depends on container host Compiler: gcc (Debian 12.2.0-14) 12.2.0 RHEL9 Kernel: Depends on container host Compiler: gcc 11.5.0 20240719 (Red Hat 11.5.0-2) Fedora 41 (Clang) Kernel: Depends on container host Compiler: clang 19.1.5 (Fedora 19.1.5-1.fc41) Fedora 41 Kernel: Depends on container host Compiler: gcc 14.2.1 20240912 (Red Hat 14.2.1-3) openSUSE Leap 15 Kernel: Depends on container host Compiler: gcc (SUSE Linux) 7.5.0 Fedora 40 Kernel: Depends on container host Compiler: gcc 14.2.1 20240912 (Red Hat 14.2.1-3) RHEL8 Kernel: Depends on container host Compiler: gcc 8.5.0 20210514 (Red Hat 8.5.0-22) Ubuntu 24.04 Kernel: Depends on container host Compiler: gcc (Ubuntu 13.3.0-6ubuntu2~24.04) 13.3.0 Ubuntu 20.04 Kernel: Depends on container host Compiler: gcc (Ubuntu 9.4.0-1ubuntu1~20.04.2) 9.4.0 Alpine Kernel: Depends on container host Compiler: gcc (Alpine 14.2.0) 14.2.0 Ubuntu 22.04 Kernel: Depends on container host Compiler: gcc (Ubuntu 11.4.0-1ubuntu1~22.04) 11.4.0 FreeBSD 13.4 Kernel: 13.4-RELEASE-p1 Compiler: clang 18.1.6 FreeBSD 14.2 Kernel: 14.2-RELEASE Compiler: clang 18.1.6 Windows Server 2022 Kernel: 10.0.20348.2031 Compiler: clang 15.0.7, gcc 14.1.0 (MinGW), and MSVC VS 19.39.33521 To view detailed results, visit: https://lab.dpdk.org/results/dashboard/patchsets/32430/ UNH-IOL DPDK Community Lab To manage your email subscriptions, visit: https://lab.dpdk.org/results/dashboard/preferences/subscriptions/