From mboxrd@z Thu Jan 1 00:00:00 1970 Return-Path: Received: from mails.dpdk.org (mails.dpdk.org [217.70.189.124]) by inbox.dpdk.org (Postfix) with ESMTP id CE4524619A for ; Wed, 5 Feb 2025 11:05:52 +0100 (CET) Received: from mails.dpdk.org (localhost [127.0.0.1]) by mails.dpdk.org (Postfix) with ESMTP id 58F64402E6; Wed, 5 Feb 2025 11:05:52 +0100 (CET) Received: from mail-pl1-f225.google.com (mail-pl1-f225.google.com [209.85.214.225]) by mails.dpdk.org (Postfix) with ESMTP id 44A49402E6 for ; Wed, 5 Feb 2025 11:05:50 +0100 (CET) Received: by mail-pl1-f225.google.com with SMTP id d9443c01a7336-21f2339dcfdso2128425ad.1 for ; Wed, 05 Feb 2025 02:05:50 -0800 (PST) DKIM-Signature: v=1; a=rsa-sha256; c=relaxed/relaxed; d=iol.unh.edu; s=unh-iol; t=1738749948; x=1739354748; darn=dpdk.org; h=cc:to:from:subject:message-id:date:from:to:cc:subject:date :message-id:reply-to; bh=34gfNdkW4/msZzPnTIv7on6J8JHLOAkosuVzdxLKImE=; b=OJ7SAlaZ8Gj15Qa5xLNtX8Z5t8K7n8MWLzQEAwMrbGTy7MwjXceiDEQEtQN6yqj5Kj dFNwz0UsBTbbIcJQ6ecQZZmyqJvnnwsu5GyWNQGJ5REih/DWleskp3rv+jEYoK5nZa8m H/mh4ZpYirxPGQgiVoCf835pFP/WgnozXYdGo= X-Google-DKIM-Signature: v=1; a=rsa-sha256; c=relaxed/relaxed; d=1e100.net; s=20230601; t=1738749948; x=1739354748; h=cc:to:from:subject:message-id:date:x-gm-message-state:from:to:cc :subject:date:message-id:reply-to; bh=34gfNdkW4/msZzPnTIv7on6J8JHLOAkosuVzdxLKImE=; b=BsKJNgHJ9/HXV893ZffAfr6Sn/mS3KG26Uo2kuZZa3E2IpEBcOHwzRan2gmV3uGlUh l468EWTUXsi0opEWwYLts3vMlw4qbhH00KS6sMbmYrPoDa1WSy3iOVP1M72ZRnY2d4wR 7tifH32ZrI2aJE+WtU23gV9PJSjQJx0hRAXI1IlFktwyJJlbtLElIpWue+Kx/APspk7X 1s9+pp1qdtRFbv754s0WOJmluUWWhU4kfm4DrPPlxbvT6DUBdPzqEuRZu5rXhXRdbUKU zJU1RSegg7FORERUBGm0xa+46x7L4ck6UTK2/MVBnEHJcj5HNzM7fxKDSKtRLSg+0tmW jp5Q== X-Gm-Message-State: AOJu0YxtrRaXZsYvw9k7AxBHMHbsl5D7ei7bMvfFitzZpJi8JjUbSdt9 2Y7eYZnqBwZ1xZphXjEbWjzAK8bh4dd4aya+6YIvMCMa5gDaoGDHjXAeu+XqzdOqTaxO8OlDMTG 21lMyGVCJXG9mgd0IrnxQR2vum5/260u7dfKgnOedDj9yjqkU X-Gm-Gg: ASbGncs4V65Yxag48Bbac10yRupZSHE8Dfc8Wh03VUxF23sOFf+WV75n229juabYyd2 lWxzURj+m5/ObJmGkNSRu+VLr14xVR8IIVmjFg0d+1c9xWeoX5efmhmfgOuGuUyD8BVO/551O38 /M9clLDJL0paTszDL1lK6wY4JsVL9IE2KMMptjPNYhDi/GTlLDaWvU378G1WDmewqMD8cKdwRmj cbHQSIl8sw5jdBL+UC5aHYqW5mzMyrLUzAoRYLVDEW+o6Eh9rri7Kjew/pU0iRRCU0qlwTbuoP3 FqAsVoSaBIYohbq7VU4vXxV4ZXGSFuv82HxazIVD2g== X-Google-Smtp-Source: AGHT+IHWLTv+ULpXivFb7FWGO5S1DkOhJv7kWqL9T77GZM1fMmbuJqYEx5au31En0qYkP7UjPmJOdEu2+UFb X-Received: by 2002:a17:903:18f:b0:215:6c5f:d142 with SMTP id d9443c01a7336-21f17ac8cf3mr38072775ad.20.1738749947978; Wed, 05 Feb 2025 02:05:47 -0800 (PST) Received: from postal.iol.unh.edu (postal.iol.unh.edu. [2606:4100:3880:1234::84]) by smtp-relay.gmail.com with ESMTPS id d9443c01a7336-21f14bb3189sm998795ad.108.2025.02.05.02.05.47 (version=TLS1_2 cipher=ECDHE-ECDSA-AES128-GCM-SHA256 bits=128/128); Wed, 05 Feb 2025 02:05:47 -0800 (PST) X-Relaying-Domain: iol.unh.edu Date: Wed, 05 Feb 2025 02:05:47 -0800 (PST) Message-ID: <67a337fb.170a0220.1270dc.48dcSMTPIN_ADDED_MISSING@mx.google.com> Received: from [172.17.0.5] (unknown [172.18.0.217]) by postal.iol.unh.edu (Postfix) with ESMTP id 1B1236052471; Wed, 5 Feb 2025 05:05:47 -0500 (EST) Subject: |SUCCESS| [GIT MASTER] c66daa12e76d7b4912cfb7109a761856a7a873ab From: dpdklab@iol.unh.edu To: Test Report Cc: dpdk-test-reports@iol.unh.edu, Xueming Li , Christian Ehrhardt , Kevin Traynor , Luca Boccassi Content-Type: text/plain X-BeenThere: test-report@dpdk.org X-Mailman-Version: 2.1.29 Precedence: list List-Id: automatic DPDK test reports List-Unsubscribe: , List-Archive: List-Post: List-Help: List-Subscribe: , Errors-To: test-report-bounces@dpdk.org _Testing PASS_ Branch: tags/v23.11 c66daa12e76d7b4912cfb7109a761856a7a873ab --> testing pass Upstream job id: Generic-DPDK-Compile-Meson#357920 Test environment and result as below: +---------------------+--------------------+-------------------+------------------+-------------------+ | Environment | dpdk_meson_compile | dpdk_msvc_compile | dpdk_compile_ovs | dpdk_compile_spdk | +=====================+====================+===================+==================+===================+ | FreeBSD 13.4 | PASS | SKIPPED | SKIPPED | SKIPPED | +---------------------+--------------------+-------------------+------------------+-------------------+ | FreeBSD 14.2 | PASS | SKIPPED | SKIPPED | SKIPPED | +---------------------+--------------------+-------------------+------------------+-------------------+ | CentOS Stream 9 | PASS | SKIPPED | PASS | PASS | +---------------------+--------------------+-------------------+------------------+-------------------+ | Debian Bullseye | PASS | SKIPPED | PASS | PASS | +---------------------+--------------------+-------------------+------------------+-------------------+ | Debian 12 | PASS | SKIPPED | PASS | PASS | +---------------------+--------------------+-------------------+------------------+-------------------+ | Fedora 40 (Clang) | PASS | SKIPPED | PASS | PASS | +---------------------+--------------------+-------------------+------------------+-------------------+ | Fedora 40 | PASS | SKIPPED | PASS | PASS | +---------------------+--------------------+-------------------+------------------+-------------------+ | Fedora 41 (Clang) | PASS | SKIPPED | PASS | PASS | +---------------------+--------------------+-------------------+------------------+-------------------+ | Fedora 41 | PASS | SKIPPED | PASS | PASS | +---------------------+--------------------+-------------------+------------------+-------------------+ | openSUSE Leap 15 | PASS | SKIPPED | SKIPPED | SKIPPED | +---------------------+--------------------+-------------------+------------------+-------------------+ | RHEL8 | PASS | SKIPPED | PASS | SKIPPED | +---------------------+--------------------+-------------------+------------------+-------------------+ | RHEL9 | PASS | SKIPPED | PASS | SKIPPED | +---------------------+--------------------+-------------------+------------------+-------------------+ | Ubuntu 20.04 | PASS | SKIPPED | SKIPPED | SKIPPED | +---------------------+--------------------+-------------------+------------------+-------------------+ | Ubuntu 22.04 | PASS | SKIPPED | PASS | PASS | +---------------------+--------------------+-------------------+------------------+-------------------+ | Ubuntu 24.04 | PASS | SKIPPED | PASS | PASS | +---------------------+--------------------+-------------------+------------------+-------------------+ | Alpine | PASS | SKIPPED | PASS | SKIPPED | +---------------------+--------------------+-------------------+------------------+-------------------+ | Windows Server 2022 | SKIPPED | PASS | SKIPPED | SKIPPED | +---------------------+--------------------+-------------------+------------------+-------------------+ FreeBSD 13.4 Kernel: 13.4-RELEASE-p1 Compiler: clang 18.1.6 FreeBSD 14.2 Kernel: 14.2-RELEASE Compiler: clang 18.1.6 CentOS Stream 9 Kernel: Depends on container host Compiler: gcc 11.5.0 20240719 (Red Hat 11.5.0-2) Debian Bullseye Kernel: Depends on container host Compiler: gcc (Debian 10.2.1-6) 10.2.1 20210110 Debian 12 Kernel: Depends on container host Compiler: gcc (Debian 12.2.0-14) 12.2.0 Fedora 40 (Clang) Kernel: Depends on container host Compiler: clang 18.1.8 (Fedora 18.1.8-1.fc40) Fedora 40 Kernel: Depends on container host Compiler: gcc 14.2.1 20240912 (Red Hat 14.2.1-3) Fedora 41 (Clang) Kernel: Depends on container host Compiler: clang 19.1.5 (Fedora 19.1.5-1.fc41) Fedora 41 Kernel: Depends on container host Compiler: gcc 14.2.1 20240912 (Red Hat 14.2.1-3) openSUSE Leap 15 Kernel: Depends on container host Compiler: gcc (SUSE Linux) 7.5.0 RHEL8 Kernel: Depends on container host Compiler: gcc 8.5.0 20210514 (Red Hat 8.5.0-22) RHEL9 Kernel: Depends on container host Compiler: gcc 11.5.0 20240719 (Red Hat 11.5.0-2) Ubuntu 20.04 Kernel: Depends on container host Compiler: gcc (Ubuntu 9.4.0-1ubuntu1~20.04.2) 9.4.0 Ubuntu 22.04 Kernel: Depends on container host Compiler: gcc (Ubuntu 11.4.0-1ubuntu1~22.04) 11.4.0 Ubuntu 24.04 Kernel: Depends on container host Compiler: gcc (Ubuntu 13.3.0-6ubuntu2~24.04) 13.3.0 Alpine Kernel: Depends on container host Compiler: gcc (Alpine 14.2.0) 14.2.0 Windows Server 2022 Kernel: 10.0.20348.2031 Compiler: clang 15.0.7, gcc 14.1.0 (MinGW), and MSVC VS 19.39.33521 To view detailed results, visit: https://lab.dpdk.org/results/dashboard/tarballs/32447/ UNH-IOL DPDK Community Lab To manage your email subscriptions, visit: https://lab.dpdk.org/results/dashboard/preferences/subscriptions/