From mboxrd@z Thu Jan 1 00:00:00 1970 Return-Path: Received: from mails.dpdk.org (mails.dpdk.org [217.70.189.124]) by inbox.dpdk.org (Postfix) with ESMTP id 8DC734619A for ; Wed, 5 Feb 2025 11:18:59 +0100 (CET) Received: from mails.dpdk.org (localhost [127.0.0.1]) by mails.dpdk.org (Postfix) with ESMTP id 65D10402B3; Wed, 5 Feb 2025 11:18:59 +0100 (CET) Received: from mail-io1-f99.google.com (mail-io1-f99.google.com [209.85.166.99]) by mails.dpdk.org (Postfix) with ESMTP id 1E19C40270 for ; Wed, 5 Feb 2025 11:18:58 +0100 (CET) Received: by mail-io1-f99.google.com with SMTP id ca18e2360f4ac-84ceaf2667aso417667639f.3 for ; Wed, 05 Feb 2025 02:18:58 -0800 (PST) DKIM-Signature: v=1; a=rsa-sha256; c=relaxed/relaxed; d=iol.unh.edu; s=unh-iol; t=1738750737; x=1739355537; darn=dpdk.org; h=references:in-reply-to:cc:to:from:subject:message-id:date:from:to :cc:subject:date:message-id:reply-to; bh=vAn2na3/EFKBFgSvtfVio+WEXU2JoW7qNbhVS2On0fY=; b=dTLEGWLgr9t9OGUWr8Rro9VBC87B5o1e/mSr+tdUr2lqDn1Hf7QuJpc7FVkxdPdUOY xG8y51f6Ecp1pv+4BJMxce/Ka9oGeAJLP4iqJuCKGCNibsnRYW+wqqsGGDhu6zO/Npgh vaT2p5ZCy3MSltBD7b26g+f8W+LlFlMQDzDaE= X-Google-DKIM-Signature: v=1; a=rsa-sha256; c=relaxed/relaxed; d=1e100.net; s=20230601; t=1738750737; x=1739355537; h=references:in-reply-to:cc:to:from:subject:message-id:date :x-gm-message-state:from:to:cc:subject:date:message-id:reply-to; bh=vAn2na3/EFKBFgSvtfVio+WEXU2JoW7qNbhVS2On0fY=; b=usEym7lkM1QrgAoQOYTA6ZBsVqkF7oTrOUzhG+D/aewxWPXlM4aeFG4mtDY/VzIf0Y YMn2Uwb8VLgCER9jw+sSjwVSyopS1WnsPdoL2iZcK4dhl/MWoKClMZ2QqS+o+4CS+hWs 38BQqvNehXNrK9waw4/dKsfYsTy+XDzGMttQWbojdYo3aelMcDlglIQNWaoWu7wAbnDx YQbxNqJcg0sw0g/zdOipOAwJb3fclSde6kObDblVvP6YPnqqSVFY/Bgr8ibs7i6y4e3/ Ijk8VMzz6CPDxAUt0xnebCi+qt9iHTrjM6XjJzq5XdxqrPcUIh6TUcfR4BnHrbd0wnlR cPtw== X-Gm-Message-State: AOJu0Yzbq+jrHG7oBikRPCIjG/Npb6kD6VgjJnrMb5tAE4MS+Xza4jPF GrbAkKn0kLNfICctQfZsf2ODLeiC9OwPo5FjE1+hmSSuF8D0iAi6QXBRR0g4xDkN2zN8f/JyPRa gGeDX/ekavNhj93N6ECPSA5kDLDB2rKcLlGTYq+8LltrmZbH1FrdRpm+0 X-Gm-Gg: ASbGncvLpF0ki6VlsE8SJOLLoa79bAvBmvk8fgu9aNJlFW9noas1TE3rvAXyJTMw0yN gv+r12Xo5EyXc3PqNhRoYcY42croG2/Sz4wHPDltj30UuOta6SN5cbm2sctlb3iACXgvMwreEY8 sUsATgmQ8mCGnuEX9Nr/8godOQcW7b54fR6lW2mrwF5Px0Qg5qcxO4HUEVMNhlRbwbKvdQFABBM BYvzK0/hky62Uewi/nWdWdyo+mlnv4k3ud210rvK+skChr68V3Ha9B7S2UrZdng8T783Ph9druR 53LDq9b5OQsGESLSrI+vT62dP+OLdxr8WGn5f+Xnzg== X-Google-Smtp-Source: AGHT+IHUC6DBHCs90PGmLWQ74IUzrXdT09cbnt/a1m+aOPe393XDiqGd0RlNLFckiQrTNYh020hfP6sNo13e X-Received: by 2002:a05:6602:4a08:b0:852:5e9a:a263 with SMTP id ca18e2360f4ac-854ea42d892mr272140939f.3.1738750737402; Wed, 05 Feb 2025 02:18:57 -0800 (PST) Received: from postal.iol.unh.edu (postal.iol.unh.edu. [2606:4100:3880:1234::84]) by smtp-relay.gmail.com with ESMTPS id ca18e2360f4ac-854a18405f8sm74556139f.29.2025.02.05.02.18.57 (version=TLS1_2 cipher=ECDHE-ECDSA-AES128-GCM-SHA256 bits=128/128); Wed, 05 Feb 2025 02:18:57 -0800 (PST) X-Relaying-Domain: iol.unh.edu Date: Wed, 05 Feb 2025 02:18:57 -0800 (PST) Message-ID: <67a33b11.050a0220.292bb8.103dSMTPIN_ADDED_MISSING@mx.google.com> Received: from [172.17.0.5] (unknown [172.18.0.217]) by postal.iol.unh.edu (Postfix) with ESMTP id A08FC6052471; Wed, 5 Feb 2025 05:18:56 -0500 (EST) Subject: |SUCCESS| pw150893 [PATCH] net/af_packet: fix socket close on device From: dpdklab@iol.unh.edu To: Test Report Cc: dpdk-test-reports@iol.unh.edu In-Reply-To: <20250204164508.864080-1-tudor.cornea@gmail.com> References: <20250204164508.864080-1-tudor.cornea@gmail.com> Content-Type: text/plain X-BeenThere: test-report@dpdk.org X-Mailman-Version: 2.1.29 Precedence: list List-Id: automatic DPDK test reports List-Unsubscribe: , List-Archive: List-Post: List-Help: List-Subscribe: , Errors-To: test-report-bounces@dpdk.org Test-Label: iol-unit-arm64-testing Test-Status: SUCCESS http://dpdk.org/patch/150893 _Testing PASS_ Submitter: Tudor Cornea Date: Tuesday, February 04 2025 16:45:08 DPDK git baseline: Repo:dpdk Branch: master CommitID:595535be66b103f7ce3ba61939b8013032987404 150893 --> testing pass Upstream job id: Generic-Unit-Test-DPDK#311644 Test environment and result as below: +--------------------------+----------------+---------------------------+--------------+------------------------------+ | Environment | dpdk_unit_test | cryptodev_sw_zuc_autotest | lpm_autotest | cryptodev_sw_snow3g_autotest | +==========================+================+===========================+==============+==============================+ | CentOS Stream 9 (ARM) | PASS | SKIPPED | SKIPPED | SKIPPED | +--------------------------+----------------+---------------------------+--------------+------------------------------+ | Debian 11 (Buster) (ARM) | PASS | SKIPPED | SKIPPED | SKIPPED | +--------------------------+----------------+---------------------------+--------------+------------------------------+ | Debian 12 (arm) | PASS | PASS | SKIPPED | PASS | +--------------------------+----------------+---------------------------+--------------+------------------------------+ | Fedora 41 (ARM Clang) | PASS | SKIPPED | SKIPPED | SKIPPED | +--------------------------+----------------+---------------------------+--------------+------------------------------+ | Fedora 40 (ARM) | PASS | SKIPPED | SKIPPED | SKIPPED | +--------------------------+----------------+---------------------------+--------------+------------------------------+ | Fedora 41 (ARM) | PASS | SKIPPED | SKIPPED | SKIPPED | +--------------------------+----------------+---------------------------+--------------+------------------------------+ | Fedora 40 (ARM Clang) | PASS | SKIPPED | SKIPPED | SKIPPED | +--------------------------+----------------+---------------------------+--------------+------------------------------+ | RHEL9 (ARM) | PASS | SKIPPED | SKIPPED | SKIPPED | +--------------------------+----------------+---------------------------+--------------+------------------------------+ | Ubuntu 24.04 (ARM) | PASS | SKIPPED | SKIPPED | SKIPPED | +--------------------------+----------------+---------------------------+--------------+------------------------------+ | Ubuntu 20.04 (ARM) | PASS | SKIPPED | SKIPPED | SKIPPED | +--------------------------+----------------+---------------------------+--------------+------------------------------+ | Ubuntu 22.04 (ARM) | PASS | SKIPPED | SKIPPED | SKIPPED | +--------------------------+----------------+---------------------------+--------------+------------------------------+ | Ubuntu 20.04 ARM SVE | SKIPPED | SKIPPED | PASS | SKIPPED | +--------------------------+----------------+---------------------------+--------------+------------------------------+ CentOS Stream 9 (ARM) Kernel: Depends on container host Compiler: gcc 11.5.0 20240719 (Red Hat 11.5.0-2) Debian 11 (Buster) (ARM) Kernel: Depends on container host Compiler: gcc (Debian 10.2.1-6) 10.2.1 20210110 Debian 12 (arm) Kernel: Depends on container host Compiler: gcc (Debian 12.2.0-14) 12.2.0 Fedora 41 (ARM Clang) Kernel: Depends on container host Compiler: clang 19.1.5 (Fedora 19.1.5-1.fc41) Fedora 40 (ARM) Kernel: Depends on container host Compiler: gcc 14.2.1 20240912 (Red Hat 14.2.1-3) Fedora 41 (ARM) Kernel: Depends on container host Compiler: gcc 14.2.1 20240912 (Red Hat 14.2.1-3) Fedora 40 (ARM Clang) Kernel: Depends on container host Compiler: clang 18.1.8 (Fedora 18.1.8-1.fc40) RHEL9 (ARM) Kernel: Depends on container host Compiler: gcc 11.5.0 20240719 (Red Hat 11.5.0-2) Ubuntu 24.04 (ARM) Kernel: Depends on container host Compiler: gcc (Ubuntu 13.3.0-6ubuntu2~24.04) 13.3.0 Ubuntu 20.04 (ARM) Kernel: Depends on container host Compiler: gcc (Ubuntu 9.4.0-1ubuntu1~20.04.2) 9.4.0 Ubuntu 22.04 (ARM) Kernel: Depends on container host Compiler: gcc (Ubuntu 11.4.0-1ubuntu1~22.04) 11.4.0 Ubuntu 20.04 ARM SVE Kernel: Depends on container host Compiler: gcc (Ubuntu 10.5.0-1ubuntu1~20.04) 10.5.0 To view detailed results, visit: https://lab.dpdk.org/results/dashboard/patchsets/32490/ UNH-IOL DPDK Community Lab To manage your email subscriptions, visit: https://lab.dpdk.org/results/dashboard/preferences/subscriptions/