From mboxrd@z Thu Jan 1 00:00:00 1970 Return-Path: Received: from mails.dpdk.org (mails.dpdk.org [217.70.189.124]) by inbox.dpdk.org (Postfix) with ESMTP id 944724619A for ; Wed, 5 Feb 2025 11:19:16 +0100 (CET) Received: from mails.dpdk.org (localhost [127.0.0.1]) by mails.dpdk.org (Postfix) with ESMTP id 8AFD8402B3; Wed, 5 Feb 2025 11:19:16 +0100 (CET) Received: from mail-pl1-f226.google.com (mail-pl1-f226.google.com [209.85.214.226]) by mails.dpdk.org (Postfix) with ESMTP id 47C1340270 for ; Wed, 5 Feb 2025 11:19:15 +0100 (CET) Received: by mail-pl1-f226.google.com with SMTP id d9443c01a7336-21f200014f1so3333305ad.2 for ; Wed, 05 Feb 2025 02:19:15 -0800 (PST) DKIM-Signature: v=1; a=rsa-sha256; c=relaxed/relaxed; d=iol.unh.edu; s=unh-iol; t=1738750754; x=1739355554; darn=dpdk.org; h=cc:to:from:subject:message-id:date:from:to:cc:subject:date :message-id:reply-to; bh=mA0epMwzieSWWLEHF8VG6Z4MzA5TRs1w5IW4Ilq+EMU=; b=M4Qutov4ODxBn0Wrq5/lz7bE2Icd6z6xrR/NfPLoq3lxeNNCbpikfV2H+N2AIK5rFZ CCqpqZ/ISF6E418BpEavUCUOcZO4hzzM3YzgKnz+2LpiEli9RBtluF0QvFX/TyCjRTas CFCNULbkXffb8nR3H//zeWoQLc7n5kcIFtZNA= X-Google-DKIM-Signature: v=1; a=rsa-sha256; c=relaxed/relaxed; d=1e100.net; s=20230601; t=1738750754; x=1739355554; h=cc:to:from:subject:message-id:date:x-gm-message-state:from:to:cc :subject:date:message-id:reply-to; bh=mA0epMwzieSWWLEHF8VG6Z4MzA5TRs1w5IW4Ilq+EMU=; b=aJAS2sDE6aMKIih1+k/o6beoKrkni5cdRxSEMlD3jIrbfO81G4kjq00iZUD7GxoJV/ X+QjgzybBH6x+vX7Qvqv9LmQlCRnE/WwE4pYqFVkwsIzWggy/5JlR7D6dufg2LPEzfR/ YgR0N2WZ53irBlXUnCdVW20ruoajGg9lDvnRW9/ecOo8MolRn5INJLlGe1J2BGwHdAnA ihI59wD10+4xvWMYOFLCzC8q7LEz/5hjKn1sS6fVDCxjtkvDIjKig08isTekiLPhgEd2 t5LBLeq9vDp7Kn47ifn3tHtxMptYqYeo9CVz2pzT1qQW7/0CM4z5nVgyFq9jhREUXHNA vGPA== X-Gm-Message-State: AOJu0Yw25ggMm8I89BvOg8luJWaKJMBeCs7+FHufK8Ogoii6OPwGOdUu 8YGP+7AmwWDIB8GQHVUzhYsNkHb8Vj3LXxsTkqAz1y13m86izUDVQlfFZ0AuLfIkW6Z8S+OwNVH AAH2FAsNZpkUS0T9casdFjVFALWfkCk7x X-Gm-Gg: ASbGncs6CNwsoVz54fr30tDVCNgRFHqrmhu3JyI8hyav+Gv4t+/6803iszJzUiHD4h1 stmZQg1aXfXU6agfS7CgSvu+JuAhMtLRvnnxost8OnYCQvi4pBeKzUwwqVb/uOg3xpGTc8nZBv7 TXLLOGU9CvZ1JB13BwkdTR7qwhGaXhC6/Leqz0HWQrHxvTW9JhwIbgSMEGdpF94Qn08EGd27pxQ JE2vYfC8XnVccdUCD2gootYFgFG1WYMjmYV7+TO6ZeHHPDXhPTOHk2r+QqBEeZhcwLkoDLfudS5 R4Q5TTL30KkDmSFtYuwaYsdBszGtlw== X-Google-Smtp-Source: AGHT+IEdXWpdD1j8mccRay05ZL8oUWoKVzcI0h0JNN7Z62hM+V+h4j2Awr89P/sCgClbegcPymuZg+TZ7Ifq X-Received: by 2002:a17:902:da8c:b0:216:59ed:1aa3 with SMTP id d9443c01a7336-21f17e0c2bemr36397295ad.27.1738750754223; Wed, 05 Feb 2025 02:19:14 -0800 (PST) Received: from postal.iol.unh.edu (postal.iol.unh.edu. [132.177.123.84]) by smtp-relay.gmail.com with ESMTPS id d9443c01a7336-21f121e4f1csm1084905ad.24.2025.02.05.02.19.14 (version=TLS1_2 cipher=ECDHE-ECDSA-AES128-GCM-SHA256 bits=128/128); Wed, 05 Feb 2025 02:19:14 -0800 (PST) X-Relaying-Domain: iol.unh.edu Date: Wed, 05 Feb 2025 02:19:14 -0800 (PST) Message-ID: <67a33b22.170a0220.1f2e5.4ebbSMTPIN_ADDED_MISSING@mx.google.com> Received: from [172.17.0.6] (unknown [172.18.0.217]) by postal.iol.unh.edu (Postfix) with ESMTP id 6CFCC6052471; Wed, 5 Feb 2025 05:19:13 -0500 (EST) Subject: |SUCCESS| [GIT MASTER] f2eea2f37a82bb73fb01d56350708f7d70e21379 From: dpdklab@iol.unh.edu To: Test Report Cc: dpdk-test-reports@iol.unh.edu, Xueming Li , Christian Ehrhardt , Kevin Traynor , Luca Boccassi Content-Type: text/plain X-BeenThere: test-report@dpdk.org X-Mailman-Version: 2.1.29 Precedence: list List-Id: automatic DPDK test reports List-Unsubscribe: , List-Archive: List-Post: List-Help: List-Subscribe: , Errors-To: test-report-bounces@dpdk.org _Testing PASS_ Branch: tags/v24.11 f2eea2f37a82bb73fb01d56350708f7d70e21379 --> testing pass Upstream job id: Generic-DPDK-Compile-Meson#357904 Test environment and result as below: +---------------------+--------------------+-------------------+------------------+-------------------+ | Environment | dpdk_meson_compile | dpdk_msvc_compile | dpdk_compile_ovs | dpdk_compile_spdk | +=====================+====================+===================+==================+===================+ | FreeBSD 13.4 | PASS | SKIPPED | SKIPPED | SKIPPED | +---------------------+--------------------+-------------------+------------------+-------------------+ | FreeBSD 14.2 | PASS | SKIPPED | SKIPPED | SKIPPED | +---------------------+--------------------+-------------------+------------------+-------------------+ | CentOS Stream 9 | PASS | SKIPPED | PASS | PASS | +---------------------+--------------------+-------------------+------------------+-------------------+ | Debian Bullseye | PASS | SKIPPED | PASS | PASS | +---------------------+--------------------+-------------------+------------------+-------------------+ | Debian 12 | PASS | SKIPPED | PASS | PASS | +---------------------+--------------------+-------------------+------------------+-------------------+ | Fedora 40 (Clang) | PASS | SKIPPED | PASS | PASS | +---------------------+--------------------+-------------------+------------------+-------------------+ | Fedora 40 | PASS | SKIPPED | PASS | PASS | +---------------------+--------------------+-------------------+------------------+-------------------+ | Fedora 41 (Clang) | PASS | SKIPPED | PASS | PASS | +---------------------+--------------------+-------------------+------------------+-------------------+ | Fedora 41 | PASS | SKIPPED | PASS | PASS | +---------------------+--------------------+-------------------+------------------+-------------------+ | openSUSE Leap 15 | PASS | SKIPPED | SKIPPED | SKIPPED | +---------------------+--------------------+-------------------+------------------+-------------------+ | RHEL8 | PASS | SKIPPED | PASS | SKIPPED | +---------------------+--------------------+-------------------+------------------+-------------------+ | RHEL9 | PASS | SKIPPED | PASS | SKIPPED | +---------------------+--------------------+-------------------+------------------+-------------------+ | Ubuntu 20.04 | PASS | SKIPPED | SKIPPED | SKIPPED | +---------------------+--------------------+-------------------+------------------+-------------------+ | Ubuntu 22.04 | PASS | SKIPPED | PASS | PASS | +---------------------+--------------------+-------------------+------------------+-------------------+ | Ubuntu 24.04 | PASS | SKIPPED | PASS | PASS | +---------------------+--------------------+-------------------+------------------+-------------------+ | Alpine | PASS | SKIPPED | PASS | SKIPPED | +---------------------+--------------------+-------------------+------------------+-------------------+ | Windows Server 2022 | SKIPPED | PASS | SKIPPED | SKIPPED | +---------------------+--------------------+-------------------+------------------+-------------------+ FreeBSD 13.4 Kernel: 13.4-RELEASE-p1 Compiler: clang 18.1.6 FreeBSD 14.2 Kernel: 14.2-RELEASE Compiler: clang 18.1.6 CentOS Stream 9 Kernel: Depends on container host Compiler: gcc 11.5.0 20240719 (Red Hat 11.5.0-2) Debian Bullseye Kernel: Depends on container host Compiler: gcc (Debian 10.2.1-6) 10.2.1 20210110 Debian 12 Kernel: Depends on container host Compiler: gcc (Debian 12.2.0-14) 12.2.0 Fedora 40 (Clang) Kernel: Depends on container host Compiler: clang 18.1.8 (Fedora 18.1.8-1.fc40) Fedora 40 Kernel: Depends on container host Compiler: gcc 14.2.1 20240912 (Red Hat 14.2.1-3) Fedora 41 (Clang) Kernel: Depends on container host Compiler: clang 19.1.5 (Fedora 19.1.5-1.fc41) Fedora 41 Kernel: Depends on container host Compiler: gcc 14.2.1 20240912 (Red Hat 14.2.1-3) openSUSE Leap 15 Kernel: Depends on container host Compiler: gcc (SUSE Linux) 7.5.0 RHEL8 Kernel: Depends on container host Compiler: gcc 8.5.0 20210514 (Red Hat 8.5.0-22) RHEL9 Kernel: Depends on container host Compiler: gcc 11.5.0 20240719 (Red Hat 11.5.0-2) Ubuntu 20.04 Kernel: Depends on container host Compiler: gcc (Ubuntu 9.4.0-1ubuntu1~20.04.2) 9.4.0 Ubuntu 22.04 Kernel: Depends on container host Compiler: gcc (Ubuntu 11.4.0-1ubuntu1~22.04) 11.4.0 Ubuntu 24.04 Kernel: Depends on container host Compiler: gcc (Ubuntu 13.3.0-6ubuntu2~24.04) 13.3.0 Alpine Kernel: Depends on container host Compiler: gcc (Alpine 14.2.0) 14.2.0 Windows Server 2022 Kernel: 10.0.20348.2031 Compiler: clang 15.0.7, gcc 14.1.0 (MinGW), and MSVC VS 19.39.33521 To view detailed results, visit: https://lab.dpdk.org/results/dashboard/tarballs/32446/ UNH-IOL DPDK Community Lab To manage your email subscriptions, visit: https://lab.dpdk.org/results/dashboard/preferences/subscriptions/