From mboxrd@z Thu Jan 1 00:00:00 1970 Return-Path: Received: from mails.dpdk.org (mails.dpdk.org [217.70.189.124]) by inbox.dpdk.org (Postfix) with ESMTP id CEADC4619A for ; Wed, 5 Feb 2025 11:19:54 +0100 (CET) Received: from mails.dpdk.org (localhost [127.0.0.1]) by mails.dpdk.org (Postfix) with ESMTP id CBCDE402B3; Wed, 5 Feb 2025 11:19:54 +0100 (CET) Received: from mail-pj1-f98.google.com (mail-pj1-f98.google.com [209.85.216.98]) by mails.dpdk.org (Postfix) with ESMTP id C052940270 for ; Wed, 5 Feb 2025 11:19:52 +0100 (CET) Received: by mail-pj1-f98.google.com with SMTP id 98e67ed59e1d1-2f9f5caa37cso8076a91.0 for ; Wed, 05 Feb 2025 02:19:52 -0800 (PST) DKIM-Signature: v=1; a=rsa-sha256; c=relaxed/relaxed; d=iol.unh.edu; s=unh-iol; t=1738750792; x=1739355592; darn=dpdk.org; h=cc:to:from:subject:message-id:date:from:to:cc:subject:date :message-id:reply-to; bh=glfx9zoBmzbEFrj0z1YG8C5VcvD+ClqpcRDG7f4FKmg=; b=Jntw0Rx40wImKWDELFLkoQ5NSpx8yuAPnjjtAQpnbnMDzFVlg/NI2ZmG/xfT1ZxIDd Eqlk6JrRKY4MCY4keeP6hfgAWAHOftFQgZOjPhICbsO01MJ9l+YALSCwBVll7LLK6zbP qd7ATNzByI6w2OECWeJLa/GweDDg+Ly8uUTSo= X-Google-DKIM-Signature: v=1; a=rsa-sha256; c=relaxed/relaxed; d=1e100.net; s=20230601; t=1738750792; x=1739355592; h=cc:to:from:subject:message-id:date:x-gm-message-state:from:to:cc :subject:date:message-id:reply-to; bh=glfx9zoBmzbEFrj0z1YG8C5VcvD+ClqpcRDG7f4FKmg=; b=hzP0rSvq4BQyNntGYDo4CFVqr1osJbPm56STDefLVbVMcy9VDfQqy0760728Nf6v2E n1tKmfzF6oIDs0Y+K+2nw3We4AlgUThztzFpMXVcWNvzrYA8TKHE1xtRAXp5w8+zi+wn AKwPph8oVpjt1h7jZrapStWP7YDhpbHRsPR9A7+74vHv5MBRxF5nh/iC62ErzjAuq9Jx EzOK0lrsB/JrJq86VW9+NcIz1g7zxC7V9fMLDwkVmx4rtjZaVcdRLQvd2L+qknj6gIqk u5tcENwn4K3P05HySdY89ahs50GVNNl+A6XgymuSBxqHKTaJWe5Ox3FLemGi6izXE9+X TFmg== X-Gm-Message-State: AOJu0YyfMbeQHDmA0lLtmDnd47iy/HEdSI9UUaKEQmfMseWvq1R6IYhM Gdang7rO7eZJlRc4Ys69FNBRku2ya4pDffzDDxngARSRe3z/6O0sPUlDj9wxFJEf9Z8lglDvyke KPKyNMdbeBbQs/FszRJ4uO9qmRv8Ug4AxC237BW6L5zYIKmBP X-Gm-Gg: ASbGncsNUOPfXcC04lMBRqEmz4CNtAdt6UO2zEUGXI7VMQee4HgrAYTgCWFFLevYAFp UOlMAOEdUG4Ctq1E9+dTqyHFIudyVaO3iShli7q6mvIBlwFQOXEPccl3FIOeJG/eW1zgIeNKLjo k4NuRMtnxcBfYylGI3ymr36emKqjHXy06S+Vn0k69pHoNwfQ1kUJQHZKftmFu13pcWLlDsVcube opyvC1pXLu1t/t3sw4ZFS3+6rxClOo/Cm21Gpm9VhGQbQVxvBKJyJswjp+UA2+4fI9X6JZAVFYh D1GXdW2iEo6/GwLSf/eY6fCQ1cRWUjB2LRVi6oWetA== X-Google-Smtp-Source: AGHT+IGMbVvpYQJy7oDJnZj+f2GDtTXZicuSHC70Lfb3bKUwqzOP30xlBpP19huPovO5i/GXKxtKgNMZ11Ym X-Received: by 2002:a17:90b:2884:b0:2f9:9c3a:ed3 with SMTP id 98e67ed59e1d1-2f9ba73e992mr10445351a91.16.1738750791700; Wed, 05 Feb 2025 02:19:51 -0800 (PST) Received: from postal.iol.unh.edu (postal.iol.unh.edu. [2606:4100:3880:1234::84]) by smtp-relay.gmail.com with ESMTPS id 98e67ed59e1d1-2f9e1e2f01bsm105198a91.11.2025.02.05.02.19.51 (version=TLS1_2 cipher=ECDHE-ECDSA-AES128-GCM-SHA256 bits=128/128); Wed, 05 Feb 2025 02:19:51 -0800 (PST) X-Relaying-Domain: iol.unh.edu Date: Wed, 05 Feb 2025 02:19:51 -0800 (PST) Message-ID: <67a33b47.170a0220.130c03.4521SMTPIN_ADDED_MISSING@mx.google.com> Received: from [172.17.0.5] (unknown [172.18.0.217]) by postal.iol.unh.edu (Postfix) with ESMTP id E2F3E6052471; Wed, 5 Feb 2025 05:19:50 -0500 (EST) Subject: |WARNING| [GIT MASTER] c66daa12e76d7b4912cfb7109a761856a7a873ab From: dpdklab@iol.unh.edu To: Test Report Cc: dpdk-test-reports@iol.unh.edu, Xueming Li , Christian Ehrhardt , Kevin Traynor , Luca Boccassi Content-Type: text/plain X-BeenThere: test-report@dpdk.org X-Mailman-Version: 2.1.29 Precedence: list List-Id: automatic DPDK test reports List-Unsubscribe: , List-Archive: List-Post: List-Help: List-Subscribe: , Errors-To: test-report-bounces@dpdk.org _Testing issues_ Branch: tags/v23.11 c66daa12e76d7b4912cfb7109a761856a7a873ab --> testing issues Upstream job id: Windows-Compile-DPDK-Native#26381 Test environment and result as below: +---------------------+--------------------+------------------+-------------------+-------------------+----------------------+-------------------------+ | Environment | dpdk_meson_compile | dpdk_compile_ovs | dpdk_compile_spdk | dpdk_msvc_compile | dpdk_mingw64_compile | dpdk_llvm_clang_compile | +=====================+====================+==================+===================+===================+======================+=========================+ | CentOS Stream 9 | PASS | PASS | PASS | SKIPPED | SKIPPED | SKIPPED | +---------------------+--------------------+------------------+-------------------+-------------------+----------------------+-------------------------+ | Debian 12 | PASS | PASS | PASS | SKIPPED | SKIPPED | SKIPPED | +---------------------+--------------------+------------------+-------------------+-------------------+----------------------+-------------------------+ | Debian Bullseye | PASS | PASS | PASS | SKIPPED | SKIPPED | SKIPPED | +---------------------+--------------------+------------------+-------------------+-------------------+----------------------+-------------------------+ | Fedora 41 (Clang) | PASS | PASS | PASS | SKIPPED | SKIPPED | SKIPPED | +---------------------+--------------------+------------------+-------------------+-------------------+----------------------+-------------------------+ | Fedora 40 (Clang) | PASS | PASS | PASS | SKIPPED | SKIPPED | SKIPPED | +---------------------+--------------------+------------------+-------------------+-------------------+----------------------+-------------------------+ | Fedora 40 | PASS | PASS | PASS | SKIPPED | SKIPPED | SKIPPED | +---------------------+--------------------+------------------+-------------------+-------------------+----------------------+-------------------------+ | Ubuntu 20.04 | PASS | WARN | SKIPPED | SKIPPED | SKIPPED | SKIPPED | +---------------------+--------------------+------------------+-------------------+-------------------+----------------------+-------------------------+ | Fedora 41 | PASS | PASS | PASS | SKIPPED | SKIPPED | SKIPPED | +---------------------+--------------------+------------------+-------------------+-------------------+----------------------+-------------------------+ | RHEL8 | PASS | PASS | SKIPPED | SKIPPED | SKIPPED | SKIPPED | +---------------------+--------------------+------------------+-------------------+-------------------+----------------------+-------------------------+ | RHEL9 | PASS | PASS | SKIPPED | SKIPPED | SKIPPED | SKIPPED | +---------------------+--------------------+------------------+-------------------+-------------------+----------------------+-------------------------+ | Ubuntu 24.04 | PASS | PASS | PASS | SKIPPED | SKIPPED | SKIPPED | +---------------------+--------------------+------------------+-------------------+-------------------+----------------------+-------------------------+ | openSUSE Leap 15 | PASS | SKIPPED | SKIPPED | SKIPPED | SKIPPED | SKIPPED | +---------------------+--------------------+------------------+-------------------+-------------------+----------------------+-------------------------+ | Ubuntu 22.04 | PASS | PASS | PASS | SKIPPED | SKIPPED | SKIPPED | +---------------------+--------------------+------------------+-------------------+-------------------+----------------------+-------------------------+ | Alpine | PASS | PASS | SKIPPED | SKIPPED | SKIPPED | SKIPPED | +---------------------+--------------------+------------------+-------------------+-------------------+----------------------+-------------------------+ | FreeBSD 13.4 | PASS | SKIPPED | SKIPPED | SKIPPED | SKIPPED | SKIPPED | +---------------------+--------------------+------------------+-------------------+-------------------+----------------------+-------------------------+ | FreeBSD 14.2 | PASS | SKIPPED | SKIPPED | SKIPPED | SKIPPED | SKIPPED | +---------------------+--------------------+------------------+-------------------+-------------------+----------------------+-------------------------+ | Windows Server 2022 | SKIPPED | SKIPPED | SKIPPED | PASS | PASS | PASS | +---------------------+--------------------+------------------+-------------------+-------------------+----------------------+-------------------------+ ==== 20 line log output for Ubuntu 20.04 (dpdk_compile_ovs): ==== --- Failed to get log output --- ==== End log output ==== CentOS Stream 9 Kernel: Depends on container host Compiler: gcc 11.5.0 20240719 (Red Hat 11.5.0-2) Debian 12 Kernel: Depends on container host Compiler: gcc (Debian 12.2.0-14) 12.2.0 Debian Bullseye Kernel: Depends on container host Compiler: gcc (Debian 10.2.1-6) 10.2.1 20210110 Fedora 41 (Clang) Kernel: Depends on container host Compiler: clang 19.1.5 (Fedora 19.1.5-1.fc41) Fedora 40 (Clang) Kernel: Depends on container host Compiler: clang 18.1.8 (Fedora 18.1.8-1.fc40) Fedora 40 Kernel: Depends on container host Compiler: gcc 14.2.1 20240912 (Red Hat 14.2.1-3) Ubuntu 20.04 Kernel: Depends on container host Compiler: gcc (Ubuntu 9.4.0-1ubuntu1~20.04.2) 9.4.0 Fedora 41 Kernel: Depends on container host Compiler: gcc 14.2.1 20240912 (Red Hat 14.2.1-3) RHEL8 Kernel: Depends on container host Compiler: gcc 8.5.0 20210514 (Red Hat 8.5.0-22) RHEL9 Kernel: Depends on container host Compiler: gcc 11.5.0 20240719 (Red Hat 11.5.0-2) Ubuntu 24.04 Kernel: Depends on container host Compiler: gcc (Ubuntu 13.3.0-6ubuntu2~24.04) 13.3.0 openSUSE Leap 15 Kernel: Depends on container host Compiler: gcc (SUSE Linux) 7.5.0 Ubuntu 22.04 Kernel: Depends on container host Compiler: gcc (Ubuntu 11.4.0-1ubuntu1~22.04) 11.4.0 Alpine Kernel: Depends on container host Compiler: gcc (Alpine 14.2.0) 14.2.0 FreeBSD 13.4 Kernel: 13.4-RELEASE-p1 Compiler: clang 18.1.6 FreeBSD 14.2 Kernel: 14.2-RELEASE Compiler: clang 18.1.6 Windows Server 2022 Kernel: 10.0.20348.2031 Compiler: clang 15.0.7, gcc 14.1.0 (MinGW), and MSVC VS 19.39.33521 To view detailed results, visit: https://lab.dpdk.org/results/dashboard/tarballs/32353/ UNH-IOL DPDK Community Lab To manage your email subscriptions, visit: https://lab.dpdk.org/results/dashboard/preferences/subscriptions/