From mboxrd@z Thu Jan 1 00:00:00 1970 Return-Path: Received: from mails.dpdk.org (mails.dpdk.org [217.70.189.124]) by inbox.dpdk.org (Postfix) with ESMTP id D0B754619A for ; Wed, 5 Feb 2025 11:27:50 +0100 (CET) Received: from mails.dpdk.org (localhost [127.0.0.1]) by mails.dpdk.org (Postfix) with ESMTP id AD8A5402B3; Wed, 5 Feb 2025 11:27:50 +0100 (CET) Received: from mail-il1-f226.google.com (mail-il1-f226.google.com [209.85.166.226]) by mails.dpdk.org (Postfix) with ESMTP id 02BDB40270 for ; Wed, 5 Feb 2025 11:27:49 +0100 (CET) Received: by mail-il1-f226.google.com with SMTP id e9e14a558f8ab-3cfce97a3d9so21108175ab.2 for ; Wed, 05 Feb 2025 02:27:49 -0800 (PST) DKIM-Signature: v=1; a=rsa-sha256; c=relaxed/relaxed; d=iol.unh.edu; s=unh-iol; t=1738751269; x=1739356069; darn=dpdk.org; h=references:in-reply-to:cc:to:from:subject:message-id:date:from:to :cc:subject:date:message-id:reply-to; bh=817RoKIbvA/6Y7q/scvyymGTQUNaRcimDPI0W7xALVQ=; b=RFOgHhSud48+GMU1jVZK1GHYY6YGUOo57xxdfakw+9tfFA8V9KhpzT5neZdqQPDqEF RPCZ6sj5Sj0mNvLwxDsmveELZ3HTvHn8mcVR147epvvyl++ewL/5R3QLwhuXgpQ6xvvj kvSiP9Jtu8ZuprLsnCcZ2RGxy4YW9DRrQV1OE= X-Google-DKIM-Signature: v=1; a=rsa-sha256; c=relaxed/relaxed; d=1e100.net; s=20230601; t=1738751269; x=1739356069; h=references:in-reply-to:cc:to:from:subject:message-id:date :x-gm-message-state:from:to:cc:subject:date:message-id:reply-to; bh=817RoKIbvA/6Y7q/scvyymGTQUNaRcimDPI0W7xALVQ=; b=wW3kx25xT7OdXB1uMomkyO1NDfdULpOsFA2yBf1O0iaplZkVQZld8+9copWGRmXlS8 xda0rJnqBufQ1IhKHC0tMfFlfasbrDKOExrGA5Xw7pFB6DG9P+3tdDEdUc65ujBT46yK heP3lXDv45rn84S58pOpEKhLts7rv9VQXVrg395JFgZBj/kIuYLxkiIWqIaHIUg85u/L aJl1m62CNUToM/fkIq1HXJK4Ou/pfIKxy5A9TZEtDOKESrDFAjaRVlFEfDU7PPWyfXRk T5Z3N9xKtID2U8pDqQes4Wi/8AoaHJsx6tglvDOZVMi3Kzv/G2aFd4zFQHM23oNxWZ72 BtGA== X-Gm-Message-State: AOJu0Yw2JxBXKZFmybo71vF6fLEpo55eEz0QsybIOvUmU9A5EnvEIRk9 TFi/uGwDatIhJPyRr7IXsaWuoIhMWMNrSc31OBwZyQpIStJOxmPSqrxtnBUos2noNe9EIE0EEIG 17jIeWfdEpUe8H7xVxqA780yHnJiw8x/oWBAWVm/i X-Gm-Gg: ASbGncsYF5tJUrUJ9urILhsX8yS4s//4Wwaoe1ehQUGNxrU6Xk0NEkDnMvL8+OhsQvq ZYk7DM++52i2WGx6fk2zxw079AeX6Tc/Bgz42mNPgXEhOvJNIGzCspQzoGEVxOz6WO5TbBggyJU zjeSN8pnrw68w0cAAQC9B5xwQQt2hqTFKIMNtTqUyHWRR88wH/xf7pb3jqCP1SoZyDuyVKM2IRZ H/efvdUo05Svr8cE9E5xBH8h441B/FFpUvb18MZyx2ZxCn9NJ58zNcJHUXNE8jx/isH2Yua72U+ qzwhBzOfsWfvXQQJEESX4w5S668hwQ== X-Google-Smtp-Source: AGHT+IHMo3uF7rJcZN+gNi5Tjypc0ZQDYng8miKLXELWpunPnRfb3gK07yInytz7HNg/dRThMkO7rEmaAt5P X-Received: by 2002:a05:6e02:1cab:b0:3d0:bd5:b863 with SMTP id e9e14a558f8ab-3d04f932d5emr21961815ab.20.1738751269300; Wed, 05 Feb 2025 02:27:49 -0800 (PST) Received: from postal.iol.unh.edu (postal.iol.unh.edu. [132.177.123.84]) by smtp-relay.gmail.com with ESMTPS id 8926c6da1cb9f-4ec74591ab6sm804482173.7.2025.02.05.02.27.49 (version=TLS1_2 cipher=ECDHE-ECDSA-AES128-GCM-SHA256 bits=128/128); Wed, 05 Feb 2025 02:27:49 -0800 (PST) X-Relaying-Domain: iol.unh.edu Date: Wed, 05 Feb 2025 02:27:49 -0800 (PST) Message-ID: <67a33d25.050a0220.26343f.5d1eSMTPIN_ADDED_MISSING@mx.google.com> Received: from [172.17.0.5] (unknown [172.18.0.217]) by postal.iol.unh.edu (Postfix) with ESMTP id C9A9E6052471; Wed, 5 Feb 2025 05:27:48 -0500 (EST) Subject: |SUCCESS| pw150893 [PATCH] net/af_packet: fix socket close on device From: dpdklab@iol.unh.edu To: Test Report Cc: dpdk-test-reports@iol.unh.edu In-Reply-To: <20250204164508.864080-1-tudor.cornea@gmail.com> References: <20250204164508.864080-1-tudor.cornea@gmail.com> Content-Type: text/plain X-BeenThere: test-report@dpdk.org X-Mailman-Version: 2.1.29 Precedence: list List-Id: automatic DPDK test reports List-Unsubscribe: , List-Archive: List-Post: List-Help: List-Subscribe: , Errors-To: test-report-bounces@dpdk.org Test-Label: iol-sample-apps-testing Test-Status: SUCCESS http://dpdk.org/patch/150893 _Testing PASS_ Submitter: Tudor Cornea Date: Tuesday, February 04 2025 16:45:08 DPDK git baseline: Repo:dpdk Branch: master CommitID:595535be66b103f7ce3ba61939b8013032987404 150893 --> testing pass Upstream job id: ACVP-FIPS-testing#8782 Test environment and result as below: +--------------------+----------------------+----------------------+ | Environment | compressdev_zlib_pmd | dpdk_fips_validation | +====================+======================+======================+ | Ubuntu 22.04 (ARM) | PASS | SKIPPED | +--------------------+----------------------+----------------------+ | Ubuntu 22.04 | PASS | SKIPPED | +--------------------+----------------------+----------------------+ | Ubuntu 20.04 | SKIPPED | PASS | +--------------------+----------------------+----------------------+ Ubuntu 22.04 (ARM) Kernel: 5.15.0-97-generic Compiler: gcc gcc (Ubuntu 11.4.0-1ubuntu1~22.04) 11.4.0 Ubuntu 22.04 Kernel: 5.15.0-100-generic Compiler: gcc gcc (Ubuntu 11.4.0-1ubuntu1~22.04) 11.4.0 Ubuntu 20.04 Kernel: Depends on container host Compiler: gcc (Ubuntu 9.4.0-1ubuntu1~20.04.2) 9.4.0 To view detailed results, visit: https://lab.dpdk.org/results/dashboard/patchsets/32490/ UNH-IOL DPDK Community Lab To manage your email subscriptions, visit: https://lab.dpdk.org/results/dashboard/preferences/subscriptions/