From mboxrd@z Thu Jan 1 00:00:00 1970 Return-Path: Received: from mails.dpdk.org (mails.dpdk.org [217.70.189.124]) by inbox.dpdk.org (Postfix) with ESMTP id DCE864619A for ; Wed, 5 Feb 2025 11:30:19 +0100 (CET) Received: from mails.dpdk.org (localhost [127.0.0.1]) by mails.dpdk.org (Postfix) with ESMTP id 031B7402B3; Wed, 5 Feb 2025 11:30:19 +0100 (CET) Received: from mail-pl1-f225.google.com (mail-pl1-f225.google.com [209.85.214.225]) by mails.dpdk.org (Postfix) with ESMTP id 21C3F40270 for ; Wed, 5 Feb 2025 11:30:18 +0100 (CET) Received: by mail-pl1-f225.google.com with SMTP id d9443c01a7336-21f0b5d6c6eso9771955ad.0 for ; Wed, 05 Feb 2025 02:30:18 -0800 (PST) DKIM-Signature: v=1; a=rsa-sha256; c=relaxed/relaxed; d=iol.unh.edu; s=unh-iol; t=1738751417; x=1739356217; darn=dpdk.org; h=references:in-reply-to:cc:to:from:subject:message-id:date:from:to :cc:subject:date:message-id:reply-to; bh=pIUnUXIsH/zrYRaG34GwUC63rl+0/fafJQ80ikUp37g=; b=VkhWTIADLA7rwg6AtTlgM7e104QqbKZidzKWFjJc1HUHQIKgD+WEhjqaC3UMA4NBR6 mrbYyTqzBL+5+rXklXqe/xOUcv/eL9Vrq5ZDooJdI01k+zrOZ6/hjejCKAoOuwogsI3j T39ahzDB3/ViN6e+xrrqzNjhLfboVmkxiPmng= X-Google-DKIM-Signature: v=1; a=rsa-sha256; c=relaxed/relaxed; d=1e100.net; s=20230601; t=1738751417; x=1739356217; h=references:in-reply-to:cc:to:from:subject:message-id:date :x-gm-message-state:from:to:cc:subject:date:message-id:reply-to; bh=pIUnUXIsH/zrYRaG34GwUC63rl+0/fafJQ80ikUp37g=; b=FhbvLBuXbyXT5NM9jn38Nl77rckOviONmLsTDUJEFCOfqNZoFCG+n8VeHgTSHLs6h6 JAYna92dpU8/J5jKaigkiUn6ODuGiPRkNI1Pe0J+rYwhcz85JdEZNIRKOS2fmd4h4AFc bsrIpL89Bb3bPx6QSaoBQONEwm9QgVBjNt6NBZAFugeT66azuyfjqwNGjLJrU/f1RwuW l9eShDr6VOVm4hSLeT8iBuCyaFFQyo1DMZIRE7AOZcifrcQLcQm06wmXbr4hiWd+qf6L zSGtZTWEp9tSzOcZZ4cBxPMa9cb1Rnj5jUiEs5kzLqWPpiUNdZBWcK3BWcuOKM7khya3 M8ew== X-Gm-Message-State: AOJu0YyqxI/tcVXur4Ey+40pzAxJnxhBPR09pkknGoJiBxwRnJXuGU5F +dkKuwBFBg3rQSjTbcAdLI63AK8JBYV4B7SL27hKsrc6U82vnPqlY2zZMeQtnsnC795TMvCyf5r m8bsn7C72SZyfQxQp3PcbCsB9a4Qz+w78tP7vqM9I X-Gm-Gg: ASbGncsvy1B9KG5ajBG4m4x8To0XZIRbSEhtVcBkUZSeEA4gpdion717YbHVn1QKH71 gy0cls6F0VE1hFCExf+NaiLxIzRzrMnvyjgqBSzH2yeG23XnMzm0N0OBEv9axapzmbDeyfW8WfC qUrsdETLwmynw7PuswgwSpn8bwpAsW8vOmsOyESib6OXt6nJG80vOxm7MysM8j5RWLzZtDChQcZ sfyPPvcBdSLVYFC+Ee1xIs0HZqI7BJclVqm3OXK5o9z50jeSvpOE+5rg7b+R3pxY0wLBehm7hwo xZ+uxaciZkWzgN3B7VzA8ekr61ChNA== X-Google-Smtp-Source: AGHT+IEgNP8aMiLYSwSKHPPV2Tw8ssv/WRQAZ3XXyThs3PydMq1+NMCW3lXxH2VGEG9/KnTSX/FK27VSiklH X-Received: by 2002:a17:902:d4ca:b0:215:5600:18cc with SMTP id d9443c01a7336-21f17adb636mr40522955ad.22.1738751417234; Wed, 05 Feb 2025 02:30:17 -0800 (PST) Received: from postal.iol.unh.edu (postal.iol.unh.edu. [132.177.123.84]) by smtp-relay.gmail.com with ESMTPS id d9443c01a7336-21de324dc48sm6413635ad.47.2025.02.05.02.30.17 (version=TLS1_2 cipher=ECDHE-ECDSA-AES128-GCM-SHA256 bits=128/128); Wed, 05 Feb 2025 02:30:17 -0800 (PST) X-Relaying-Domain: iol.unh.edu Date: Wed, 05 Feb 2025 02:30:17 -0800 (PST) Message-ID: <67a33db9.170a0220.1b355b.cfceSMTPIN_ADDED_MISSING@mx.google.com> Received: from [172.17.0.5] (unknown [172.18.0.217]) by postal.iol.unh.edu (Postfix) with ESMTP id 171BC6052471; Wed, 5 Feb 2025 05:30:16 -0500 (EST) Subject: |WARNING| pw150538 [PATCH] net/virtio: add virtio hash report featur From: dpdklab@iol.unh.edu To: Test Report Cc: dpdk-test-reports@iol.unh.edu In-Reply-To: <20250126193404.3431544-1-kshankar@marvell.com> References: <20250126193404.3431544-1-kshankar@marvell.com> Content-Type: text/plain X-BeenThere: test-report@dpdk.org X-Mailman-Version: 2.1.29 Precedence: list List-Id: automatic DPDK test reports List-Unsubscribe: , List-Archive: List-Post: List-Help: List-Subscribe: , Errors-To: test-report-bounces@dpdk.org Test-Label: iol-compile-amd64-testing Test-Status: WARNING http://dpdk.org/patch/150538 _Testing issues_ Submitter: Kommula Shiva Shankar Date: Sunday, January 26 2025 19:34:04 DPDK git baseline: Repo:dpdk Branch: master CommitID:d92688baedcfc963b7539899347012a09c45a15b 150538 --> testing issues Upstream job id: Windows-Compile-DPDK-Native#26383 Test environment and result as below: +---------------------+--------------------+------------------+-------------------+-------------------+----------------------+-------------------------+ | Environment | dpdk_meson_compile | dpdk_compile_ovs | dpdk_compile_spdk | dpdk_msvc_compile | dpdk_mingw64_compile | dpdk_llvm_clang_compile | +=====================+====================+==================+===================+===================+======================+=========================+ | CentOS Stream 9 | PASS | PASS | PASS | SKIPPED | SKIPPED | SKIPPED | +---------------------+--------------------+------------------+-------------------+-------------------+----------------------+-------------------------+ | Debian 12 | PASS | PASS | PASS | SKIPPED | SKIPPED | SKIPPED | +---------------------+--------------------+------------------+-------------------+-------------------+----------------------+-------------------------+ | Fedora 40 (Clang) | PASS | PASS | PASS | SKIPPED | SKIPPED | SKIPPED | +---------------------+--------------------+------------------+-------------------+-------------------+----------------------+-------------------------+ | Debian Bullseye | PASS | PASS | PASS | SKIPPED | SKIPPED | SKIPPED | +---------------------+--------------------+------------------+-------------------+-------------------+----------------------+-------------------------+ | RHEL9 | PASS | PASS | SKIPPED | SKIPPED | SKIPPED | SKIPPED | +---------------------+--------------------+------------------+-------------------+-------------------+----------------------+-------------------------+ | RHEL8 | PASS | PASS | SKIPPED | SKIPPED | SKIPPED | SKIPPED | +---------------------+--------------------+------------------+-------------------+-------------------+----------------------+-------------------------+ | Fedora 40 | PASS | PASS | PASS | SKIPPED | SKIPPED | SKIPPED | +---------------------+--------------------+------------------+-------------------+-------------------+----------------------+-------------------------+ | Fedora 41 | PASS | PASS | PASS | SKIPPED | SKIPPED | SKIPPED | +---------------------+--------------------+------------------+-------------------+-------------------+----------------------+-------------------------+ | openSUSE Leap 15 | PASS | SKIPPED | SKIPPED | SKIPPED | SKIPPED | SKIPPED | +---------------------+--------------------+------------------+-------------------+-------------------+----------------------+-------------------------+ | Fedora 41 (Clang) | PASS | PASS | PASS | SKIPPED | SKIPPED | SKIPPED | +---------------------+--------------------+------------------+-------------------+-------------------+----------------------+-------------------------+ | Ubuntu 20.04 | PASS | WARN | SKIPPED | SKIPPED | SKIPPED | SKIPPED | +---------------------+--------------------+------------------+-------------------+-------------------+----------------------+-------------------------+ | Ubuntu 24.04 | PASS | PASS | PASS | SKIPPED | SKIPPED | SKIPPED | +---------------------+--------------------+------------------+-------------------+-------------------+----------------------+-------------------------+ | Alpine | PASS | PASS | SKIPPED | SKIPPED | SKIPPED | SKIPPED | +---------------------+--------------------+------------------+-------------------+-------------------+----------------------+-------------------------+ | FreeBSD 13.4 | PASS | SKIPPED | SKIPPED | SKIPPED | SKIPPED | SKIPPED | +---------------------+--------------------+------------------+-------------------+-------------------+----------------------+-------------------------+ | Ubuntu 22.04 | PASS | PASS | PASS | SKIPPED | SKIPPED | SKIPPED | +---------------------+--------------------+------------------+-------------------+-------------------+----------------------+-------------------------+ | FreeBSD 14.2 | PASS | SKIPPED | SKIPPED | SKIPPED | SKIPPED | SKIPPED | +---------------------+--------------------+------------------+-------------------+-------------------+----------------------+-------------------------+ | Windows Server 2022 | SKIPPED | SKIPPED | SKIPPED | PASS | PASS | PASS | +---------------------+--------------------+------------------+-------------------+-------------------+----------------------+-------------------------+ ==== 20 line log output for Ubuntu 20.04 (dpdk_compile_ovs): ==== --- Failed to get log output --- ==== End log output ==== CentOS Stream 9 Kernel: Depends on container host Compiler: gcc 11.5.0 20240719 (Red Hat 11.5.0-2) Debian 12 Kernel: Depends on container host Compiler: gcc (Debian 12.2.0-14) 12.2.0 Fedora 40 (Clang) Kernel: Depends on container host Compiler: clang 18.1.8 (Fedora 18.1.8-1.fc40) Debian Bullseye Kernel: Depends on container host Compiler: gcc (Debian 10.2.1-6) 10.2.1 20210110 RHEL9 Kernel: Depends on container host Compiler: gcc 11.5.0 20240719 (Red Hat 11.5.0-2) RHEL8 Kernel: Depends on container host Compiler: gcc 8.5.0 20210514 (Red Hat 8.5.0-22) Fedora 40 Kernel: Depends on container host Compiler: gcc 14.2.1 20240912 (Red Hat 14.2.1-3) Fedora 41 Kernel: Depends on container host Compiler: gcc 14.2.1 20240912 (Red Hat 14.2.1-3) openSUSE Leap 15 Kernel: Depends on container host Compiler: gcc (SUSE Linux) 7.5.0 Fedora 41 (Clang) Kernel: Depends on container host Compiler: clang 19.1.5 (Fedora 19.1.5-1.fc41) Ubuntu 20.04 Kernel: Depends on container host Compiler: gcc (Ubuntu 9.4.0-1ubuntu1~20.04.2) 9.4.0 Ubuntu 24.04 Kernel: Depends on container host Compiler: gcc (Ubuntu 13.3.0-6ubuntu2~24.04) 13.3.0 Alpine Kernel: Depends on container host Compiler: gcc (Alpine 14.2.0) 14.2.0 FreeBSD 13.4 Kernel: 13.4-RELEASE-p1 Compiler: clang 18.1.6 Ubuntu 22.04 Kernel: Depends on container host Compiler: gcc (Ubuntu 11.4.0-1ubuntu1~22.04) 11.4.0 FreeBSD 14.2 Kernel: 14.2-RELEASE Compiler: clang 18.1.6 Windows Server 2022 Kernel: 10.0.20348.2031 Compiler: clang 15.0.7, gcc 14.1.0 (MinGW), and MSVC VS 19.39.33521 To view detailed results, visit: https://lab.dpdk.org/results/dashboard/patchsets/32428/ UNH-IOL DPDK Community Lab To manage your email subscriptions, visit: https://lab.dpdk.org/results/dashboard/preferences/subscriptions/