From mboxrd@z Thu Jan 1 00:00:00 1970 Return-Path: Received: from mails.dpdk.org (mails.dpdk.org [217.70.189.124]) by inbox.dpdk.org (Postfix) with ESMTP id 55D7F4619A for ; Wed, 5 Feb 2025 11:44:01 +0100 (CET) Received: from mails.dpdk.org (localhost [127.0.0.1]) by mails.dpdk.org (Postfix) with ESMTP id 4629E40289; Wed, 5 Feb 2025 11:44:01 +0100 (CET) Received: from mail-pj1-f100.google.com (mail-pj1-f100.google.com [209.85.216.100]) by mails.dpdk.org (Postfix) with ESMTP id 4CC8440270 for ; Wed, 5 Feb 2025 11:44:00 +0100 (CET) Received: by mail-pj1-f100.google.com with SMTP id 98e67ed59e1d1-2f9cd9601b8so2498637a91.3 for ; Wed, 05 Feb 2025 02:44:00 -0800 (PST) DKIM-Signature: v=1; a=rsa-sha256; c=relaxed/relaxed; d=iol.unh.edu; s=unh-iol; t=1738752239; x=1739357039; darn=dpdk.org; h=cc:to:from:subject:message-id:date:from:to:cc:subject:date :message-id:reply-to; bh=wXUH71eZvKMdnzfGUohGrq1ayhKJYw7Zj78ZhGmNLhQ=; b=E9Ybx3bVHwffgiBI0qyBIeOLENLuPX70VXXU5crP6mjnAXs2ju4xL1vRUeRDyNZBAt lncr2o+JDo3/0keGFTpcPYWdsk+Ytn2LDRKXuo5rSdZD3N27TIg9n1OpXLe8Yizocu6w eXEQSMpKcaH+gMxCFB+5+nsUyfoGxYmmU5fgo= X-Google-DKIM-Signature: v=1; a=rsa-sha256; c=relaxed/relaxed; d=1e100.net; s=20230601; t=1738752239; x=1739357039; h=cc:to:from:subject:message-id:date:x-gm-message-state:from:to:cc :subject:date:message-id:reply-to; bh=wXUH71eZvKMdnzfGUohGrq1ayhKJYw7Zj78ZhGmNLhQ=; b=qlDUpcixqqYMplEQz6Hd+UVeBl2k8Lp4zV8ktpuptj7ZvOdnrw+7YqnXJ+OOmhevyB G8OMOiULhUTMuBXcDGnoFzcoxqaVyivY04J9RVdFLG2GuDJw5r5HpYbnQ09aw4sphKAD 2X+O77onbB4si3dzzMHNvrmiVUawTPybaXwhHXw+QZsGbbEj5F48YSLcCzZBgQOve7m0 167t2zPrNLhyrxIxmj5cbBF9ggGKc6RRTbvfU43vlnbw49ep9JzBF5kaFVSaDfZPZc/X obGEfjSLMXtO0y34ijPMe56gPT8suplbRc/oUtUbNNc0ag7J/wWzmgc0ZZTfg2T3eErB bznQ== X-Gm-Message-State: AOJu0Ywae22aNAmfjS0YRVYP2+0CuuauChjU4hoT5EAawAIa2r9bZEE5 fZKiFr49C7JSgpOB4YH54g94/5XQi/9Q6tYVedDjQZGU0xZHwpVkEl1aUR+IYKlHxJ5QtjU+ckx bMQGnj5m+9FDiWy8D8ta/sJ5kSUmiJqPBlexob1NfOc9Vy9Du X-Gm-Gg: ASbGncu4/ZsBA7V1iFwr32Pqbj1MKyIZpJ4BrdLy9SOWZ4z+/Iw0flB8bECuhGmLQPe EK3Etid2vLGzu4D+SQPYA7vJnV+9HtxPn9P8nxB9Y2TzyMs6/owQVZbZXMDd3dPBRiWOHE0oXZ0 JYERHG1y0s0waMEEweJaqVugU9YUBYI55tdhTzjNihz/6W0yuj1Qpac4Do/FpCSMyBkuzxsQ1Cu cLBfU78XpjwBWCmoMo6DP37mlAET2L9M6kK7qJJm8rOAYRNeQvraHTQZ4SFTDmPTrXQFklc6PBz 12ZM4JbjmnUDGJlq6o+iQ9lL+w3zieL/Mlm0CNL7gw== X-Google-Smtp-Source: AGHT+IGIDb29+rcaE3gbXTKvdkN049a1Z98DD76E16q7qa7wWIIlp7a5QYSMNgnMjro0y7eC+gvOfcR8P9i1 X-Received: by 2002:a17:90b:17d1:b0:2ee:df70:1ff3 with SMTP id 98e67ed59e1d1-2f9e06a1b1dmr4557885a91.0.1738752239249; Wed, 05 Feb 2025 02:43:59 -0800 (PST) Received: from postal.iol.unh.edu (postal.iol.unh.edu. [2606:4100:3880:1234::84]) by smtp-relay.gmail.com with ESMTPS id 98e67ed59e1d1-2f9e1d63c40sm116532a91.1.2025.02.05.02.43.59 (version=TLS1_2 cipher=ECDHE-ECDSA-AES128-GCM-SHA256 bits=128/128); Wed, 05 Feb 2025 02:43:59 -0800 (PST) X-Relaying-Domain: iol.unh.edu Date: Wed, 05 Feb 2025 02:43:59 -0800 (PST) Message-ID: <67a340ef.170a0220.24fcf6.51c5SMTPIN_ADDED_MISSING@mx.google.com> Received: from [172.17.0.5] (unknown [172.18.0.217]) by postal.iol.unh.edu (Postfix) with ESMTP id 5A8BA6052471; Wed, 5 Feb 2025 05:43:58 -0500 (EST) Subject: |WARNING| [GIT MASTER] f2eea2f37a82bb73fb01d56350708f7d70e21379 From: dpdklab@iol.unh.edu To: Test Report Cc: dpdk-test-reports@iol.unh.edu, Xueming Li , Christian Ehrhardt , Kevin Traynor , Luca Boccassi Content-Type: text/plain X-BeenThere: test-report@dpdk.org X-Mailman-Version: 2.1.29 Precedence: list List-Id: automatic DPDK test reports List-Unsubscribe: , List-Archive: List-Post: List-Help: List-Subscribe: , Errors-To: test-report-bounces@dpdk.org _Testing issues_ Branch: tags/v24.11 f2eea2f37a82bb73fb01d56350708f7d70e21379 --> testing issues Upstream job id: Windows-Compile-DPDK-Native#26386 Test environment and result as below: +---------------------+--------------------+------------------+-------------------+-------------------+----------------------+-------------------------+ | Environment | dpdk_meson_compile | dpdk_compile_ovs | dpdk_compile_spdk | dpdk_msvc_compile | dpdk_mingw64_compile | dpdk_llvm_clang_compile | +=====================+====================+==================+===================+===================+======================+=========================+ | Fedora 40 (Clang) | PASS | PASS | PASS | SKIPPED | SKIPPED | SKIPPED | +---------------------+--------------------+------------------+-------------------+-------------------+----------------------+-------------------------+ | Fedora 41 | PASS | PASS | PASS | SKIPPED | SKIPPED | SKIPPED | +---------------------+--------------------+------------------+-------------------+-------------------+----------------------+-------------------------+ | Debian Bullseye | PASS | PASS | PASS | SKIPPED | SKIPPED | SKIPPED | +---------------------+--------------------+------------------+-------------------+-------------------+----------------------+-------------------------+ | CentOS Stream 9 | PASS | PASS | PASS | SKIPPED | SKIPPED | SKIPPED | +---------------------+--------------------+------------------+-------------------+-------------------+----------------------+-------------------------+ | RHEL8 | PASS | PASS | SKIPPED | SKIPPED | SKIPPED | SKIPPED | +---------------------+--------------------+------------------+-------------------+-------------------+----------------------+-------------------------+ | Debian 12 | PASS | PASS | PASS | SKIPPED | SKIPPED | SKIPPED | +---------------------+--------------------+------------------+-------------------+-------------------+----------------------+-------------------------+ | FreeBSD 13.4 | PASS | SKIPPED | SKIPPED | SKIPPED | SKIPPED | SKIPPED | +---------------------+--------------------+------------------+-------------------+-------------------+----------------------+-------------------------+ | Fedora 40 | PASS | PASS | PASS | SKIPPED | SKIPPED | SKIPPED | +---------------------+--------------------+------------------+-------------------+-------------------+----------------------+-------------------------+ | openSUSE Leap 15 | PASS | SKIPPED | SKIPPED | SKIPPED | SKIPPED | SKIPPED | +---------------------+--------------------+------------------+-------------------+-------------------+----------------------+-------------------------+ | Alpine | PASS | PASS | SKIPPED | SKIPPED | SKIPPED | SKIPPED | +---------------------+--------------------+------------------+-------------------+-------------------+----------------------+-------------------------+ | Ubuntu 24.04 | PASS | PASS | PASS | SKIPPED | SKIPPED | SKIPPED | +---------------------+--------------------+------------------+-------------------+-------------------+----------------------+-------------------------+ | RHEL9 | PASS | PASS | SKIPPED | SKIPPED | SKIPPED | SKIPPED | +---------------------+--------------------+------------------+-------------------+-------------------+----------------------+-------------------------+ | Ubuntu 22.04 | PASS | PASS | PASS | SKIPPED | SKIPPED | SKIPPED | +---------------------+--------------------+------------------+-------------------+-------------------+----------------------+-------------------------+ | Fedora 41 (Clang) | PASS | PASS | PASS | SKIPPED | SKIPPED | SKIPPED | +---------------------+--------------------+------------------+-------------------+-------------------+----------------------+-------------------------+ | FreeBSD 14.2 | PASS | SKIPPED | SKIPPED | SKIPPED | SKIPPED | SKIPPED | +---------------------+--------------------+------------------+-------------------+-------------------+----------------------+-------------------------+ | Ubuntu 20.04 | PASS | WARN | SKIPPED | SKIPPED | SKIPPED | SKIPPED | +---------------------+--------------------+------------------+-------------------+-------------------+----------------------+-------------------------+ | Windows Server 2022 | SKIPPED | SKIPPED | SKIPPED | PASS | PASS | PASS | +---------------------+--------------------+------------------+-------------------+-------------------+----------------------+-------------------------+ ==== 20 line log output for Ubuntu 20.04 (dpdk_compile_ovs): ==== --- Failed to get log output --- ==== End log output ==== Fedora 40 (Clang) Kernel: Depends on container host Compiler: clang 18.1.8 (Fedora 18.1.8-1.fc40) Fedora 41 Kernel: Depends on container host Compiler: gcc 14.2.1 20240912 (Red Hat 14.2.1-3) Debian Bullseye Kernel: Depends on container host Compiler: gcc (Debian 10.2.1-6) 10.2.1 20210110 CentOS Stream 9 Kernel: Depends on container host Compiler: gcc 11.5.0 20240719 (Red Hat 11.5.0-2) RHEL8 Kernel: Depends on container host Compiler: gcc 8.5.0 20210514 (Red Hat 8.5.0-22) Debian 12 Kernel: Depends on container host Compiler: gcc (Debian 12.2.0-14) 12.2.0 FreeBSD 13.4 Kernel: 13.4-RELEASE-p1 Compiler: clang 18.1.6 Fedora 40 Kernel: Depends on container host Compiler: gcc 14.2.1 20240912 (Red Hat 14.2.1-3) openSUSE Leap 15 Kernel: Depends on container host Compiler: gcc (SUSE Linux) 7.5.0 Alpine Kernel: Depends on container host Compiler: gcc (Alpine 14.2.0) 14.2.0 Ubuntu 24.04 Kernel: Depends on container host Compiler: gcc (Ubuntu 13.3.0-6ubuntu2~24.04) 13.3.0 RHEL9 Kernel: Depends on container host Compiler: gcc 11.5.0 20240719 (Red Hat 11.5.0-2) Ubuntu 22.04 Kernel: Depends on container host Compiler: gcc (Ubuntu 11.4.0-1ubuntu1~22.04) 11.4.0 Fedora 41 (Clang) Kernel: Depends on container host Compiler: clang 19.1.5 (Fedora 19.1.5-1.fc41) FreeBSD 14.2 Kernel: 14.2-RELEASE Compiler: clang 18.1.6 Ubuntu 20.04 Kernel: Depends on container host Compiler: gcc (Ubuntu 9.4.0-1ubuntu1~20.04.2) 9.4.0 Windows Server 2022 Kernel: 10.0.20348.2031 Compiler: clang 15.0.7, gcc 14.1.0 (MinGW), and MSVC VS 19.39.33521 To view detailed results, visit: https://lab.dpdk.org/results/dashboard/tarballs/32347/ UNH-IOL DPDK Community Lab To manage your email subscriptions, visit: https://lab.dpdk.org/results/dashboard/preferences/subscriptions/