From mboxrd@z Thu Jan 1 00:00:00 1970 Return-Path: Received: from mails.dpdk.org (mails.dpdk.org [217.70.189.124]) by inbox.dpdk.org (Postfix) with ESMTP id 3DD9A4619B for ; Wed, 5 Feb 2025 11:48:12 +0100 (CET) Received: from mails.dpdk.org (localhost [127.0.0.1]) by mails.dpdk.org (Postfix) with ESMTP id 0D57640657; Wed, 5 Feb 2025 11:48:12 +0100 (CET) Received: from mail-oo1-f98.google.com (mail-oo1-f98.google.com [209.85.161.98]) by mails.dpdk.org (Postfix) with ESMTP id 5A78540654 for ; Wed, 5 Feb 2025 11:48:10 +0100 (CET) Received: by mail-oo1-f98.google.com with SMTP id 006d021491bc7-5f2b21a0784so1739263eaf.1 for ; Wed, 05 Feb 2025 02:48:10 -0800 (PST) DKIM-Signature: v=1; a=rsa-sha256; c=relaxed/relaxed; d=iol.unh.edu; s=unh-iol; t=1738752489; x=1739357289; darn=dpdk.org; h=cc:to:from:subject:message-id:date:from:to:cc:subject:date :message-id:reply-to; bh=6VyvZaiWkMSUmiuVOSl0iudVTLy/XL3rcPtZiigSLXQ=; b=ZaGM7nK/cnCB4iu7h0hO4IGA0zcwJ7GMyY7SxMPiLjHbRgGm52LzD+yHT93asPwWdS 5gfAi0BaM5sFocDR1q1e23zR+ixlmk9nh+ENpPbcEu512y/VxRTYiJcI5cJxGPed+dEP JaaFlTquDA+IMiKeSP1KyO7Jfgsp7C2HMcrtc= X-Google-DKIM-Signature: v=1; a=rsa-sha256; c=relaxed/relaxed; d=1e100.net; s=20230601; t=1738752489; x=1739357289; h=cc:to:from:subject:message-id:date:x-gm-message-state:from:to:cc :subject:date:message-id:reply-to; bh=6VyvZaiWkMSUmiuVOSl0iudVTLy/XL3rcPtZiigSLXQ=; b=YUVI4TGZZ1X3Ji+S/I/dYF0edj4+4JMTodhMOBuK/iuqE34Wyk2ZaIeFl5of1hAOnh nUoxlZOG1pHho1Mq1INOJ+FVwz6dZmVtSfDEBEatGEOgNsWmLbqrfrvVSd1Uw9DHlBwT GbRHbB8epDbvhvc1otYBlDzqFgKyLJHJlplO6+bi8oU55elwOjeRlGdEdBVW+Of9Icen D8eWzmaHqPGj3w4Ll1Bwgo/n2m9Fy7RHzTMaAefIM5DzpHiabBMcZ40yj25h0uhubI5F +MPX6cw6nEHw0YfEnfgBxSYLzTa2d9U5R3GqbzKtAq48X9d8TkpbkPCwt8zXOpRGHkEJ f72A== X-Gm-Message-State: AOJu0Yy1aJT/ovi0Mm2cJ1wOWZVaM0qX8BrbARVx6S/9ABiCLiUNE7d5 j9ZXdbJMFOaKiPevMfnw3mucfHdg76ikkSNL3syiil3F5FpZwjI6uIlAgm+IXQgLbJIb5EQJ5Nz F0Y33c4J2Y0mTL1KVLo7HFU/rfD/jJi7l+85wzfY5 X-Gm-Gg: ASbGncv23ujCujyXoMiTFMpOtgOVs3QNgNGvxk6FlmMZ+25kD0tgC73kfq/KHZaR8nw bpuMibzUmEHqm7vINf+t/QOaubnfAH7VRVSMBoXJlKqCe+F6ZIPVckxh/3L2yB/VGN+earRzXhf MiMsQoPwat3jfJFKYVzunMpGHU8BqplLNdDfwvOXZrtFTVjZ1s9U8y6nOsBWvBCAtAxxHu18suf iax/6aa7ytGyzM4hPS+LDkVeFmzDgCd771s2nGpnx+qE8ViHhQrZGhbEEKNEbjg3pSL2MFbIeBX 0MvyOmXz6YzAdfnnAUK0VnOOORjVgg== X-Google-Smtp-Source: AGHT+IE0IhaL7JstM/f4aGT8KgkdKRhSELTPk/fse3ceD4UkY8EgHnu5o+d4G9BTOkE+50CL1StL8AsH14f6 X-Received: by 2002:a05:6870:63ab:b0:29e:5cb1:b148 with SMTP id 586e51a60fabf-2b804ec3a3cmr1473693fac.6.1738752489189; Wed, 05 Feb 2025 02:48:09 -0800 (PST) Received: from postal.iol.unh.edu (postal.iol.unh.edu. [132.177.123.84]) by smtp-relay.gmail.com with ESMTPS id 586e51a60fabf-2b3561a5ef3sm937377fac.13.2025.02.05.02.48.09 (version=TLS1_2 cipher=ECDHE-ECDSA-AES128-GCM-SHA256 bits=128/128); Wed, 05 Feb 2025 02:48:09 -0800 (PST) X-Relaying-Domain: iol.unh.edu Date: Wed, 05 Feb 2025 02:48:09 -0800 (PST) Message-ID: <67a341e9.050a0220.1b7867.b757SMTPIN_ADDED_MISSING@mx.google.com> Received: from [172.17.0.5] (unknown [172.18.0.217]) by postal.iol.unh.edu (Postfix) with ESMTP id C5B5F6052471; Wed, 5 Feb 2025 05:48:08 -0500 (EST) Subject: |WARNING| [GIT MASTER] 5b856206c74bbcf19e12cafa15382a7e15b0a1b5 From: dpdklab@iol.unh.edu To: Test Report Cc: dpdk-test-reports@iol.unh.edu Content-Type: text/plain X-BeenThere: test-report@dpdk.org X-Mailman-Version: 2.1.29 Precedence: list List-Id: automatic DPDK test reports List-Unsubscribe: , List-Archive: List-Post: List-Help: List-Subscribe: , Errors-To: test-report-bounces@dpdk.org _Testing issues_ Branch: dpdk 5b856206c74bbcf19e12cafa15382a7e15b0a1b5 --> testing issues Upstream job id: Windows-Compile-DPDK-Native#26387 Test environment and result as below: +---------------------+--------------------+------------------+-------------------+-------------------+----------------------+-------------------------+ | Environment | dpdk_meson_compile | dpdk_compile_ovs | dpdk_compile_spdk | dpdk_msvc_compile | dpdk_mingw64_compile | dpdk_llvm_clang_compile | +=====================+====================+==================+===================+===================+======================+=========================+ | CentOS Stream 9 | PASS | PASS | PASS | SKIPPED | SKIPPED | SKIPPED | +---------------------+--------------------+------------------+-------------------+-------------------+----------------------+-------------------------+ | Debian Bullseye | PASS | PASS | PASS | SKIPPED | SKIPPED | SKIPPED | +---------------------+--------------------+------------------+-------------------+-------------------+----------------------+-------------------------+ | Debian 12 | PASS | PASS | PASS | SKIPPED | SKIPPED | SKIPPED | +---------------------+--------------------+------------------+-------------------+-------------------+----------------------+-------------------------+ | Fedora 40 | PASS | PASS | PASS | SKIPPED | SKIPPED | SKIPPED | +---------------------+--------------------+------------------+-------------------+-------------------+----------------------+-------------------------+ | Fedora 40 (Clang) | PASS | PASS | PASS | SKIPPED | SKIPPED | SKIPPED | +---------------------+--------------------+------------------+-------------------+-------------------+----------------------+-------------------------+ | openSUSE Leap 15 | PASS | SKIPPED | SKIPPED | SKIPPED | SKIPPED | SKIPPED | +---------------------+--------------------+------------------+-------------------+-------------------+----------------------+-------------------------+ | Fedora 41 | PASS | PASS | PASS | SKIPPED | SKIPPED | SKIPPED | +---------------------+--------------------+------------------+-------------------+-------------------+----------------------+-------------------------+ | Ubuntu 20.04 | PASS | WARN | SKIPPED | SKIPPED | SKIPPED | SKIPPED | +---------------------+--------------------+------------------+-------------------+-------------------+----------------------+-------------------------+ | RHEL9 | PASS | PASS | SKIPPED | SKIPPED | SKIPPED | SKIPPED | +---------------------+--------------------+------------------+-------------------+-------------------+----------------------+-------------------------+ | RHEL8 | PASS | PASS | SKIPPED | SKIPPED | SKIPPED | SKIPPED | +---------------------+--------------------+------------------+-------------------+-------------------+----------------------+-------------------------+ | Alpine | PASS | PASS | SKIPPED | SKIPPED | SKIPPED | SKIPPED | +---------------------+--------------------+------------------+-------------------+-------------------+----------------------+-------------------------+ | Ubuntu 22.04 | PASS | PASS | PASS | SKIPPED | SKIPPED | SKIPPED | +---------------------+--------------------+------------------+-------------------+-------------------+----------------------+-------------------------+ | Ubuntu 24.04 | PASS | PASS | PASS | SKIPPED | SKIPPED | SKIPPED | +---------------------+--------------------+------------------+-------------------+-------------------+----------------------+-------------------------+ | Arch Linux | PASS | PASS | SKIPPED | SKIPPED | SKIPPED | SKIPPED | +---------------------+--------------------+------------------+-------------------+-------------------+----------------------+-------------------------+ | FreeBSD 13.4 | PASS | SKIPPED | SKIPPED | SKIPPED | SKIPPED | SKIPPED | +---------------------+--------------------+------------------+-------------------+-------------------+----------------------+-------------------------+ | FreeBSD 14.2 | PASS | SKIPPED | SKIPPED | SKIPPED | SKIPPED | SKIPPED | +---------------------+--------------------+------------------+-------------------+-------------------+----------------------+-------------------------+ | Fedora 41 (Clang) | PASS | PASS | PASS | SKIPPED | SKIPPED | SKIPPED | +---------------------+--------------------+------------------+-------------------+-------------------+----------------------+-------------------------+ | Windows Server 2022 | SKIPPED | SKIPPED | SKIPPED | PASS | PASS | PASS | +---------------------+--------------------+------------------+-------------------+-------------------+----------------------+-------------------------+ ==== 20 line log output for Ubuntu 20.04 (dpdk_compile_ovs): ==== --- Failed to get log output --- ==== End log output ==== CentOS Stream 9 Kernel: Depends on container host Compiler: gcc 11.5.0 20240719 (Red Hat 11.5.0-2) Debian Bullseye Kernel: Depends on container host Compiler: gcc (Debian 10.2.1-6) 10.2.1 20210110 Debian 12 Kernel: Depends on container host Compiler: gcc (Debian 12.2.0-14) 12.2.0 Fedora 40 Kernel: Depends on container host Compiler: gcc 14.2.1 20240912 (Red Hat 14.2.1-3) Fedora 40 (Clang) Kernel: Depends on container host Compiler: clang 18.1.8 (Fedora 18.1.8-1.fc40) openSUSE Leap 15 Kernel: Depends on container host Compiler: gcc (SUSE Linux) 7.5.0 Fedora 41 Kernel: Depends on container host Compiler: gcc 14.2.1 20240912 (Red Hat 14.2.1-3) Ubuntu 20.04 Kernel: Depends on container host Compiler: gcc (Ubuntu 9.4.0-1ubuntu1~20.04.2) 9.4.0 RHEL9 Kernel: Depends on container host Compiler: gcc 11.5.0 20240719 (Red Hat 11.5.0-2) RHEL8 Kernel: Depends on container host Compiler: gcc 8.5.0 20210514 (Red Hat 8.5.0-22) Alpine Kernel: Depends on container host Compiler: gcc (Alpine 14.2.0) 14.2.0 Ubuntu 22.04 Kernel: Depends on container host Compiler: gcc (Ubuntu 11.4.0-1ubuntu1~22.04) 11.4.0 Ubuntu 24.04 Kernel: Depends on container host Compiler: gcc (Ubuntu 13.3.0-6ubuntu2~24.04) 13.3.0 Arch Linux Kernel: Depends on container host Compiler: gcc 14.2.1 20240910 FreeBSD 13.4 Kernel: 13.4-RELEASE-p1 Compiler: clang 18.1.6 FreeBSD 14.2 Kernel: 14.2-RELEASE Compiler: clang 18.1.6 Fedora 41 (Clang) Kernel: Depends on container host Compiler: clang 19.1.5 (Fedora 19.1.5-1.fc41) Windows Server 2022 Kernel: 10.0.20348.2031 Compiler: clang 15.0.7, gcc 14.1.0 (MinGW), and MSVC VS 19.39.33521 To view detailed results, visit: https://lab.dpdk.org/results/dashboard/tarballs/32346/ UNH-IOL DPDK Community Lab To manage your email subscriptions, visit: https://lab.dpdk.org/results/dashboard/preferences/subscriptions/