From mboxrd@z Thu Jan 1 00:00:00 1970 Return-Path: Received: from mails.dpdk.org (mails.dpdk.org [217.70.189.124]) by inbox.dpdk.org (Postfix) with ESMTP id 4F11F4619A for ; Wed, 5 Feb 2025 11:52:04 +0100 (CET) Received: from mails.dpdk.org (localhost [127.0.0.1]) by mails.dpdk.org (Postfix) with ESMTP id 4C09A40270; Wed, 5 Feb 2025 11:52:04 +0100 (CET) Received: from mail-io1-f99.google.com (mail-io1-f99.google.com [209.85.166.99]) by mails.dpdk.org (Postfix) with ESMTP id C53564025F for ; Wed, 5 Feb 2025 11:52:03 +0100 (CET) Received: by mail-io1-f99.google.com with SMTP id ca18e2360f4ac-844d7f81dd1so189629739f.2 for ; Wed, 05 Feb 2025 02:52:03 -0800 (PST) DKIM-Signature: v=1; a=rsa-sha256; c=relaxed/relaxed; d=iol.unh.edu; s=unh-iol; t=1738752723; x=1739357523; darn=dpdk.org; h=references:in-reply-to:cc:to:from:subject:message-id:date:from:to :cc:subject:date:message-id:reply-to; bh=lkbH85Cne+lLUznPXiNGjFu0WNGiNGY49THPejkx6Ro=; b=d36wi8k/MnBi7UAmJ4rv8arZT1ZGa1YVTWaXI6iYzjw/yAOBEpwrXVtk5fpeLtKONH AyDlETaQuIXfNFl6kQRWUaIpxcl5GWoUAMxzujxG2MbPZ+EyNCHKk1QcvokbZ7n6TsQx VlH04gS2oUEBT9mymJjWymduFKTS4q5L6Nl1c= X-Google-DKIM-Signature: v=1; a=rsa-sha256; c=relaxed/relaxed; d=1e100.net; s=20230601; t=1738752723; x=1739357523; h=references:in-reply-to:cc:to:from:subject:message-id:date :x-gm-message-state:from:to:cc:subject:date:message-id:reply-to; bh=lkbH85Cne+lLUznPXiNGjFu0WNGiNGY49THPejkx6Ro=; b=tQCX1H9GHN06InErB9uNIlkUpomN6I72Q7q/mfwlQfMhHO2Iw7ldqYRkziv0ceSDW/ 9zTqegunoIcLn5P5da/5ZY2NKsnmefSe5ocIPks7xd7XLl5tnr5SSa/B86CiMca9ujDc +//ikar/hlNiwiLR7gD5KyxeGl+Ep86mPD09+7XijVkHFNvSB8ONmtLXGRFTr44Lr6SG Lq7CQ/vkwrypqI/j724WROIxk9jibDS4AZKPBmFaSnZBVbhpphwBDVFdhrSzcHRWgaLg 6/alj7TXc+kubQG9znRU3WS//In3OLXm7uCAQr84hh4Dec6WpihInC7luSRvXY8UfdLO nvIQ== X-Gm-Message-State: AOJu0Yy1Hzm1qgq/VQ/6aH4TYKmGWZ/AOBcEeEV6h7YG6czjUaOBO5h7 A4/QBicuAfbZP6MM3m6pqBht4nUFa9ptTYxKxBe/l9q+nmtiWWpPGwoxxe0Ijpjj3YR/28+zlis +88a7cqoOuI9xLHHD/WfcE3tPzBpJkpxW69hoIEz6FqH1JOznkhMrAc95 X-Gm-Gg: ASbGnctTKZyn17wNW582AkGQb3EBdNlizjq/tF0HXFzvHJztoYUczTO35FeIeyFyGfs ek6wcLOzxkMdVE5Lkl8R/tdF94TOVIjq76tSDpMcqqdI8L6E0aPeYm/eZjQo2WWntXOcr3HlHg5 1yfts36mddQtDAa/rp/4bXEqZD1KWDYzQ6si17gsVD5StSJTGPUxlZP8wrQ/2SBRLmIxI31dLSU yXrMgp0kpkYKL4WJ4fD9nIXBUERi7wx3tCnq/bgGdoWSUvjTbZWmgB8zBLPxuQk80CQOgFDg3F2 tPEPDBBA4nnD1zXtXUemu0Unp2S+9rxYJLXtgHysHA== X-Google-Smtp-Source: AGHT+IF5512b24mdiYMYJMv3eP2Pz6SavT+zmfoKr+yilqs3ixKUDRe1VILS0wSOwYvhu3eN6WCu4p4nz5P0 X-Received: by 2002:a05:6e02:19cc:b0:3d0:258e:484f with SMTP id e9e14a558f8ab-3d04f9027f6mr16711695ab.16.1738752723119; Wed, 05 Feb 2025 02:52:03 -0800 (PST) Received: from postal.iol.unh.edu (postal.iol.unh.edu. [2606:4100:3880:1234::84]) by smtp-relay.gmail.com with ESMTPS id e9e14a558f8ab-3d02136d244sm6489415ab.32.2025.02.05.02.52.03 (version=TLS1_2 cipher=ECDHE-ECDSA-AES128-GCM-SHA256 bits=128/128); Wed, 05 Feb 2025 02:52:03 -0800 (PST) X-Relaying-Domain: iol.unh.edu Date: Wed, 05 Feb 2025 02:52:03 -0800 (PST) Message-ID: <67a342d3.050a0220.b6d08.b82dSMTPIN_ADDED_MISSING@mx.google.com> Received: from [172.17.0.5] (unknown [172.18.0.217]) by postal.iol.unh.edu (Postfix) with ESMTP id 8CE256052471; Wed, 5 Feb 2025 05:52:02 -0500 (EST) Subject: |SUCCESS| pw150930-150931 [PATCH] [v5,2/2] net/cnxk: support rte flo From: dpdklab@iol.unh.edu To: Test Report Cc: dpdk-test-reports@iol.unh.edu In-Reply-To: <20250205054247.1214565-2-psatheesh@marvell.com> References: <20250205054247.1214565-2-psatheesh@marvell.com> Content-Type: text/plain X-BeenThere: test-report@dpdk.org X-Mailman-Version: 2.1.29 Precedence: list List-Id: automatic DPDK test reports List-Unsubscribe: , List-Archive: List-Post: List-Help: List-Subscribe: , Errors-To: test-report-bounces@dpdk.org Test-Label: iol-unit-amd64-testing Test-Status: SUCCESS http://dpdk.org/patch/150931 _Testing PASS_ Submitter: Satheesh Paul Antonysamy Date: Wednesday, February 05 2025 05:42:47 DPDK git baseline: Repo:dpdk Branch: master CommitID:1509e93efb980d1e4da3dabd332748b26cab76fd 150930-150931 --> testing pass Upstream job id: Generic-Unit-Test-DPDK#311763 Test environment and result as below: +---------------------+----------------+ | Environment | dpdk_unit_test | +=====================+================+ | CentOS Stream 9 | PASS | +---------------------+----------------+ | Debian Bullseye | PASS | +---------------------+----------------+ | Fedora 40 | PASS | +---------------------+----------------+ | Fedora 41 | PASS | +---------------------+----------------+ | Debian 12 | PASS | +---------------------+----------------+ | Fedora 41 (Clang) | PASS | +---------------------+----------------+ | RHEL9 | PASS | +---------------------+----------------+ | Fedora 40 (Clang) | PASS | +---------------------+----------------+ | Ubuntu 20.04 | PASS | +---------------------+----------------+ | Ubuntu 22.04 | PASS | +---------------------+----------------+ | RHEL8 | PASS | +---------------------+----------------+ | Ubuntu 24.04 | PASS | +---------------------+----------------+ | Windows Server 2022 | PASS | +---------------------+----------------+ CentOS Stream 9 Kernel: Depends on container host Compiler: gcc 11.5.0 20240719 (Red Hat 11.5.0-2) Debian Bullseye Kernel: Depends on container host Compiler: gcc (Debian 10.2.1-6) 10.2.1 20210110 Fedora 40 Kernel: Depends on container host Compiler: gcc 14.2.1 20240912 (Red Hat 14.2.1-3) Fedora 41 Kernel: Depends on container host Compiler: gcc 14.2.1 20240912 (Red Hat 14.2.1-3) Debian 12 Kernel: Depends on container host Compiler: gcc (Debian 12.2.0-14) 12.2.0 Fedora 41 (Clang) Kernel: Depends on container host Compiler: clang 19.1.5 (Fedora 19.1.5-1.fc41) RHEL9 Kernel: Depends on container host Compiler: gcc 11.5.0 20240719 (Red Hat 11.5.0-2) Fedora 40 (Clang) Kernel: Depends on container host Compiler: clang 18.1.8 (Fedora 18.1.8-1.fc40) Ubuntu 20.04 Kernel: Depends on container host Compiler: gcc (Ubuntu 9.4.0-1ubuntu1~20.04.2) 9.4.0 Ubuntu 22.04 Kernel: Depends on container host Compiler: gcc (Ubuntu 11.4.0-1ubuntu1~22.04) 11.4.0 RHEL8 Kernel: Depends on container host Compiler: gcc 8.5.0 20210514 (Red Hat 8.5.0-22) Ubuntu 24.04 Kernel: Depends on container host Compiler: gcc (Ubuntu 13.3.0-6ubuntu2~24.04) 13.3.0 Windows Server 2022 Kernel: 10.0.20348.2031 Compiler: clang 15.0.7, gcc 14.1.0 (MinGW), and MSVC VS 19.39.33521 To view detailed results, visit: https://lab.dpdk.org/results/dashboard/patchsets/32495/ UNH-IOL DPDK Community Lab To manage your email subscriptions, visit: https://lab.dpdk.org/results/dashboard/preferences/subscriptions/