From mboxrd@z Thu Jan 1 00:00:00 1970 Return-Path: Received: from mails.dpdk.org (mails.dpdk.org [217.70.189.124]) by inbox.dpdk.org (Postfix) with ESMTP id DA82A4619A for ; Wed, 5 Feb 2025 11:54:51 +0100 (CET) Received: from mails.dpdk.org (localhost [127.0.0.1]) by mails.dpdk.org (Postfix) with ESMTP id D179A40261; Wed, 5 Feb 2025 11:54:51 +0100 (CET) Received: from mail-qv1-f97.google.com (mail-qv1-f97.google.com [209.85.219.97]) by mails.dpdk.org (Postfix) with ESMTP id F28834025F for ; Wed, 5 Feb 2025 11:54:50 +0100 (CET) Received: by mail-qv1-f97.google.com with SMTP id 6a1803df08f44-6dcd4f1aaccso18679346d6.2 for ; Wed, 05 Feb 2025 02:54:50 -0800 (PST) DKIM-Signature: v=1; a=rsa-sha256; c=relaxed/relaxed; d=iol.unh.edu; s=unh-iol; t=1738752890; x=1739357690; darn=dpdk.org; h=references:in-reply-to:cc:to:from:subject:message-id:date:from:to :cc:subject:date:message-id:reply-to; bh=uWcETGtPD7g8WCkxr06nFD/60l+4OYfzky7325L9Qus=; b=RRYC/0VtnNiSnDAV3wI3ouXA0/wPKFlCpIrD6yqSa8UEEwLGEWg2CricW707Sniu3I 01lzf9V4nGc6WwYEU1H45fNuEloYUSZ5+kaTstnXeal9RzS8lQmFKvwc8Bvm1bx7Xemp UlY7I0EjV17d1xcWbN4nLXZPR5YeZ5mrA+Eqs= X-Google-DKIM-Signature: v=1; a=rsa-sha256; c=relaxed/relaxed; d=1e100.net; s=20230601; t=1738752890; x=1739357690; h=references:in-reply-to:cc:to:from:subject:message-id:date :x-gm-message-state:from:to:cc:subject:date:message-id:reply-to; bh=uWcETGtPD7g8WCkxr06nFD/60l+4OYfzky7325L9Qus=; b=NSddKLnZfIRZfVW5+2dc7VpxwuUc8yAkQL2Kqs8GRhYOxZOkXMJWFCp7i7TFfLzQtw ikLxm4eSDrg2/5WpeRjIvYOcvlLOkwWc2WtvuvC0g62acMA776osNmuFmrMInIhlV+5+ s3ZcL7iGYxEvAdhBYRBoxX2nxi5JIOB8XXVQrmpmNnUHAzl2ZrzEZVroIFPudfk6W1u5 Y7zcTimaijCR609i9G7S6w7qfGt0LiKzjObEfDhXFVMRKhzgUIGo+TBLKnuSw8epvxjA RHZwVMGT7t5MAZmi/Jl8oGT9/3TguwFixTKHBnGk5rCZUfHS6fs3YwmosfYvFjhEMNx/ FZxA== X-Gm-Message-State: AOJu0YyuOt0G3w/AdhKAbJbBQpAsJJ1NwPbJOtj0IJFgETR6lLr+GWX5 ljCviywECZrtH1hBIa9nEIpE7wG2QsIVwqVOiBfZUV0sxHYDiNt/C76QXqmAk6SyKJo4d/kti4w 3wqEhnF+RlXpsAgd0Xj7pDmgXSezAf0tyzxqU2Gwq3EGKKlW+ExXgApO4 X-Gm-Gg: ASbGncvfY22+WpHuVld+Pv0+ZdH2MBTI1ZP6sg1JgOU2IDZK4vvaa4Vq8cSriMiNzy1 M8ttoqfZmDH1qph+tkkregai7XfdT12sSokXdTevvADwCbypwa5y1WC+ORD47pEW2TpdzH4/Cwl S+5Z7Y5YScz2NyHg5gti7rQJ5IJNzBoOeBfMaZI6fM0c5HF4fZM6/78xNu2p4pNHmxRG9aKMFfY PVYuF0rig2LBY4UbnSEGbyF9hzePmAHNIMyZFAoymWO9F8OcgFH/zqtQ8b4QUeTz3mzntNF1nmN /KE3LowsQbknI22ll2q523FMC+S/0eL2orh59yBzvw== X-Google-Smtp-Source: AGHT+IFtiV4D69OvOi8zQqcBZ68f02fCTaxIJ6VLi68x9yZ+hSY+0qD9bT+Yw9aV5yowINyRfXjwaT6RwwNw X-Received: by 2002:a05:6214:21c1:b0:6d4:1662:348c with SMTP id 6a1803df08f44-6e42fb92943mr26723936d6.17.1738752890431; Wed, 05 Feb 2025 02:54:50 -0800 (PST) Received: from postal.iol.unh.edu (postal.iol.unh.edu. [2606:4100:3880:1234::84]) by smtp-relay.gmail.com with ESMTPS id 6a1803df08f44-6e25480c308sm10195946d6.26.2025.02.05.02.54.50 (version=TLS1_2 cipher=ECDHE-ECDSA-AES128-GCM-SHA256 bits=128/128); Wed, 05 Feb 2025 02:54:50 -0800 (PST) X-Relaying-Domain: iol.unh.edu Date: Wed, 05 Feb 2025 02:54:50 -0800 (PST) Message-ID: <67a3437a.050a0220.2900af.f85bSMTPIN_ADDED_MISSING@mx.google.com> Received: from [172.17.0.5] (unknown [172.18.0.217]) by postal.iol.unh.edu (Postfix) with ESMTP id 1DFA96052471; Wed, 5 Feb 2025 05:54:50 -0500 (EST) Subject: |SUCCESS| pw150930-150931 [PATCH] [v5,2/2] net/cnxk: support rte flo From: dpdklab@iol.unh.edu To: Test Report Cc: dpdk-test-reports@iol.unh.edu In-Reply-To: <20250205054247.1214565-2-psatheesh@marvell.com> References: <20250205054247.1214565-2-psatheesh@marvell.com> Content-Type: text/plain X-BeenThere: test-report@dpdk.org X-Mailman-Version: 2.1.29 Precedence: list List-Id: automatic DPDK test reports List-Unsubscribe: , List-Archive: List-Post: List-Help: List-Subscribe: , Errors-To: test-report-bounces@dpdk.org Test-Label: iol-abi-testing Test-Status: SUCCESS http://dpdk.org/patch/150931 _Testing PASS_ Submitter: Satheesh Paul Antonysamy Date: Wednesday, February 05 2025 05:42:47 DPDK git baseline: Repo:dpdk Branch: master CommitID:1509e93efb980d1e4da3dabd332748b26cab76fd 150930-150931 --> testing pass Upstream job id: Generic-DPDK-Compile-ABI#114847 Test environment and result as below: +-------------------+----------+ | Environment | abi_test | +===================+==========+ | CentOS Stream 9 | PASS | +-------------------+----------+ | Debian Bullseye | PASS | +-------------------+----------+ | Debian 12 | PASS | +-------------------+----------+ | Fedora 40 (Clang) | PASS | +-------------------+----------+ | Fedora 41 (Clang) | PASS | +-------------------+----------+ | Fedora 40 | PASS | +-------------------+----------+ | Fedora 41 | PASS | +-------------------+----------+ | openSUSE Leap 15 | PASS | +-------------------+----------+ | RHEL8 | PASS | +-------------------+----------+ | RHEL9 | PASS | +-------------------+----------+ | Ubuntu 22.04 | PASS | +-------------------+----------+ | Ubuntu 24.04 | PASS | +-------------------+----------+ CentOS Stream 9 Kernel: Depends on container host Compiler: gcc 11.5.0 20240719 (Red Hat 11.5.0-2) Debian Bullseye Kernel: Depends on container host Compiler: gcc (Debian 10.2.1-6) 10.2.1 20210110 Debian 12 Kernel: Depends on container host Compiler: gcc (Debian 12.2.0-14) 12.2.0 Fedora 40 (Clang) Kernel: Depends on container host Compiler: clang 18.1.8 (Fedora 18.1.8-1.fc40) Fedora 41 (Clang) Kernel: Depends on container host Compiler: clang 19.1.5 (Fedora 19.1.5-1.fc41) Fedora 40 Kernel: Depends on container host Compiler: gcc 14.2.1 20240912 (Red Hat 14.2.1-3) Fedora 41 Kernel: Depends on container host Compiler: gcc 14.2.1 20240912 (Red Hat 14.2.1-3) openSUSE Leap 15 Kernel: Depends on container host Compiler: gcc (SUSE Linux) 7.5.0 RHEL8 Kernel: Depends on container host Compiler: gcc 8.5.0 20210514 (Red Hat 8.5.0-22) RHEL9 Kernel: Depends on container host Compiler: gcc 11.5.0 20240719 (Red Hat 11.5.0-2) Ubuntu 22.04 Kernel: Depends on container host Compiler: gcc (Ubuntu 11.4.0-1ubuntu1~22.04) 11.4.0 Ubuntu 24.04 Kernel: Depends on container host Compiler: gcc (Ubuntu 13.3.0-6ubuntu2~24.04) 13.3.0 To view detailed results, visit: https://lab.dpdk.org/results/dashboard/patchsets/32495/ UNH-IOL DPDK Community Lab To manage your email subscriptions, visit: https://lab.dpdk.org/results/dashboard/preferences/subscriptions/