From mboxrd@z Thu Jan 1 00:00:00 1970 Return-Path: Received: from mails.dpdk.org (mails.dpdk.org [217.70.189.124]) by inbox.dpdk.org (Postfix) with ESMTP id E96F34619A for ; Wed, 5 Feb 2025 12:01:09 +0100 (CET) Received: from mails.dpdk.org (localhost [127.0.0.1]) by mails.dpdk.org (Postfix) with ESMTP id DCB4F40261; Wed, 5 Feb 2025 12:01:09 +0100 (CET) Received: from mail-pj1-f99.google.com (mail-pj1-f99.google.com [209.85.216.99]) by mails.dpdk.org (Postfix) with ESMTP id 932604025F for ; Wed, 5 Feb 2025 12:01:08 +0100 (CET) Received: by mail-pj1-f99.google.com with SMTP id 98e67ed59e1d1-2f9d5f6df4cso1765621a91.1 for ; Wed, 05 Feb 2025 03:01:08 -0800 (PST) DKIM-Signature: v=1; a=rsa-sha256; c=relaxed/relaxed; d=iol.unh.edu; s=unh-iol; t=1738753268; x=1739358068; darn=dpdk.org; h=cc:to:from:subject:message-id:date:from:to:cc:subject:date :message-id:reply-to; bh=475Mx8IzKlR9fl36Rx5GTi11Bfn0z2nzy9cwtw71egs=; b=AeDB9/qFMM+KhN7ovhhsZC0kaUoAgstLMQRhOA/afNONMmqfhhRrqpeOoHAdgc0kyF wxp0TdPIodJzqh+oYrjgvWKWYB9OG9PNtBJLI7lH4JED6bJl0YbwRHNzEfg9j8tTB5X4 WACNvanSjibdnfML47eF+Yc+ShPHfYi9I5KIs= X-Google-DKIM-Signature: v=1; a=rsa-sha256; c=relaxed/relaxed; d=1e100.net; s=20230601; t=1738753268; x=1739358068; h=cc:to:from:subject:message-id:date:x-gm-message-state:from:to:cc :subject:date:message-id:reply-to; bh=475Mx8IzKlR9fl36Rx5GTi11Bfn0z2nzy9cwtw71egs=; b=IWj2HKrjOD+qtR+qDH9zoKZEpmbILlcLNe9r/eibLDe1Gwiepty7zzU3gsceYgZ2cq KAjX0sXoJCA8/vJM5XKl9eAJPnYAeeRxRTJPKPBdA0MkEq9z0A/zRVjkkTWjqtNrRoJl BDxnhQTR5dWX9s2brkZQu3R4maCn8VpD49hgjtCcuTCTBiRa18jXK+j+TcYnPn/fitAU BmVqCSRT6rlRmuDNhzTksMEsEwoSqtmNwvJaNrPuadf941UiHswxyRwSo4Fd/psTeMNf dkXE/wTdHau68LG+hdhXrNl68t+NzvX3sSCkOu8HLG2qC/wUarIz9uzrXoN7S++TBRbc kkmA== X-Gm-Message-State: AOJu0YzxEG8yK+NzRZ1PYPFHeWN+tbgzWzqZ6nSwF79kkWr7UK0kv2Vh qOTsc8AcJSbXTC9XPo4Tdz58Gi+O2hjpfrP8gyXrJMOaWWbm+3VVvv6CLaz8nlPnfBvAyqX9uGb KechK+Mo0ji8NnYgQ4prhA8MJIVcNKXf8 X-Gm-Gg: ASbGncuhOybAeJxFLe4Ii7MKDilUkKPI3Xmvk4Zric3yxdG7DYPBX7cqF9vqeY5DCRc qK+wGdrW3Mcrhv5sjOvqoEU80bjGn0qCs0BGgz+ngbG7ZVCJ/iPGClhY3juWyrFFXKs/GWnc2Yx EL23vWIkHZyaW2BwhYomAxusBBDEuxJ3CAncv4arw3D6BgYnV9Wu4RM3c3rD8KS+Yhyh5EVS/M+ 4SQfLvCe5JyYnRTqilbvOrO+LYy2XzA6gRtjIwglVvF/84qvzq5FDxCgGjq8WWkiyhOYurNCahl suuZ3k1EXWw9TEEhUCbinTMtX+wTRg== X-Google-Smtp-Source: AGHT+IFwgr/vElMkV5zWlwm+fEIr+aQRKYVF6H8sAc3jYLSrLVOwmaapRJCO06+exBAXsX0QYgrzRSO1k7fK X-Received: by 2002:a17:90b:1e43:b0:2ee:acb4:fecd with SMTP id 98e67ed59e1d1-2f9e075c58amr3953371a91.9.1738753267493; Wed, 05 Feb 2025 03:01:07 -0800 (PST) Received: from postal.iol.unh.edu (postal.iol.unh.edu. [132.177.123.84]) by smtp-relay.gmail.com with ESMTPS id 98e67ed59e1d1-2f9e1d63d18sm117325a91.2.2025.02.05.03.01.07 (version=TLS1_2 cipher=ECDHE-ECDSA-AES128-GCM-SHA256 bits=128/128); Wed, 05 Feb 2025 03:01:07 -0800 (PST) X-Relaying-Domain: iol.unh.edu Date: Wed, 05 Feb 2025 03:01:07 -0800 (PST) Message-ID: <67a344f3.170a0220.239d65.4f83SMTPIN_ADDED_MISSING@mx.google.com> Received: from [172.17.0.5] (unknown [172.18.0.217]) by postal.iol.unh.edu (Postfix) with ESMTP id 021206052471; Wed, 5 Feb 2025 06:01:05 -0500 (EST) Subject: |WARNING| [GIT MASTER] c66daa12e76d7b4912cfb7109a761856a7a873ab From: dpdklab@iol.unh.edu To: Test Report Cc: dpdk-test-reports@iol.unh.edu, Xueming Li , Christian Ehrhardt , Kevin Traynor , Luca Boccassi Content-Type: text/plain X-BeenThere: test-report@dpdk.org X-Mailman-Version: 2.1.29 Precedence: list List-Id: automatic DPDK test reports List-Unsubscribe: , List-Archive: List-Post: List-Help: List-Subscribe: , Errors-To: test-report-bounces@dpdk.org _Testing issues_ Branch: tags/v23.11 c66daa12e76d7b4912cfb7109a761856a7a873ab --> testing issues Upstream job id: Windows-Compile-DPDK-Native#26390 Test environment and result as below: +---------------------+-------------------+--------------------+----------------------+------------------+-------------------+-------------------------+ | Environment | dpdk_msvc_compile | dpdk_meson_compile | dpdk_mingw64_compile | dpdk_compile_ovs | dpdk_compile_spdk | dpdk_llvm_clang_compile | +=====================+===================+====================+======================+==================+===================+=========================+ | Windows Server 2022 | PASS | SKIPPED | PASS | SKIPPED | SKIPPED | PASS | +---------------------+-------------------+--------------------+----------------------+------------------+-------------------+-------------------------+ | FreeBSD 13.4 | SKIPPED | PASS | SKIPPED | SKIPPED | SKIPPED | SKIPPED | +---------------------+-------------------+--------------------+----------------------+------------------+-------------------+-------------------------+ | FreeBSD 14.2 | SKIPPED | PASS | SKIPPED | SKIPPED | SKIPPED | SKIPPED | +---------------------+-------------------+--------------------+----------------------+------------------+-------------------+-------------------------+ | CentOS Stream 9 | SKIPPED | PASS | SKIPPED | PASS | PASS | SKIPPED | +---------------------+-------------------+--------------------+----------------------+------------------+-------------------+-------------------------+ | Debian Bullseye | SKIPPED | PASS | SKIPPED | PASS | PASS | SKIPPED | +---------------------+-------------------+--------------------+----------------------+------------------+-------------------+-------------------------+ | Debian 12 | SKIPPED | PASS | SKIPPED | PASS | PASS | SKIPPED | +---------------------+-------------------+--------------------+----------------------+------------------+-------------------+-------------------------+ | Fedora 40 (Clang) | SKIPPED | PASS | SKIPPED | PASS | PASS | SKIPPED | +---------------------+-------------------+--------------------+----------------------+------------------+-------------------+-------------------------+ | Fedora 40 | SKIPPED | PASS | SKIPPED | PASS | PASS | SKIPPED | +---------------------+-------------------+--------------------+----------------------+------------------+-------------------+-------------------------+ | Fedora 41 (Clang) | SKIPPED | PASS | SKIPPED | PASS | PASS | SKIPPED | +---------------------+-------------------+--------------------+----------------------+------------------+-------------------+-------------------------+ | Fedora 41 | SKIPPED | PASS | SKIPPED | PASS | PASS | SKIPPED | +---------------------+-------------------+--------------------+----------------------+------------------+-------------------+-------------------------+ | openSUSE Leap 15 | SKIPPED | PASS | SKIPPED | SKIPPED | SKIPPED | SKIPPED | +---------------------+-------------------+--------------------+----------------------+------------------+-------------------+-------------------------+ | RHEL8 | SKIPPED | PASS | SKIPPED | PASS | SKIPPED | SKIPPED | +---------------------+-------------------+--------------------+----------------------+------------------+-------------------+-------------------------+ | Ubuntu 20.04 | SKIPPED | PASS | SKIPPED | WARN | SKIPPED | SKIPPED | +---------------------+-------------------+--------------------+----------------------+------------------+-------------------+-------------------------+ | Ubuntu 22.04 | SKIPPED | PASS | SKIPPED | PASS | PASS | SKIPPED | +---------------------+-------------------+--------------------+----------------------+------------------+-------------------+-------------------------+ | Ubuntu 24.04 | SKIPPED | PASS | SKIPPED | PASS | PASS | SKIPPED | +---------------------+-------------------+--------------------+----------------------+------------------+-------------------+-------------------------+ | Alpine | SKIPPED | PASS | SKIPPED | PASS | SKIPPED | SKIPPED | +---------------------+-------------------+--------------------+----------------------+------------------+-------------------+-------------------------+ | RHEL9 | SKIPPED | PASS | SKIPPED | PASS | SKIPPED | SKIPPED | +---------------------+-------------------+--------------------+----------------------+------------------+-------------------+-------------------------+ ==== 20 line log output for Ubuntu 20.04 (dpdk_compile_ovs): ==== --- Failed to get log output --- ==== End log output ==== Windows Server 2022 Kernel: 10.0.20348.2031 Compiler: clang 15.0.7, gcc 14.1.0 (MinGW), and MSVC VS 19.39.33521 FreeBSD 13.4 Kernel: 13.4-RELEASE-p1 Compiler: clang 18.1.6 FreeBSD 14.2 Kernel: 14.2-RELEASE Compiler: clang 18.1.6 CentOS Stream 9 Kernel: Depends on container host Compiler: gcc 11.5.0 20240719 (Red Hat 11.5.0-2) Debian Bullseye Kernel: Depends on container host Compiler: gcc (Debian 10.2.1-6) 10.2.1 20210110 Debian 12 Kernel: Depends on container host Compiler: gcc (Debian 12.2.0-14) 12.2.0 Fedora 40 (Clang) Kernel: Depends on container host Compiler: clang 18.1.8 (Fedora 18.1.8-1.fc40) Fedora 40 Kernel: Depends on container host Compiler: gcc 14.2.1 20240912 (Red Hat 14.2.1-3) Fedora 41 (Clang) Kernel: Depends on container host Compiler: clang 19.1.5 (Fedora 19.1.5-1.fc41) Fedora 41 Kernel: Depends on container host Compiler: gcc 14.2.1 20240912 (Red Hat 14.2.1-3) openSUSE Leap 15 Kernel: Depends on container host Compiler: gcc (SUSE Linux) 7.5.0 RHEL8 Kernel: Depends on container host Compiler: gcc 8.5.0 20210514 (Red Hat 8.5.0-22) Ubuntu 20.04 Kernel: Depends on container host Compiler: gcc (Ubuntu 9.4.0-1ubuntu1~20.04.2) 9.4.0 Ubuntu 22.04 Kernel: Depends on container host Compiler: gcc (Ubuntu 11.4.0-1ubuntu1~22.04) 11.4.0 Ubuntu 24.04 Kernel: Depends on container host Compiler: gcc (Ubuntu 13.3.0-6ubuntu2~24.04) 13.3.0 Alpine Kernel: Depends on container host Compiler: gcc (Alpine 14.2.0) 14.2.0 RHEL9 Kernel: Depends on container host Compiler: gcc 11.5.0 20240719 (Red Hat 11.5.0-2) To view detailed results, visit: https://lab.dpdk.org/results/dashboard/tarballs/32343/ UNH-IOL DPDK Community Lab To manage your email subscriptions, visit: https://lab.dpdk.org/results/dashboard/preferences/subscriptions/