From mboxrd@z Thu Jan 1 00:00:00 1970 Return-Path: Received: from mails.dpdk.org (mails.dpdk.org [217.70.189.124]) by inbox.dpdk.org (Postfix) with ESMTP id 6B4504619A for ; Wed, 5 Feb 2025 12:04:52 +0100 (CET) Received: from mails.dpdk.org (localhost [127.0.0.1]) by mails.dpdk.org (Postfix) with ESMTP id 4DEB140261; Wed, 5 Feb 2025 12:04:52 +0100 (CET) Received: from mail-oo1-f99.google.com (mail-oo1-f99.google.com [209.85.161.99]) by mails.dpdk.org (Postfix) with ESMTP id B121B4025F for ; Wed, 5 Feb 2025 12:04:50 +0100 (CET) Received: by mail-oo1-f99.google.com with SMTP id 006d021491bc7-5fa2685c5c0so2576570eaf.3 for ; Wed, 05 Feb 2025 03:04:50 -0800 (PST) DKIM-Signature: v=1; a=rsa-sha256; c=relaxed/relaxed; d=iol.unh.edu; s=unh-iol; t=1738753489; x=1739358289; darn=dpdk.org; h=references:in-reply-to:cc:to:from:subject:message-id:date:from:to :cc:subject:date:message-id:reply-to; bh=1rBDlZgGBfcUlDqWp0m72FNj/JTluAHckq6/sIVtVfk=; b=ebz4qg2dWRVyeUbmR0E4c6S278IzpvRIKibAOESyeFIVKnbaXRdmCLssrsixkEYdAt KOi2vWRfy29uDlhzgH/XVb/dss6KWzJFmNA/kvBO8dFdZDQujd2tcGVPwCQ8cm4yNkF1 7DmnbHxwd+dl2BrQLPqStwt3CrVnUHGVniQww= X-Google-DKIM-Signature: v=1; a=rsa-sha256; c=relaxed/relaxed; d=1e100.net; s=20230601; t=1738753489; x=1739358289; h=references:in-reply-to:cc:to:from:subject:message-id:date :x-gm-message-state:from:to:cc:subject:date:message-id:reply-to; bh=1rBDlZgGBfcUlDqWp0m72FNj/JTluAHckq6/sIVtVfk=; b=nWL2l3hM/3YyUhJwVSS7eXtxRQ9qlOIzEjDAkyqnU8EJHZ4Ui/FS/2ujgORSINXTbW DfcU5+0kQKKoVAugiPVx3+Swn/Im0e1QNaXetCB30Ta7hRcDWhvPH3rbG139PTyKkXlA FSnL/VYo9jwlugc1o+ELiecL5THCa+uU6bIWCN6hrvdURZjx71ShLXqoNCfbCG/AquZA uYhWgCNltZnXjgJre25mSZ3ujA4W3HLeIHECQSf0Hv2hgt6RfhYdGK9/TuPlF2npDr/O JiZKl8j5hG3HkXti0qyiomsVycsApdRJrJy/tMpzf5hvW+lDPrc4YMub2mX7kavjIWqt 0v+A== X-Gm-Message-State: AOJu0YwbE3ytj3bnHUq5tCnfTYn7O6IR44ayq927nV1eRnPpS6EOS9hf REG6hINebBSuthEoN2AiMlNP3NW58bKwfHXolUlJJ+GZe4Dxcww9+AybOO7R9wV/uiw20EZ3s6z S3EnDl4rPXM4OyHoJeppUuNxP14/c4cPBE6ncSsph X-Gm-Gg: ASbGncsn2vcOaKNpu/XYBOGuq1YQTcSRMuqWwKWagLj2K9UGQTFL2GNIhpt5lOZiv2F bAwX32w9GryVx5N7HQlHKZNggTyGOP1usm+6Rh0PXe6uhRedm47vgIl0wtQWM59Q2NH/FRhkHEr pFffDCHsCj90J5BWi4oYmlBXSK95wEryQeB+5UkvMzbjuSM9blYYjF51rPtv1GQj8Kp3Mu3VV11 ibXSOfqVctoo1ewSWML7Q+di90Xj5BFEfEjlzsfwmm5F43G8Y60PiAMmYzqAa/h6b/ibEaOmgqt SVhF1mcoYal+vWOgIPNgV+PH/ah9rA== X-Google-Smtp-Source: AGHT+IHN2VdIOq9gxVBc6RqyNbjckOAa9/Z0LYc5lWmdWIu4TMmET2jmxz6K0U7Jxt4MRNVHyZdqBQ+2pKyh X-Received: by 2002:a05:6870:14d0:b0:29e:526a:eee5 with SMTP id 586e51a60fabf-2b804ed55f0mr1340070fac.1.1738753489595; Wed, 05 Feb 2025 03:04:49 -0800 (PST) Received: from postal.iol.unh.edu (postal.iol.unh.edu. [132.177.123.84]) by smtp-relay.gmail.com with ESMTPS id 586e51a60fabf-2b356196129sm949793fac.10.2025.02.05.03.04.49 (version=TLS1_2 cipher=ECDHE-ECDSA-AES128-GCM-SHA256 bits=128/128); Wed, 05 Feb 2025 03:04:49 -0800 (PST) X-Relaying-Domain: iol.unh.edu Date: Wed, 05 Feb 2025 03:04:49 -0800 (PST) Message-ID: <67a345d1.050a0220.24fa3c.ce0eSMTPIN_ADDED_MISSING@mx.google.com> Received: from [172.17.0.5] (unknown [172.18.0.217]) by postal.iol.unh.edu (Postfix) with ESMTP id 32D946052471; Wed, 5 Feb 2025 06:04:49 -0500 (EST) Subject: |SUCCESS| pw150905-150924 [PATCH] [v21,27/27] config: add -Wvla proj From: dpdklab@iol.unh.edu To: Test Report Cc: dpdk-test-reports@iol.unh.edu In-Reply-To: <1738702638-22363-28-git-send-email-andremue@linux.microsoft.com> References: <1738702638-22363-28-git-send-email-andremue@linux.microsoft.com> Content-Type: text/plain X-BeenThere: test-report@dpdk.org X-Mailman-Version: 2.1.29 Precedence: list List-Id: automatic DPDK test reports List-Unsubscribe: , List-Archive: List-Post: List-Help: List-Subscribe: , Errors-To: test-report-bounces@dpdk.org Test-Label: iol-sample-apps-testing Test-Status: SUCCESS http://dpdk.org/patch/150924 _Testing PASS_ Submitter: Andre Muezerie Date: Tuesday, February 04 2025 20:57:18 DPDK git baseline: Repo:dpdk Branch: master CommitID:dc4ce7c2538b713e16887eb598da309bc7b4d528 150905-150924 --> testing pass Upstream job id: ACVP-FIPS-testing#8783 Test environment and result as below: +--------------------+----------------------+----------------------+ | Environment | compressdev_zlib_pmd | dpdk_fips_validation | +====================+======================+======================+ | Ubuntu 22.04 (ARM) | PASS | SKIPPED | +--------------------+----------------------+----------------------+ | Ubuntu 22.04 | PASS | SKIPPED | +--------------------+----------------------+----------------------+ | Ubuntu 20.04 | SKIPPED | PASS | +--------------------+----------------------+----------------------+ Ubuntu 22.04 (ARM) Kernel: 5.15.0-97-generic Compiler: gcc gcc (Ubuntu 11.4.0-1ubuntu1~22.04) 11.4.0 Ubuntu 22.04 Kernel: 5.15.0-100-generic Compiler: gcc gcc (Ubuntu 11.4.0-1ubuntu1~22.04) 11.4.0 Ubuntu 20.04 Kernel: Depends on container host Compiler: gcc (Ubuntu 9.4.0-1ubuntu1~20.04.2) 9.4.0 To view detailed results, visit: https://lab.dpdk.org/results/dashboard/patchsets/32494/ UNH-IOL DPDK Community Lab To manage your email subscriptions, visit: https://lab.dpdk.org/results/dashboard/preferences/subscriptions/