From mboxrd@z Thu Jan 1 00:00:00 1970 Return-Path: Received: from mails.dpdk.org (mails.dpdk.org [217.70.189.124]) by inbox.dpdk.org (Postfix) with ESMTP id 7AED84619A for ; Wed, 5 Feb 2025 12:06:08 +0100 (CET) Received: from mails.dpdk.org (localhost [127.0.0.1]) by mails.dpdk.org (Postfix) with ESMTP id 77E4A40261; Wed, 5 Feb 2025 12:06:08 +0100 (CET) Received: from mail-pl1-f226.google.com (mail-pl1-f226.google.com [209.85.214.226]) by mails.dpdk.org (Postfix) with ESMTP id 7833B4025F for ; Wed, 5 Feb 2025 12:06:06 +0100 (CET) Received: by mail-pl1-f226.google.com with SMTP id d9443c01a7336-21f01fe1ce8so25169755ad.2 for ; Wed, 05 Feb 2025 03:06:06 -0800 (PST) DKIM-Signature: v=1; a=rsa-sha256; c=relaxed/relaxed; d=iol.unh.edu; s=unh-iol; t=1738753565; x=1739358365; darn=dpdk.org; h=references:in-reply-to:cc:to:from:subject:message-id:date:from:to :cc:subject:date:message-id:reply-to; bh=4WlunHK6y/QRYtCc2O9ASEJAptDqZ7nB8vTDmYLm3vQ=; b=Q4G+iUw0JCpqk2hHBCCH4tdmLBdDwDKZvPpALr6xnVOg0Gu/z1cRjtPhMdqCSNQR3R M0RhVIR6f6p9rreTiOeB9OjfV3D7B5M8Rvt7sMkxfnuhvjRXHNF8/2rOT9ewGW+vz9QH 4z9SvTh6olEmcIjRC+p+W+mPLXdxyWUSwZ4+w= X-Google-DKIM-Signature: v=1; a=rsa-sha256; c=relaxed/relaxed; d=1e100.net; s=20230601; t=1738753565; x=1739358365; h=references:in-reply-to:cc:to:from:subject:message-id:date :x-gm-message-state:from:to:cc:subject:date:message-id:reply-to; bh=4WlunHK6y/QRYtCc2O9ASEJAptDqZ7nB8vTDmYLm3vQ=; b=F0LuS+JhTbMvzcEq3rYILs7PBK2RN4bL/Rxd7gsuQCZ24PWf+WAvDZVkuO4m7JXKK0 wzVMsvKn2ssVEcQbtNrfWWyMoOkaBAeJ7/R/NpKcjZGvxEWUe1PkkNuuXwIr1OicNUsc c5T4Ka04DedKmA6QNe9RAvynCcTibQGPXhl+qc6NoixHGXMK5IQYzDnQutZYk4xGuTPn CmkscigETwRkzPmnHiLiOT3qQYdwfqmjlUrWbzX6pEc3gQo2wq0hVhfpR7TkrmURw0rt IKAO9E4wLUYNhRBE/cXtUOzY261Md3mINjBnSdkcFM070hLgUZRvhGYsSTu9vXFD2Ljt sdkg== X-Gm-Message-State: AOJu0YxKdoroN+VWSsATB0JLYLztbo/gBnFEZTNN/NhHOSCOKdiLcmvw hScUsI+twUqtt2pLQCh2ahI3BzhD5tHaCgWJ15eVtdCiCWwf9tABDztBRJDjrishflHPdKp1J/c sK80IbY8X49e3d/ikrukLOizHbtE526IC1ZSyrmlL X-Gm-Gg: ASbGncvPRfiuR1gDM4K/Rn8I5lMh8wMZ4cGZXPG518utMuS5TWk0zWSI6k130lSg2Nm QQlVROEuK+iKEfgFnO8HyTMRaP72vOsO3rercO2Svn2HqtczE17hb1iKTdwfRNmjK5AJzINug1x LbEDa6vvZo5nWOkjlWUFWtJ0hx6q1c/ruwi7gliCNbWjWIXTmBoh3TtgL4GBl/X92wmgpqDqKwo DZGk10XDFlamlKR+iMswPZfSOpyo1lL5Nb3XvWyVqujmn8D2MTiiq86zsK0JYToPDdDgI1UZQqr CGk9xIn3CzeMNwmpaZZZwaCqQghSPg== X-Google-Smtp-Source: AGHT+IHZrvti2NKMF5r9Is5pwH65wOBrtl3keRB3GreJeBkk0I/F6AqCpnOxwoEWO4c9DkQDkhl6LnidNWo9 X-Received: by 2002:a17:902:d552:b0:21f:f29:a421 with SMTP id d9443c01a7336-21f17e27184mr45019535ad.10.1738753565449; Wed, 05 Feb 2025 03:06:05 -0800 (PST) Received: from postal.iol.unh.edu (postal.iol.unh.edu. [132.177.123.84]) by smtp-relay.gmail.com with ESMTPS id 98e67ed59e1d1-2f9e1d638e2sm123850a91.3.2025.02.05.03.06.05 (version=TLS1_2 cipher=ECDHE-ECDSA-AES128-GCM-SHA256 bits=128/128); Wed, 05 Feb 2025 03:06:05 -0800 (PST) X-Relaying-Domain: iol.unh.edu Date: Wed, 05 Feb 2025 03:06:05 -0800 (PST) Message-ID: <67a3461d.170a0220.4fc47.5a75SMTPIN_ADDED_MISSING@mx.google.com> Received: from [172.17.0.6] (unknown [172.18.0.217]) by postal.iol.unh.edu (Postfix) with ESMTP id 94DC66052471; Wed, 5 Feb 2025 06:06:04 -0500 (EST) Subject: |WARNING| pw150507-150521 [PATCH] [v5,16/16] doc: add release note a From: dpdklab@iol.unh.edu To: Test Report Cc: dpdk-test-reports@iol.unh.edu In-Reply-To: <20250125021305.76485-17-stephen@networkplumber.org> References: <20250125021305.76485-17-stephen@networkplumber.org> Content-Type: text/plain X-BeenThere: test-report@dpdk.org X-Mailman-Version: 2.1.29 Precedence: list List-Id: automatic DPDK test reports List-Unsubscribe: , List-Archive: List-Post: List-Help: List-Subscribe: , Errors-To: test-report-bounces@dpdk.org Test-Label: iol-compile-amd64-testing Test-Status: WARNING http://dpdk.org/patch/150521 _Testing issues_ Submitter: Stephen Hemminger Date: Saturday, January 25 2025 02:11:29 DPDK git baseline: Repo:dpdk Branch: master CommitID:5b856206c74bbcf19e12cafa15382a7e15b0a1b5 150507-150521 --> testing issues Upstream job id: Windows-Compile-DPDK-Native#26391 Test environment and result as below: +---------------------+-------------------+--------------------+----------------------+------------------+-------------------+-------------------------+ | Environment | dpdk_msvc_compile | dpdk_meson_compile | dpdk_mingw64_compile | dpdk_compile_ovs | dpdk_compile_spdk | dpdk_llvm_clang_compile | +=====================+===================+====================+======================+==================+===================+=========================+ | Windows Server 2022 | PASS | SKIPPED | PASS | SKIPPED | SKIPPED | PASS | +---------------------+-------------------+--------------------+----------------------+------------------+-------------------+-------------------------+ | FreeBSD 13.4 | SKIPPED | PASS | SKIPPED | SKIPPED | SKIPPED | SKIPPED | +---------------------+-------------------+--------------------+----------------------+------------------+-------------------+-------------------------+ | FreeBSD 14.2 | SKIPPED | PASS | SKIPPED | SKIPPED | SKIPPED | SKIPPED | +---------------------+-------------------+--------------------+----------------------+------------------+-------------------+-------------------------+ | CentOS Stream 9 | SKIPPED | PASS | SKIPPED | PASS | PASS | SKIPPED | +---------------------+-------------------+--------------------+----------------------+------------------+-------------------+-------------------------+ | Debian Bullseye | SKIPPED | PASS | SKIPPED | PASS | PASS | SKIPPED | +---------------------+-------------------+--------------------+----------------------+------------------+-------------------+-------------------------+ | Debian 12 | SKIPPED | PASS | SKIPPED | PASS | PASS | SKIPPED | +---------------------+-------------------+--------------------+----------------------+------------------+-------------------+-------------------------+ | Fedora 40 (Clang) | SKIPPED | PASS | SKIPPED | PASS | PASS | SKIPPED | +---------------------+-------------------+--------------------+----------------------+------------------+-------------------+-------------------------+ | Fedora 40 | SKIPPED | PASS | SKIPPED | PASS | PASS | SKIPPED | +---------------------+-------------------+--------------------+----------------------+------------------+-------------------+-------------------------+ | Fedora 41 (Clang) | SKIPPED | PASS | SKIPPED | PASS | PASS | SKIPPED | +---------------------+-------------------+--------------------+----------------------+------------------+-------------------+-------------------------+ | Fedora 41 | SKIPPED | PASS | SKIPPED | PASS | PASS | SKIPPED | +---------------------+-------------------+--------------------+----------------------+------------------+-------------------+-------------------------+ | openSUSE Leap 15 | SKIPPED | PASS | SKIPPED | SKIPPED | SKIPPED | SKIPPED | +---------------------+-------------------+--------------------+----------------------+------------------+-------------------+-------------------------+ | RHEL8 | SKIPPED | PASS | SKIPPED | PASS | SKIPPED | SKIPPED | +---------------------+-------------------+--------------------+----------------------+------------------+-------------------+-------------------------+ | RHEL9 | SKIPPED | PASS | SKIPPED | PASS | SKIPPED | SKIPPED | +---------------------+-------------------+--------------------+----------------------+------------------+-------------------+-------------------------+ | Ubuntu 20.04 | SKIPPED | PASS | SKIPPED | WARN | SKIPPED | SKIPPED | +---------------------+-------------------+--------------------+----------------------+------------------+-------------------+-------------------------+ | Ubuntu 22.04 | SKIPPED | PASS | SKIPPED | PASS | PASS | SKIPPED | +---------------------+-------------------+--------------------+----------------------+------------------+-------------------+-------------------------+ | Ubuntu 24.04 | SKIPPED | PASS | SKIPPED | PASS | PASS | SKIPPED | +---------------------+-------------------+--------------------+----------------------+------------------+-------------------+-------------------------+ | Alpine | SKIPPED | PASS | SKIPPED | PASS | SKIPPED | SKIPPED | +---------------------+-------------------+--------------------+----------------------+------------------+-------------------+-------------------------+ ==== 20 line log output for Ubuntu 20.04 (dpdk_compile_ovs): ==== --- Failed to get log output --- ==== End log output ==== Windows Server 2022 Kernel: 10.0.20348.2031 Compiler: clang 15.0.7, gcc 14.1.0 (MinGW), and MSVC VS 19.39.33521 FreeBSD 13.4 Kernel: 13.4-RELEASE-p1 Compiler: clang 18.1.6 FreeBSD 14.2 Kernel: 14.2-RELEASE Compiler: clang 18.1.6 CentOS Stream 9 Kernel: Depends on container host Compiler: gcc 11.5.0 20240719 (Red Hat 11.5.0-2) Debian Bullseye Kernel: Depends on container host Compiler: gcc (Debian 10.2.1-6) 10.2.1 20210110 Debian 12 Kernel: Depends on container host Compiler: gcc (Debian 12.2.0-14) 12.2.0 Fedora 40 (Clang) Kernel: Depends on container host Compiler: clang 18.1.8 (Fedora 18.1.8-1.fc40) Fedora 40 Kernel: Depends on container host Compiler: gcc 14.2.1 20240912 (Red Hat 14.2.1-3) Fedora 41 (Clang) Kernel: Depends on container host Compiler: clang 19.1.5 (Fedora 19.1.5-1.fc41) Fedora 41 Kernel: Depends on container host Compiler: gcc 14.2.1 20240912 (Red Hat 14.2.1-3) openSUSE Leap 15 Kernel: Depends on container host Compiler: gcc (SUSE Linux) 7.5.0 RHEL8 Kernel: Depends on container host Compiler: gcc 8.5.0 20210514 (Red Hat 8.5.0-22) RHEL9 Kernel: Depends on container host Compiler: gcc 11.5.0 20240719 (Red Hat 11.5.0-2) Ubuntu 20.04 Kernel: Depends on container host Compiler: gcc (Ubuntu 9.4.0-1ubuntu1~20.04.2) 9.4.0 Ubuntu 22.04 Kernel: Depends on container host Compiler: gcc (Ubuntu 11.4.0-1ubuntu1~22.04) 11.4.0 Ubuntu 24.04 Kernel: Depends on container host Compiler: gcc (Ubuntu 13.3.0-6ubuntu2~24.04) 13.3.0 Alpine Kernel: Depends on container host Compiler: gcc (Alpine 14.2.0) 14.2.0 To view detailed results, visit: https://lab.dpdk.org/results/dashboard/patchsets/32426/ UNH-IOL DPDK Community Lab To manage your email subscriptions, visit: https://lab.dpdk.org/results/dashboard/preferences/subscriptions/