From mboxrd@z Thu Jan 1 00:00:00 1970 Return-Path: Received: from mails.dpdk.org (mails.dpdk.org [217.70.189.124]) by inbox.dpdk.org (Postfix) with ESMTP id 1C5454619A for ; Wed, 5 Feb 2025 12:11:31 +0100 (CET) Received: from mails.dpdk.org (localhost [127.0.0.1]) by mails.dpdk.org (Postfix) with ESMTP id 05FFF40261; Wed, 5 Feb 2025 12:11:31 +0100 (CET) Received: from mail-qv1-f97.google.com (mail-qv1-f97.google.com [209.85.219.97]) by mails.dpdk.org (Postfix) with ESMTP id 6B90D4025F for ; Wed, 5 Feb 2025 12:11:30 +0100 (CET) Received: by mail-qv1-f97.google.com with SMTP id 6a1803df08f44-6e1a41935c3so89356766d6.3 for ; Wed, 05 Feb 2025 03:11:30 -0800 (PST) DKIM-Signature: v=1; a=rsa-sha256; c=relaxed/relaxed; d=iol.unh.edu; s=unh-iol; t=1738753889; x=1739358689; darn=dpdk.org; h=references:in-reply-to:cc:to:from:subject:message-id:date:from:to :cc:subject:date:message-id:reply-to; bh=TZZF3MuKrhqdreYpood3rub39YeWSY51soLurI4xRJM=; b=PaL85y54F2DUxXNg7YwrbgWyV7Rc7LJaAEYwCVSUQ6de5r79rt8w+vWOJCcjEIAPgY Eu6WwWGmoq/7PvpTKJGbygiycUwKlHJCm4fP2LpL6iGXjuhbIxn6e3cWGbRBd5F6ns4M AjtpQ+mLgxezlmHa4fBR/OTOTXw5mVm4SgDhk= X-Google-DKIM-Signature: v=1; a=rsa-sha256; c=relaxed/relaxed; d=1e100.net; s=20230601; t=1738753889; x=1739358689; h=references:in-reply-to:cc:to:from:subject:message-id:date :x-gm-message-state:from:to:cc:subject:date:message-id:reply-to; bh=TZZF3MuKrhqdreYpood3rub39YeWSY51soLurI4xRJM=; b=HkuuLCFIbw+T3/iEhYYoum4xfPBsN/5pp5C8G0brxUsbacFCy3amhxQl2Tw2G+H8B2 OjqQ5Ej6JvJq0B+nxkNhX5ZB+qkxU6DusvQtxbKn74JYG7pibheJFU6lqvmF9yv8F20I mvlDrbnHULikATXc2iCqqktdMShKb2t62ytVGweS/WGcCQxNonxUdCb6bq1NnF0iR0ly Kr7+4AfHE9ycpRzd88/yORNLIOYdCh0n5gZ6tSuYoUwxIG2cMild5BL2HGn8EB5NeQDJ QlhsPXsLZGVCCotFd5LIRjWNydRUaT03mCw6MQYdVk7cl9PRdXjZD1MlX6QFbtC0L7r9 WCag== X-Gm-Message-State: AOJu0YzNrRFPLYcRAoAc27qli59eVnPSl8AW7Hwx/5W/OzV0+w0UzqeK tOddPhaFKYcsB7q9lSTBS/nK6/3Yd3ENkIW5vB1tmWnKu2+55MMUPMENYXHuZMHTxXPfmttCFO7 UkOPwXancg8o0L9jccQcTbh7FD0o3p7kvjWQ0kqDUAAPInzWtHQ2afvM4 X-Gm-Gg: ASbGncvQS1QJeNAlekz7mh6ud+l7wSO0rxBMZMbib7UXsABdscoIVkojIUd92KWlucl Ti/0v0QerZ2v89S1obb1kQUSeUGhWbUcSBHHkFBWtaAxdJuhaE5VEhIFqx4S9q2GvVzl+khI3YA 5NP5dnjdME7FCttGci2s9OqdwgytXS1OyAE6vyl9J4W/QfvlzdO6roUf/fGw7G/6kcHaTxqp7U6 3ODpP7JQJDAgCJUIiQKBAHKbU63LBzUweOEIsKiIcg3dY0MSrH6C/O2S9oLpZuT+UJUKallhWxP u+U4Wzv1dqJxqcSxSEGHWeReop/86Jl3VdgLaruyHA== X-Google-Smtp-Source: AGHT+IFTjomK5yaRi2sVv73YAPmNpWZ6Qnwa9Gjw79XmpZI2RVtxDcYP94+sv6+3cVnbn4tF09f7GYHBgpwb X-Received: by 2002:ad4:4ee8:0:b0:6d4:18ce:117f with SMTP id 6a1803df08f44-6e42fbba22dmr23824606d6.20.1738753889741; Wed, 05 Feb 2025 03:11:29 -0800 (PST) Received: from postal.iol.unh.edu (postal.iol.unh.edu. [2606:4100:3880:1234::84]) by smtp-relay.gmail.com with ESMTPS id 6a1803df08f44-6e254965f56sm9988076d6.67.2025.02.05.03.11.29 (version=TLS1_2 cipher=ECDHE-ECDSA-AES128-GCM-SHA256 bits=128/128); Wed, 05 Feb 2025 03:11:29 -0800 (PST) X-Relaying-Domain: iol.unh.edu Date: Wed, 05 Feb 2025 03:11:29 -0800 (PST) Message-ID: <67a34761.050a0220.39cb9b.f9e9SMTPIN_ADDED_MISSING@mx.google.com> Received: from [172.17.0.5] (unknown [172.18.0.217]) by postal.iol.unh.edu (Postfix) with ESMTP id 6E0D36052471; Wed, 5 Feb 2025 06:11:29 -0500 (EST) Subject: |WARNING| pw150506 [PATCH] dts: automatically bring up link on inter From: dpdklab@iol.unh.edu To: Test Report Cc: dpdk-test-reports@iol.unh.edu In-Reply-To: <20250125001026.681660-1-probb@iol.unh.edu> References: <20250125001026.681660-1-probb@iol.unh.edu> Content-Type: text/plain X-BeenThere: test-report@dpdk.org X-Mailman-Version: 2.1.29 Precedence: list List-Id: automatic DPDK test reports List-Unsubscribe: , List-Archive: List-Post: List-Help: List-Subscribe: , Errors-To: test-report-bounces@dpdk.org Test-Label: iol-compile-amd64-testing Test-Status: WARNING http://dpdk.org/patch/150506 _Testing issues_ Submitter: Patrick Robb Date: Saturday, January 25 2025 00:10:26 DPDK git baseline: Repo:dpdk Branch: master CommitID:5b856206c74bbcf19e12cafa15382a7e15b0a1b5 150506 --> testing issues Upstream job id: Windows-Compile-DPDK-Native#26392 Test environment and result as below: +---------------------+--------------------+-------------------+----------------------+------------------+-------------------+-------------------------+ | Environment | dpdk_meson_compile | dpdk_msvc_compile | dpdk_mingw64_compile | dpdk_compile_ovs | dpdk_compile_spdk | dpdk_llvm_clang_compile | +=====================+====================+===================+======================+==================+===================+=========================+ | FreeBSD 13.4 | PASS | SKIPPED | SKIPPED | SKIPPED | SKIPPED | SKIPPED | +---------------------+--------------------+-------------------+----------------------+------------------+-------------------+-------------------------+ | FreeBSD 14.2 | PASS | SKIPPED | SKIPPED | SKIPPED | SKIPPED | SKIPPED | +---------------------+--------------------+-------------------+----------------------+------------------+-------------------+-------------------------+ | CentOS Stream 9 | PASS | SKIPPED | SKIPPED | PASS | PASS | SKIPPED | +---------------------+--------------------+-------------------+----------------------+------------------+-------------------+-------------------------+ | Debian Bullseye | PASS | SKIPPED | SKIPPED | PASS | PASS | SKIPPED | +---------------------+--------------------+-------------------+----------------------+------------------+-------------------+-------------------------+ | Debian 12 | PASS | SKIPPED | SKIPPED | PASS | PASS | SKIPPED | +---------------------+--------------------+-------------------+----------------------+------------------+-------------------+-------------------------+ | Fedora 40 (Clang) | PASS | SKIPPED | SKIPPED | PASS | PASS | SKIPPED | +---------------------+--------------------+-------------------+----------------------+------------------+-------------------+-------------------------+ | Fedora 40 | PASS | SKIPPED | SKIPPED | PASS | PASS | SKIPPED | +---------------------+--------------------+-------------------+----------------------+------------------+-------------------+-------------------------+ | Fedora 41 (Clang) | PASS | SKIPPED | SKIPPED | PASS | PASS | SKIPPED | +---------------------+--------------------+-------------------+----------------------+------------------+-------------------+-------------------------+ | Fedora 41 | PASS | SKIPPED | SKIPPED | PASS | PASS | SKIPPED | +---------------------+--------------------+-------------------+----------------------+------------------+-------------------+-------------------------+ | openSUSE Leap 15 | PASS | SKIPPED | SKIPPED | SKIPPED | SKIPPED | SKIPPED | +---------------------+--------------------+-------------------+----------------------+------------------+-------------------+-------------------------+ | RHEL8 | PASS | SKIPPED | SKIPPED | PASS | SKIPPED | SKIPPED | +---------------------+--------------------+-------------------+----------------------+------------------+-------------------+-------------------------+ | RHEL9 | PASS | SKIPPED | SKIPPED | PASS | SKIPPED | SKIPPED | +---------------------+--------------------+-------------------+----------------------+------------------+-------------------+-------------------------+ | Ubuntu 20.04 | PASS | SKIPPED | SKIPPED | WARN | SKIPPED | SKIPPED | +---------------------+--------------------+-------------------+----------------------+------------------+-------------------+-------------------------+ | Ubuntu 22.04 | PASS | SKIPPED | SKIPPED | PASS | PASS | SKIPPED | +---------------------+--------------------+-------------------+----------------------+------------------+-------------------+-------------------------+ | Ubuntu 24.04 | PASS | SKIPPED | SKIPPED | PASS | PASS | SKIPPED | +---------------------+--------------------+-------------------+----------------------+------------------+-------------------+-------------------------+ | Alpine | PASS | SKIPPED | SKIPPED | PASS | SKIPPED | SKIPPED | +---------------------+--------------------+-------------------+----------------------+------------------+-------------------+-------------------------+ | Windows Server 2022 | SKIPPED | PASS | PASS | SKIPPED | SKIPPED | PASS | +---------------------+--------------------+-------------------+----------------------+------------------+-------------------+-------------------------+ ==== 20 line log output for Ubuntu 20.04 (dpdk_compile_ovs): ==== --- Failed to get log output --- ==== End log output ==== FreeBSD 13.4 Kernel: 13.4-RELEASE-p1 Compiler: clang 18.1.6 FreeBSD 14.2 Kernel: 14.2-RELEASE Compiler: clang 18.1.6 CentOS Stream 9 Kernel: Depends on container host Compiler: gcc 11.5.0 20240719 (Red Hat 11.5.0-2) Debian Bullseye Kernel: Depends on container host Compiler: gcc (Debian 10.2.1-6) 10.2.1 20210110 Debian 12 Kernel: Depends on container host Compiler: gcc (Debian 12.2.0-14) 12.2.0 Fedora 40 (Clang) Kernel: Depends on container host Compiler: clang 18.1.8 (Fedora 18.1.8-1.fc40) Fedora 40 Kernel: Depends on container host Compiler: gcc 14.2.1 20240912 (Red Hat 14.2.1-3) Fedora 41 (Clang) Kernel: Depends on container host Compiler: clang 19.1.5 (Fedora 19.1.5-1.fc41) Fedora 41 Kernel: Depends on container host Compiler: gcc 14.2.1 20240912 (Red Hat 14.2.1-3) openSUSE Leap 15 Kernel: Depends on container host Compiler: gcc (SUSE Linux) 7.5.0 RHEL8 Kernel: Depends on container host Compiler: gcc 8.5.0 20210514 (Red Hat 8.5.0-22) RHEL9 Kernel: Depends on container host Compiler: gcc 11.5.0 20240719 (Red Hat 11.5.0-2) Ubuntu 20.04 Kernel: Depends on container host Compiler: gcc (Ubuntu 9.4.0-1ubuntu1~20.04.2) 9.4.0 Ubuntu 22.04 Kernel: Depends on container host Compiler: gcc (Ubuntu 11.4.0-1ubuntu1~22.04) 11.4.0 Ubuntu 24.04 Kernel: Depends on container host Compiler: gcc (Ubuntu 13.3.0-6ubuntu2~24.04) 13.3.0 Alpine Kernel: Depends on container host Compiler: gcc (Alpine 14.2.0) 14.2.0 Windows Server 2022 Kernel: 10.0.20348.2031 Compiler: clang 15.0.7, gcc 14.1.0 (MinGW), and MSVC VS 19.39.33521 To view detailed results, visit: https://lab.dpdk.org/results/dashboard/patchsets/32425/ UNH-IOL DPDK Community Lab To manage your email subscriptions, visit: https://lab.dpdk.org/results/dashboard/preferences/subscriptions/