From mboxrd@z Thu Jan 1 00:00:00 1970 Return-Path: Received: from mails.dpdk.org (mails.dpdk.org [217.70.189.124]) by inbox.dpdk.org (Postfix) with ESMTP id CC6104619A for ; Wed, 5 Feb 2025 12:17:00 +0100 (CET) Received: from mails.dpdk.org (localhost [127.0.0.1]) by mails.dpdk.org (Postfix) with ESMTP id A7E0440261; Wed, 5 Feb 2025 12:17:00 +0100 (CET) Received: from mail-qv1-f97.google.com (mail-qv1-f97.google.com [209.85.219.97]) by mails.dpdk.org (Postfix) with ESMTP id F2A924025F for ; Wed, 5 Feb 2025 12:16:59 +0100 (CET) Received: by mail-qv1-f97.google.com with SMTP id 6a1803df08f44-6d92e457230so61778666d6.1 for ; Wed, 05 Feb 2025 03:16:59 -0800 (PST) DKIM-Signature: v=1; a=rsa-sha256; c=relaxed/relaxed; d=iol.unh.edu; s=unh-iol; t=1738754219; x=1739359019; darn=dpdk.org; h=references:in-reply-to:cc:to:from:subject:message-id:date:from:to :cc:subject:date:message-id:reply-to; bh=5StDNYG4nvV0yRsrG3RT6IgwX0+Ei+5Is7k9883rHkk=; b=F0m/JAne9KLFYxDqPaMkPSdHoMHcmZ53FIZFmtgVH6unhZzyjuJ+Bqg8jWpKWeyA4I A8h5Ilm4FYoV+07kO/wmMtk58ICIkshy01p1U9b0g1OvGaSUvjpNX2E9Bx1tTPS4ICFt /zibw4PBkipkYSaxoLCttUmzEYw2abxJ8vlm4= X-Google-DKIM-Signature: v=1; a=rsa-sha256; c=relaxed/relaxed; d=1e100.net; s=20230601; t=1738754219; x=1739359019; h=references:in-reply-to:cc:to:from:subject:message-id:date :x-gm-message-state:from:to:cc:subject:date:message-id:reply-to; bh=5StDNYG4nvV0yRsrG3RT6IgwX0+Ei+5Is7k9883rHkk=; b=D6YvBi12HCVqIl4Davpjs9OEhQc05Kghos4iWVdVJLMJqK1/zrPx4aCZadggfJkkTw UbQ8sDWX6xw5hHBQvnXNQBZGaCN1jb3ig4Ml2pIq7O4FEJHGdSJl4Wjtr90fzR1ZjBmj IQz4UWUrZSWVBT3L5dg0wscTt/YuVrA8fuLBiK9PKcfi/7mOPWXv+rjNCerjcYh9uzRf q/sMY62aUxMpX+8qVzBZWTws0uv3qYfZZxotkUtyhSV5s1nRpS/QkJZ/2Xrr1XQ3/a2m jBBjpfAMctZWNczQ2i7ulRWxdZLIu8OcYFKyvqp/1IGBjhqxCMvQblcGEr13Z6psW9Cb tX2g== X-Gm-Message-State: AOJu0YxWIA9tLQUVVfLokna5RD7W1TGOhaRkhnqGSEABe6h4A6LYB2eo RCQT9cSCPBJIEObmZYWIgsB3gfEmRYQ5yP3C5zjnxX70Jzq27ySsXqzb4wIhxTo0S36x3wtYlDK nopl/i92fa+UdYgl3sTf1SDA0p68LDi629DAhZyeq X-Gm-Gg: ASbGnctNP5umTVGZeJTrn2MbttAtSUhukUZYo+Z48p/fuFAysPArq1l4PZVeRihYs71 ZHz+phW7R5nXwAKF2h6axuWdd2EatWVddVWMQHQ9tGT69FMTmWVi98VO0H4Md/pQaqUVG3n/5pd pfb6uBpYvBpgsJx+Sn1NjmmZqsrt3wWcVjwB8KaqitJ5aUFiclKF2FmsLSN8TuKrFoSgf9SYcm2 HcpTOITNVKVnqtKvGmE+9TV0nU4i0JR/yEHiVOMfhqYLT4m0ZURmX9Kj3yZSTRaVMvZKJ71F8in Z+DwOmrCgPnKcCx5+iEG6qqWGGZO0A== X-Google-Smtp-Source: AGHT+IGckzvrSw+cPnRHBaF1pN7QZw9yt8hcvTNjnh75ZbGrt0lCZwbfKQVR1SvaBlor+4sdvEsJ9aYvbjWc X-Received: by 2002:ad4:5d66:0:b0:6d8:7fe2:8b31 with SMTP id 6a1803df08f44-6e42fbc144dmr31075776d6.23.1738754219284; Wed, 05 Feb 2025 03:16:59 -0800 (PST) Received: from postal.iol.unh.edu (postal.iol.unh.edu. [132.177.123.84]) by smtp-relay.gmail.com with ESMTPS id 6a1803df08f44-6e25495020csm9246986d6.58.2025.02.05.03.16.59 (version=TLS1_2 cipher=ECDHE-ECDSA-AES128-GCM-SHA256 bits=128/128); Wed, 05 Feb 2025 03:16:59 -0800 (PST) X-Relaying-Domain: iol.unh.edu Date: Wed, 05 Feb 2025 03:16:59 -0800 (PST) Message-ID: <67a348ab.050a0220.305b55.a537SMTPIN_ADDED_MISSING@mx.google.com> Received: from [172.17.0.5] (unknown [172.18.0.217]) by postal.iol.unh.edu (Postfix) with ESMTP id E9D826052471; Wed, 5 Feb 2025 06:16:58 -0500 (EST) Subject: |WARNING| pw150483 [PATCH] buildtools/check-git-log: print expected From: dpdklab@iol.unh.edu To: Test Report Cc: dpdk-test-reports@iol.unh.edu In-Reply-To: <20250124172434.1422621-1-bruce.richardson@intel.com> References: <20250124172434.1422621-1-bruce.richardson@intel.com> Content-Type: text/plain X-BeenThere: test-report@dpdk.org X-Mailman-Version: 2.1.29 Precedence: list List-Id: automatic DPDK test reports List-Unsubscribe: , List-Archive: List-Post: List-Help: List-Subscribe: , Errors-To: test-report-bounces@dpdk.org Test-Label: iol-compile-amd64-testing Test-Status: WARNING http://dpdk.org/patch/150483 _Testing issues_ Submitter: Bruce Richardson Date: Friday, January 24 2025 17:24:34 DPDK git baseline: Repo:dpdk Branch: master CommitID:5b856206c74bbcf19e12cafa15382a7e15b0a1b5 150483 --> testing issues Upstream job id: Windows-Compile-DPDK-Native#26393 Test environment and result as below: +---------------------+--------------------+-------------------+------------------+-------------------+----------------------+-------------------------+ | Environment | dpdk_meson_compile | dpdk_msvc_compile | dpdk_compile_ovs | dpdk_compile_spdk | dpdk_mingw64_compile | dpdk_llvm_clang_compile | +=====================+====================+===================+==================+===================+======================+=========================+ | FreeBSD 13.4 | PASS | SKIPPED | SKIPPED | SKIPPED | SKIPPED | SKIPPED | +---------------------+--------------------+-------------------+------------------+-------------------+----------------------+-------------------------+ | FreeBSD 14.2 | PASS | SKIPPED | SKIPPED | SKIPPED | SKIPPED | SKIPPED | +---------------------+--------------------+-------------------+------------------+-------------------+----------------------+-------------------------+ | CentOS Stream 9 | PASS | SKIPPED | PASS | PASS | SKIPPED | SKIPPED | +---------------------+--------------------+-------------------+------------------+-------------------+----------------------+-------------------------+ | Debian Bullseye | PASS | SKIPPED | PASS | PASS | SKIPPED | SKIPPED | +---------------------+--------------------+-------------------+------------------+-------------------+----------------------+-------------------------+ | Debian 12 | PASS | SKIPPED | PASS | PASS | SKIPPED | SKIPPED | +---------------------+--------------------+-------------------+------------------+-------------------+----------------------+-------------------------+ | Fedora 40 (Clang) | PASS | SKIPPED | PASS | PASS | SKIPPED | SKIPPED | +---------------------+--------------------+-------------------+------------------+-------------------+----------------------+-------------------------+ | Fedora 40 | PASS | SKIPPED | PASS | PASS | SKIPPED | SKIPPED | +---------------------+--------------------+-------------------+------------------+-------------------+----------------------+-------------------------+ | Fedora 41 (Clang) | PASS | SKIPPED | PASS | PASS | SKIPPED | SKIPPED | +---------------------+--------------------+-------------------+------------------+-------------------+----------------------+-------------------------+ | Fedora 41 | PASS | SKIPPED | PASS | PASS | SKIPPED | SKIPPED | +---------------------+--------------------+-------------------+------------------+-------------------+----------------------+-------------------------+ | openSUSE Leap 15 | PASS | SKIPPED | SKIPPED | SKIPPED | SKIPPED | SKIPPED | +---------------------+--------------------+-------------------+------------------+-------------------+----------------------+-------------------------+ | RHEL8 | PASS | SKIPPED | PASS | SKIPPED | SKIPPED | SKIPPED | +---------------------+--------------------+-------------------+------------------+-------------------+----------------------+-------------------------+ | RHEL9 | PASS | SKIPPED | PASS | SKIPPED | SKIPPED | SKIPPED | +---------------------+--------------------+-------------------+------------------+-------------------+----------------------+-------------------------+ | Ubuntu 22.04 | PASS | SKIPPED | PASS | PASS | SKIPPED | SKIPPED | +---------------------+--------------------+-------------------+------------------+-------------------+----------------------+-------------------------+ | Ubuntu 24.04 | PASS | SKIPPED | PASS | PASS | SKIPPED | SKIPPED | +---------------------+--------------------+-------------------+------------------+-------------------+----------------------+-------------------------+ | Alpine | PASS | SKIPPED | PASS | SKIPPED | SKIPPED | SKIPPED | +---------------------+--------------------+-------------------+------------------+-------------------+----------------------+-------------------------+ | Ubuntu 20.04 | PASS | SKIPPED | WARN | SKIPPED | SKIPPED | SKIPPED | +---------------------+--------------------+-------------------+------------------+-------------------+----------------------+-------------------------+ | Windows Server 2022 | SKIPPED | PASS | SKIPPED | SKIPPED | PASS | PASS | +---------------------+--------------------+-------------------+------------------+-------------------+----------------------+-------------------------+ ==== 20 line log output for Ubuntu 20.04 (dpdk_compile_ovs): ==== --- Failed to get log output --- ==== End log output ==== FreeBSD 13.4 Kernel: 13.4-RELEASE-p1 Compiler: clang 18.1.6 FreeBSD 14.2 Kernel: 14.2-RELEASE Compiler: clang 18.1.6 CentOS Stream 9 Kernel: Depends on container host Compiler: gcc 11.5.0 20240719 (Red Hat 11.5.0-2) Debian Bullseye Kernel: Depends on container host Compiler: gcc (Debian 10.2.1-6) 10.2.1 20210110 Debian 12 Kernel: Depends on container host Compiler: gcc (Debian 12.2.0-14) 12.2.0 Fedora 40 (Clang) Kernel: Depends on container host Compiler: clang 18.1.8 (Fedora 18.1.8-1.fc40) Fedora 40 Kernel: Depends on container host Compiler: gcc 14.2.1 20240912 (Red Hat 14.2.1-3) Fedora 41 (Clang) Kernel: Depends on container host Compiler: clang 19.1.5 (Fedora 19.1.5-1.fc41) Fedora 41 Kernel: Depends on container host Compiler: gcc 14.2.1 20240912 (Red Hat 14.2.1-3) openSUSE Leap 15 Kernel: Depends on container host Compiler: gcc (SUSE Linux) 7.5.0 RHEL8 Kernel: Depends on container host Compiler: gcc 8.5.0 20210514 (Red Hat 8.5.0-22) RHEL9 Kernel: Depends on container host Compiler: gcc 11.5.0 20240719 (Red Hat 11.5.0-2) Ubuntu 22.04 Kernel: Depends on container host Compiler: gcc (Ubuntu 11.4.0-1ubuntu1~22.04) 11.4.0 Ubuntu 24.04 Kernel: Depends on container host Compiler: gcc (Ubuntu 13.3.0-6ubuntu2~24.04) 13.3.0 Alpine Kernel: Depends on container host Compiler: gcc (Alpine 14.2.0) 14.2.0 Ubuntu 20.04 Kernel: Depends on container host Compiler: gcc (Ubuntu 9.4.0-1ubuntu1~20.04.2) 9.4.0 Windows Server 2022 Kernel: 10.0.20348.2031 Compiler: clang 15.0.7, gcc 14.1.0 (MinGW), and MSVC VS 19.39.33521 To view detailed results, visit: https://lab.dpdk.org/results/dashboard/patchsets/32418/ UNH-IOL DPDK Community Lab To manage your email subscriptions, visit: https://lab.dpdk.org/results/dashboard/preferences/subscriptions/