From mboxrd@z Thu Jan  1 00:00:00 1970
Return-Path: <test-report-bounces@dpdk.org>
Received: from mails.dpdk.org (mails.dpdk.org [217.70.189.124])
	by inbox.dpdk.org (Postfix) with ESMTP id 92C894619A
	for <public@inbox.dpdk.org>; Wed,  5 Feb 2025 12:23:50 +0100 (CET)
Received: from mails.dpdk.org (localhost [127.0.0.1])
	by mails.dpdk.org (Postfix) with ESMTP id 8ECFC40261;
	Wed,  5 Feb 2025 12:23:50 +0100 (CET)
Received: from mail-io1-f97.google.com (mail-io1-f97.google.com
 [209.85.166.97]) by mails.dpdk.org (Postfix) with ESMTP id 7B5204025F
 for <test-report@dpdk.org>; Wed,  5 Feb 2025 12:23:49 +0100 (CET)
Received: by mail-io1-f97.google.com with SMTP id
 ca18e2360f4ac-844e06e5d11so176587139f.0
 for <test-report@dpdk.org>; Wed, 05 Feb 2025 03:23:49 -0800 (PST)
DKIM-Signature: v=1; a=rsa-sha256; c=relaxed/relaxed;
 d=iol.unh.edu; s=unh-iol; t=1738754628; x=1739359428; darn=dpdk.org;
 h=references:in-reply-to:cc:to:from:subject:message-id:date:from:to
 :cc:subject:date:message-id:reply-to;
 bh=Ml9/2V/XyATZJUtMjFzZN8SqMy7m/S6Xuypcv4HDEqE=;
 b=eJcp/Ylevrs/88C9kmCtMw9Wr+Fhen34pIvHEjEGtqIGvkg0mlyLouzUT0DdfxWtY/
 B+2fuhyKVOWXInIX17NUU8fQTCuPQvzaan2Bo/m4hI5BXjWZbdf6+FfsFNSwXRm5NRhW
 u6CM44UBDc47RUfA7YcgwLHfIcFWCQ4woTMHQ=
X-Google-DKIM-Signature: v=1; a=rsa-sha256; c=relaxed/relaxed;
 d=1e100.net; s=20230601; t=1738754628; x=1739359428;
 h=references:in-reply-to:cc:to:from:subject:message-id:date
 :x-gm-message-state:from:to:cc:subject:date:message-id:reply-to;
 bh=Ml9/2V/XyATZJUtMjFzZN8SqMy7m/S6Xuypcv4HDEqE=;
 b=kp5y6hhB4HyMAiHGQwYuB6j1JXwkW53h+k+4o4soi/cuNP2Pwnq9AEjRK8vIbNN6B9
 TpyiVQ/mfHQloj+NXzmiSy+m6OrvnScXi2Xu0Sb1EP8Mb18BTxTjJ+Oz8zx2Z14VoVie
 +pRFCzXNigAo3wVlYVUei/WOsCEsoUzrBAfEVlPDbnWFkIOl4vY63bYOrsko/b9sFh29
 PkKOdJ485094R2pmnZCzef4L132d/CjbXMcE+0JeJCMwOdhQMp7vICEkgtPB20G6thcY
 OQNDN9FcTxcQmYJxXMk/mFRhaTbGWBulh7Q9MLZcePu7uRG+lFS11GHdlDrscIxyFJMu
 Fr+w==
X-Gm-Message-State: AOJu0YxnhtGm5+IKAkH0dEpXsONV5Tgx9qf60Ze5QKwqJMzygutyfwnl
 wHaKJFFAjFHGSCTX0/Oay4u9VISjixkLSuDeGPI7Xro2G6k7Jai6AMbdGLYsOUBDdMrAZwrjtRH
 eyYdFPWbT/olHam0xfb5q2ONOrpMySuFCehcSiQ3y
X-Gm-Gg: ASbGncvpbGSqo8QvhqHqhBTqo1SypyzWK/VEsiVC4FfIgEsFa0W1QXzBEOIjl0ImOm4
 A0dWL7aCfGuEuS1CJ+4hY+E2kHfYIXtITS7hBV7OAIGjXRSxuCqE57jS2jEBR2cX8bGkcaary5d
 o/3cNp9m1bykFjv7y7qPuMOF0li9NE4zXlau/UVvBE+aa74VwLAS+eO6gCwDdxyP6G0kfMAVgAV
 tUSLXjwj18yW39Oua2TjRJbDJMD6vLmPNj0XG0zdivkE6Yv1kH3WDYcLYrQcfL1yprwDn5yfyl3
 O1Qjbh9WrgmFLVR7Mb3obHbtk947rw==
X-Google-Smtp-Source: AGHT+IGYJNfLNhtlDOwcv7l8iAaIUES/9o4yfSPpcztjl88Bu4u3rRwsc6Va63xpNhZ2XyQib5o23IWzNFtY
X-Received: by 2002:a05:6e02:1ca2:b0:3cf:cc97:c9c6 with SMTP id
 e9e14a558f8ab-3d04f917b74mr19542365ab.17.1738754628725; 
 Wed, 05 Feb 2025 03:23:48 -0800 (PST)
Received: from postal.iol.unh.edu (postal.iol.unh.edu. [132.177.123.84])
 by smtp-relay.gmail.com with ESMTPS id
 e9e14a558f8ab-3d04e8a08d1sm1216025ab.6.2025.02.05.03.23.48
 (version=TLS1_2 cipher=ECDHE-ECDSA-AES128-GCM-SHA256 bits=128/128);
 Wed, 05 Feb 2025 03:23:48 -0800 (PST)
X-Relaying-Domain: iol.unh.edu
Date: Wed, 05 Feb 2025 03:23:48 -0800 (PST)
Message-ID: <67a34a44.050a0220.14ebc8.59bcSMTPIN_ADDED_MISSING@mx.google.com>
Received: from [172.17.0.5] (unknown [172.18.0.217])
 by postal.iol.unh.edu (Postfix) with ESMTP id 128746052471;
 Wed,  5 Feb 2025 06:23:48 -0500 (EST)
Subject: |WARNING| pw150484-150498 [PATCH] [v4,16/16] doc: add release note a
From: dpdklab@iol.unh.edu
To: Test Report <test-report@dpdk.org>
Cc: dpdk-test-reports@iol.unh.edu
In-Reply-To: <20250124181704.86567-17-stephen@networkplumber.org>
References: <20250124181704.86567-17-stephen@networkplumber.org>
Content-Type: text/plain
X-BeenThere: test-report@dpdk.org
X-Mailman-Version: 2.1.29
Precedence: list
List-Id: automatic DPDK test reports <test-report.dpdk.org>
List-Unsubscribe: <https://mails.dpdk.org/options/test-report>,
 <mailto:test-report-request@dpdk.org?subject=unsubscribe>
List-Archive: <http://mails.dpdk.org/archives/test-report/>
List-Post: <mailto:test-report@dpdk.org>
List-Help: <mailto:test-report-request@dpdk.org?subject=help>
List-Subscribe: <https://mails.dpdk.org/listinfo/test-report>,
 <mailto:test-report-request@dpdk.org?subject=subscribe>
Errors-To: test-report-bounces@dpdk.org

Test-Label: iol-compile-amd64-testing
Test-Status: WARNING
http://dpdk.org/patch/150498

_Testing issues_

Submitter: Stephen Hemminger <stephen@networkplumber.org>
Date: Friday, January 24 2025 18:15:07 
DPDK git baseline: Repo:dpdk
  Branch: master
  CommitID:5b856206c74bbcf19e12cafa15382a7e15b0a1b5

150484-150498 --> testing issues

Upstream job id: Windows-Compile-DPDK-Native#26394

Test environment and result as below:

+---------------------+--------------------+-------------------+------------------+-------------------+----------------------+-------------------------+
|     Environment     | dpdk_meson_compile | dpdk_msvc_compile | dpdk_compile_ovs | dpdk_compile_spdk | dpdk_mingw64_compile | dpdk_llvm_clang_compile |
+=====================+====================+===================+==================+===================+======================+=========================+
| FreeBSD 13.4        | PASS               | SKIPPED           | SKIPPED          | SKIPPED           | SKIPPED              | SKIPPED                 |
+---------------------+--------------------+-------------------+------------------+-------------------+----------------------+-------------------------+
| FreeBSD 14.2        | PASS               | SKIPPED           | SKIPPED          | SKIPPED           | SKIPPED              | SKIPPED                 |
+---------------------+--------------------+-------------------+------------------+-------------------+----------------------+-------------------------+
| CentOS Stream 9     | PASS               | SKIPPED           | PASS             | PASS              | SKIPPED              | SKIPPED                 |
+---------------------+--------------------+-------------------+------------------+-------------------+----------------------+-------------------------+
| Debian Bullseye     | PASS               | SKIPPED           | PASS             | PASS              | SKIPPED              | SKIPPED                 |
+---------------------+--------------------+-------------------+------------------+-------------------+----------------------+-------------------------+
| Debian 12           | PASS               | SKIPPED           | PASS             | PASS              | SKIPPED              | SKIPPED                 |
+---------------------+--------------------+-------------------+------------------+-------------------+----------------------+-------------------------+
| Fedora 40 (Clang)   | PASS               | SKIPPED           | PASS             | PASS              | SKIPPED              | SKIPPED                 |
+---------------------+--------------------+-------------------+------------------+-------------------+----------------------+-------------------------+
| Fedora 40           | PASS               | SKIPPED           | PASS             | PASS              | SKIPPED              | SKIPPED                 |
+---------------------+--------------------+-------------------+------------------+-------------------+----------------------+-------------------------+
| Fedora 41 (Clang)   | PASS               | SKIPPED           | PASS             | PASS              | SKIPPED              | SKIPPED                 |
+---------------------+--------------------+-------------------+------------------+-------------------+----------------------+-------------------------+
| Fedora 41           | PASS               | SKIPPED           | PASS             | PASS              | SKIPPED              | SKIPPED                 |
+---------------------+--------------------+-------------------+------------------+-------------------+----------------------+-------------------------+
| openSUSE Leap 15    | PASS               | SKIPPED           | SKIPPED          | SKIPPED           | SKIPPED              | SKIPPED                 |
+---------------------+--------------------+-------------------+------------------+-------------------+----------------------+-------------------------+
| RHEL8               | PASS               | SKIPPED           | PASS             | SKIPPED           | SKIPPED              | SKIPPED                 |
+---------------------+--------------------+-------------------+------------------+-------------------+----------------------+-------------------------+
| RHEL9               | PASS               | SKIPPED           | PASS             | SKIPPED           | SKIPPED              | SKIPPED                 |
+---------------------+--------------------+-------------------+------------------+-------------------+----------------------+-------------------------+
| Ubuntu 20.04        | PASS               | SKIPPED           | WARN             | SKIPPED           | SKIPPED              | SKIPPED                 |
+---------------------+--------------------+-------------------+------------------+-------------------+----------------------+-------------------------+
| Ubuntu 22.04        | PASS               | SKIPPED           | PASS             | PASS              | SKIPPED              | SKIPPED                 |
+---------------------+--------------------+-------------------+------------------+-------------------+----------------------+-------------------------+
| Ubuntu 24.04        | PASS               | SKIPPED           | PASS             | PASS              | SKIPPED              | SKIPPED                 |
+---------------------+--------------------+-------------------+------------------+-------------------+----------------------+-------------------------+
| Alpine              | PASS               | SKIPPED           | PASS             | SKIPPED           | SKIPPED              | SKIPPED                 |
+---------------------+--------------------+-------------------+------------------+-------------------+----------------------+-------------------------+
| Windows Server 2022 | SKIPPED            | PASS              | SKIPPED          | SKIPPED           | PASS                 | PASS                    |
+---------------------+--------------------+-------------------+------------------+-------------------+----------------------+-------------------------+

==== 20 line log output for Ubuntu 20.04 (dpdk_compile_ovs): ====
 --- Failed to get log output --- 
==== End log output ====

FreeBSD 13.4
	Kernel: 13.4-RELEASE-p1
	Compiler: clang 18.1.6

FreeBSD 14.2
	Kernel: 14.2-RELEASE
	Compiler: clang 18.1.6

CentOS Stream 9
	Kernel: Depends on container host
	Compiler: gcc 11.5.0 20240719 (Red Hat 11.5.0-2)

Debian Bullseye
	Kernel: Depends on container host
	Compiler: gcc (Debian 10.2.1-6) 10.2.1 20210110

Debian 12
	Kernel: Depends on container host
	Compiler: gcc (Debian 12.2.0-14) 12.2.0

Fedora 40 (Clang)
	Kernel: Depends on container host
	Compiler: clang 18.1.8 (Fedora 18.1.8-1.fc40)

Fedora 40
	Kernel: Depends on container host
	Compiler: gcc 14.2.1 20240912 (Red Hat 14.2.1-3)

Fedora 41 (Clang)
	Kernel: Depends on container host
	Compiler: clang 19.1.5 (Fedora 19.1.5-1.fc41)

Fedora 41
	Kernel: Depends on container host
	Compiler: gcc 14.2.1 20240912 (Red Hat 14.2.1-3)

openSUSE Leap 15
	Kernel: Depends on container host
	Compiler: gcc (SUSE Linux) 7.5.0

RHEL8
	Kernel: Depends on container host
	Compiler: gcc 8.5.0 20210514 (Red Hat 8.5.0-22)

RHEL9
	Kernel: Depends on container host
	Compiler: gcc 11.5.0 20240719 (Red Hat 11.5.0-2)

Ubuntu 20.04
	Kernel: Depends on container host
	Compiler: gcc (Ubuntu 9.4.0-1ubuntu1~20.04.2) 9.4.0

Ubuntu 22.04
	Kernel: Depends on container host
	Compiler: gcc (Ubuntu 11.4.0-1ubuntu1~22.04) 11.4.0

Ubuntu 24.04
	Kernel: Depends on container host
	Compiler: gcc (Ubuntu 13.3.0-6ubuntu2~24.04) 13.3.0

Alpine
	Kernel: Depends on container host
	Compiler: gcc (Alpine 14.2.0) 14.2.0

Windows Server 2022
	Kernel: 10.0.20348.2031
	Compiler: clang 15.0.7, gcc 14.1.0 (MinGW), and MSVC VS 19.39.33521

To view detailed results, visit:
https://lab.dpdk.org/results/dashboard/patchsets/32419/

UNH-IOL DPDK Community Lab

To manage your email subscriptions, visit: 
https://lab.dpdk.org/results/dashboard/preferences/subscriptions/