From mboxrd@z Thu Jan 1 00:00:00 1970 Return-Path: Received: from mails.dpdk.org (mails.dpdk.org [217.70.189.124]) by inbox.dpdk.org (Postfix) with ESMTP id 1EC384619A for ; Wed, 5 Feb 2025 12:39:16 +0100 (CET) Received: from mails.dpdk.org (localhost [127.0.0.1]) by mails.dpdk.org (Postfix) with ESMTP id CF3E740261; Wed, 5 Feb 2025 12:39:15 +0100 (CET) Received: from mail-pl1-f227.google.com (mail-pl1-f227.google.com [209.85.214.227]) by mails.dpdk.org (Postfix) with ESMTP id 8A20E4025F for ; Wed, 5 Feb 2025 12:39:14 +0100 (CET) Received: by mail-pl1-f227.google.com with SMTP id d9443c01a7336-21669fd5c7cso121406275ad.3 for ; Wed, 05 Feb 2025 03:39:14 -0800 (PST) DKIM-Signature: v=1; a=rsa-sha256; c=relaxed/relaxed; d=iol.unh.edu; s=unh-iol; t=1738755553; x=1739360353; darn=dpdk.org; h=references:in-reply-to:cc:to:from:subject:message-id:date:from:to :cc:subject:date:message-id:reply-to; bh=lAGzLN3mb71fGwK82kCpl2HvGaUnoySam10YmzUYOvU=; b=G7BS+e5Aa7QjxLlw8nmaSSit0WTRhUU2PcdCUhAYNNMDAScXYpujfbj9fkPQrN9V6s c5D+KP60YFqCvrh7vYa5E86FZd+R1ABDYiMPCesy0Y03pewJqp+bEwaAJsUjiqMWmVUc +7Bsd6vTxdA6DgQLIsPuFQUjnJSyLO+bJOx5c= X-Google-DKIM-Signature: v=1; a=rsa-sha256; c=relaxed/relaxed; d=1e100.net; s=20230601; t=1738755553; x=1739360353; h=references:in-reply-to:cc:to:from:subject:message-id:date :x-gm-message-state:from:to:cc:subject:date:message-id:reply-to; bh=lAGzLN3mb71fGwK82kCpl2HvGaUnoySam10YmzUYOvU=; b=jSAd83gi0DQzlZvDJ34/f2VdGwzdSqRCAQ/FqMGdTWvZBom7PRhbc3QD6rQLarTRWl f75uCWat67KLNPZO4PI/2qrt/P68eGbeLAA/K1MgC1U5o4bSW6/zDY+2JL0xvJbuUakS LIq2eKDk0a/T7kejo8DsodzFGldFcFoLmHEYudYXK2MjJM8zZdV68ZYgOLNn5ST+mxeq QcwugDtG/rZ0HJnnjNcMWmydFOWI4MjGtRPpon23quh31VzISJCvEQ8tQJZSMfjXARyi qeRTUdA3TbJU2hrahS7Is6z7sqm4fDzsuM3S0ele1oQf+mQfJ9aDEv2ZpZVBMzQUkSPs Ck6g== X-Gm-Message-State: AOJu0YyFYq+LbXLFdaUp4H3Rh9EbUFn98CsnUixP8GeqMDTXPp0zoDqs KQVaqLurk65il7u9g43u7/wi+641yKs2ch6N5U3W0hzpeFQbtdawQ2S9VmkJab4S9qceQY/0Qk2 tW9bL70RdnuGMGfAZZSyPvgmTC4xOZQ5TKvRIu1u/TUjkTKt+HpnDnOJE X-Gm-Gg: ASbGnctAj/yi2AK1mHmqnGvCkHOoFDbm0/0WV3pS1UkhCP7hzvUK0YR6exHZDm5lkD6 TyCMw25Bv2a6l82iVOOZVqVFK/QS96W3o6uOLD6weo35H6cJlMqejtL1q7ud423xdl3imUtZrc3 F3Fe+6nl+vkbXAxeSpQf90zqSVTpRo4/ozwWmIx6TEw3OhQuEAprbQBzqEMGqmLpzdaUQwVit+X o1CXM3vUhTJyb+fVA4AR+ZxkBsjbjwGv6bd8OsRkyarfoHVa4cuwMRqZJkAc4Jq1efXY5r0qbBO gfwn4dgAqzo864+oVxHSzNFt1rpvMyalq9GJcV7awA== X-Google-Smtp-Source: AGHT+IFhXayK4N5+vl7u7S8s8p/HLOokgTA7YI+01EVWjAS0c53Vj+xY3e3Eew/6KFsjwfRPNl4+XdiV0Jov X-Received: by 2002:a17:903:19c6:b0:216:6d48:9177 with SMTP id d9443c01a7336-21f17e272a7mr44440285ad.11.1738755553502; Wed, 05 Feb 2025 03:39:13 -0800 (PST) Received: from postal.iol.unh.edu (postal.iol.unh.edu. [2606:4100:3880:1234::84]) by smtp-relay.gmail.com with ESMTPS id d9443c01a7336-21de3324ae9sm6624475ad.70.2025.02.05.03.39.13 (version=TLS1_2 cipher=ECDHE-ECDSA-AES128-GCM-SHA256 bits=128/128); Wed, 05 Feb 2025 03:39:13 -0800 (PST) X-Relaying-Domain: iol.unh.edu Date: Wed, 05 Feb 2025 03:39:13 -0800 (PST) Message-ID: <67a34de1.170a0220.211fbe.f3a1SMTPIN_ADDED_MISSING@mx.google.com> Received: from [172.21.0.5] (unknown [172.18.0.240]) by postal.iol.unh.edu (Postfix) with ESMTP id 9E4666052471; Wed, 5 Feb 2025 06:39:12 -0500 (EST) Subject: |SUCCESS| pw150902 [PATCH] [v2] eal: force compilation of RTE_ASSERT From: dpdklab@iol.unh.edu To: Test Report Cc: dpdk-test-reports@iol.unh.edu In-Reply-To: <20250204194759.723484-1-stephen@networkplumber.org> References: <20250204194759.723484-1-stephen@networkplumber.org> Content-Type: text/plain X-BeenThere: test-report@dpdk.org X-Mailman-Version: 2.1.29 Precedence: list List-Id: automatic DPDK test reports List-Unsubscribe: , List-Archive: List-Post: List-Help: List-Subscribe: , Errors-To: test-report-bounces@dpdk.org Test-Label: iol-sample-apps-testing Test-Status: SUCCESS http://dpdk.org/patch/150902 _Testing PASS_ Submitter: Stephen Hemminger Date: Tuesday, February 04 2025 19:46:09 DPDK git baseline: Repo:dpdk Branch: master CommitID:dc4ce7c2538b713e16887eb598da309bc7b4d528 150902 --> testing pass Upstream job id: ACVP-FIPS-testing#8784 Test environment and result as below: +--------------------+----------------------+----------------------+ | Environment | compressdev_zlib_pmd | dpdk_fips_validation | +====================+======================+======================+ | Ubuntu 22.04 (ARM) | PASS | SKIPPED | +--------------------+----------------------+----------------------+ | Ubuntu 22.04 | PASS | SKIPPED | +--------------------+----------------------+----------------------+ | Ubuntu 20.04 | SKIPPED | PASS | +--------------------+----------------------+----------------------+ Ubuntu 22.04 (ARM) Kernel: 5.15.0-97-generic Compiler: gcc gcc (Ubuntu 11.4.0-1ubuntu1~22.04) 11.4.0 Ubuntu 22.04 Kernel: 5.15.0-100-generic Compiler: gcc gcc (Ubuntu 11.4.0-1ubuntu1~22.04) 11.4.0 Ubuntu 20.04 Kernel: Depends on container host Compiler: gcc (Ubuntu 9.4.0-1ubuntu1~20.04.2) 9.4.0 To view detailed results, visit: https://lab.dpdk.org/results/dashboard/patchsets/32493/ UNH-IOL DPDK Community Lab To manage your email subscriptions, visit: https://lab.dpdk.org/results/dashboard/preferences/subscriptions/