From mboxrd@z Thu Jan 1 00:00:00 1970 Return-Path: Received: from mails.dpdk.org (mails.dpdk.org [217.70.189.124]) by inbox.dpdk.org (Postfix) with ESMTP id 2571F4619A for ; Wed, 5 Feb 2025 12:40:33 +0100 (CET) Received: from mails.dpdk.org (localhost [127.0.0.1]) by mails.dpdk.org (Postfix) with ESMTP id 22B3B40261; Wed, 5 Feb 2025 12:40:33 +0100 (CET) Received: from mail-pj1-f99.google.com (mail-pj1-f99.google.com [209.85.216.99]) by mails.dpdk.org (Postfix) with ESMTP id C47774025F for ; Wed, 5 Feb 2025 12:40:31 +0100 (CET) Received: by mail-pj1-f99.google.com with SMTP id 98e67ed59e1d1-2f9bed1f521so2897396a91.3 for ; Wed, 05 Feb 2025 03:40:31 -0800 (PST) DKIM-Signature: v=1; a=rsa-sha256; c=relaxed/relaxed; d=iol.unh.edu; s=unh-iol; t=1738755631; x=1739360431; darn=dpdk.org; h=cc:to:from:subject:message-id:date:from:to:cc:subject:date :message-id:reply-to; bh=etOMEnO2VB6T46830kjMIqhO086497rE8FJ3NTskRDk=; b=DvQpTsbP0Ocp9GQ9BxT8GqcpMeqoIDunrqPvfQ/ys261CC5S8UPvrt4wruapLYCTSm lhXclToz6XlQASmIs9tcsiHv5V4QZ03Xeb/2LfYDIroaoJz+RfI1S7K8zTUYbi2BeQmr QEg2NqHMMKHKUtZOFulTW0DNMNBp9/CpXFBog= X-Google-DKIM-Signature: v=1; a=rsa-sha256; c=relaxed/relaxed; d=1e100.net; s=20230601; t=1738755631; x=1739360431; h=cc:to:from:subject:message-id:date:x-gm-message-state:from:to:cc :subject:date:message-id:reply-to; bh=etOMEnO2VB6T46830kjMIqhO086497rE8FJ3NTskRDk=; b=vKlSXZJM0EJfPuj2z498kXFE4ZY8DojIicg91SjlXhpW/JbOGXWW0GW3pmwCS1mHkT ynmf+BVy5ELQnSfHexM0bMG3OhFPOaeCU8+XHr4Wj/ffnuO79DtaW2J+edjSWB+qJ0s2 noQTx/oS8CdLVaRUKrjLa4WAFqN3bkdWpnJICkJYoyArCjPqxxgP0hG0CmRdKLuypY1H kFJij5lbje79vqYKeTQZ963T5zHCFZrQLtwF5GmfNbNp9QrKe75mlZ3OSfWX1GYSyxFE DzvW94w+hd2i59QSRUkaVQBLHEgvBaMS8A4bNwoBP6XCn8mIe94SamwV+I5MgB5Ka7XY ftFA== X-Gm-Message-State: AOJu0YwLBtUc9b5f1pg4+5/Dg5cMeNMVu0lp/Yff1f5+wHQJ6bUqMJXl c4osVkhZ5DSqtxz7Uvl7fOR+w4/v0Yjx/qfNkH+YWTZ/eiTKLXeatn7hAEHASS5VUt/Y2MYVae3 j+jLXaNjSlvlPhrXPMQVlXIq3OImoA0Z48w/XaW1H78NbSn4L6+72vTih X-Gm-Gg: ASbGnctP7MI1unoWiA3asQzwI/4hPKS/e68BBuq6PDyrAdaxSfM9xy7vmq/6eCVoPSs 4mE2ACrmp2v/Tillfgz/TBGe/uQqZufvEtoBMdl86ZTtTJQ9O24BXZwkwBSIe/S6SCNvvRWBHkq TzXtzLuBjEbbAC1ZHLMSqmy1UWF9eIwnZt5c3lRQalH9TxxqzNSpK6N/smhsSFy1ACI+d0ZqQXz O6mzjCI4qla6LhIMwgSjYToMLBN6Jmx8EogycS+BctdyvDCAUGhVSHW4dkgltr4MA3W67tmrulY OquEwxS/CWHGU4lio6nbslA27LcO0AUIVNRqGz2bFw== X-Google-Smtp-Source: AGHT+IFs29cAWIzQfqR5DxTyqHg6cK3mgns5coz60G8Gfpzq35kyIQU/fsCl5GTNyjCwJyFdeah2NEzFto4d X-Received: by 2002:a17:90b:1b52:b0:2ee:bf84:4fe8 with SMTP id 98e67ed59e1d1-2f9e083c56cmr3734480a91.30.1738755630916; Wed, 05 Feb 2025 03:40:30 -0800 (PST) Received: from postal.iol.unh.edu (postal.iol.unh.edu. [2606:4100:3880:1234::84]) by smtp-relay.gmail.com with ESMTPS id 98e67ed59e1d1-2f9e1d63c40sm125205a91.1.2025.02.05.03.40.30 (version=TLS1_2 cipher=ECDHE-ECDSA-AES128-GCM-SHA256 bits=128/128); Wed, 05 Feb 2025 03:40:30 -0800 (PST) X-Relaying-Domain: iol.unh.edu Date: Wed, 05 Feb 2025 03:40:30 -0800 (PST) Message-ID: <67a34e2e.170a0220.24fcf6.5964SMTPIN_ADDED_MISSING@mx.google.com> Received: from [172.21.0.5] (unknown [172.18.0.240]) by postal.iol.unh.edu (Postfix) with ESMTP id 155B46052471; Wed, 5 Feb 2025 06:40:30 -0500 (EST) Subject: |SUCCESS| [GIT MASTER] 595535be66b103f7ce3ba61939b8013032987404 From: dpdklab@iol.unh.edu To: Test Report Cc: dpdk-test-reports@iol.unh.edu, Stephen Hemminger Content-Type: text/plain X-BeenThere: test-report@dpdk.org X-Mailman-Version: 2.1.29 Precedence: list List-Id: automatic DPDK test reports List-Unsubscribe: , List-Archive: List-Post: List-Help: List-Subscribe: , Errors-To: test-report-bounces@dpdk.org _Testing PASS_ Branch: dpdk-next-net 595535be66b103f7ce3ba61939b8013032987404 --> testing pass Upstream job id: Generic-Unit-Test-DPDK#311781 Test environment and result as below: +---------------------+----------------+ | Environment | dpdk_unit_test | +=====================+================+ | Debian 12 | PASS | +---------------------+----------------+ | Debian Bullseye | PASS | +---------------------+----------------+ | CentOS Stream 9 | PASS | +---------------------+----------------+ | Fedora 40 | PASS | +---------------------+----------------+ | Fedora 41 | PASS | +---------------------+----------------+ | Fedora 40 (Clang) | PASS | +---------------------+----------------+ | Fedora 41 (Clang) | PASS | +---------------------+----------------+ | RHEL8 | PASS | +---------------------+----------------+ | RHEL9 | PASS | +---------------------+----------------+ | Ubuntu 20.04 | PASS | +---------------------+----------------+ | Ubuntu 24.04 | PASS | +---------------------+----------------+ | Ubuntu 22.04 | PASS | +---------------------+----------------+ | Windows Server 2022 | PASS | +---------------------+----------------+ Debian 12 Kernel: Depends on container host Compiler: gcc (Debian 12.2.0-14) 12.2.0 Debian Bullseye Kernel: Depends on container host Compiler: gcc (Debian 10.2.1-6) 10.2.1 20210110 CentOS Stream 9 Kernel: Depends on container host Compiler: gcc 11.5.0 20240719 (Red Hat 11.5.0-2) Fedora 40 Kernel: Depends on container host Compiler: gcc 14.2.1 20240912 (Red Hat 14.2.1-3) Fedora 41 Kernel: Depends on container host Compiler: gcc 14.2.1 20240912 (Red Hat 14.2.1-3) Fedora 40 (Clang) Kernel: Depends on container host Compiler: clang 18.1.8 (Fedora 18.1.8-1.fc40) Fedora 41 (Clang) Kernel: Depends on container host Compiler: clang 19.1.5 (Fedora 19.1.5-1.fc41) RHEL8 Kernel: Depends on container host Compiler: gcc 8.5.0 20210514 (Red Hat 8.5.0-22) RHEL9 Kernel: Depends on container host Compiler: gcc 11.5.0 20240719 (Red Hat 11.5.0-2) Ubuntu 20.04 Kernel: Depends on container host Compiler: gcc (Ubuntu 9.4.0-1ubuntu1~20.04.2) 9.4.0 Ubuntu 24.04 Kernel: Depends on container host Compiler: gcc (Ubuntu 13.3.0-6ubuntu2~24.04) 13.3.0 Ubuntu 22.04 Kernel: Depends on container host Compiler: gcc (Ubuntu 11.4.0-1ubuntu1~22.04) 11.4.0 Windows Server 2022 Kernel: 10.0.20348.2031 Compiler: clang 15.0.7, gcc 14.1.0 (MinGW), and MSVC VS 19.39.33521 To view detailed results, visit: https://lab.dpdk.org/results/dashboard/tarballs/32449/ UNH-IOL DPDK Community Lab To manage your email subscriptions, visit: https://lab.dpdk.org/results/dashboard/preferences/subscriptions/