From mboxrd@z Thu Jan 1 00:00:00 1970 Return-Path: Received: from mails.dpdk.org (mails.dpdk.org [217.70.189.124]) by inbox.dpdk.org (Postfix) with ESMTP id DA41B4619A for ; Wed, 5 Feb 2025 12:47:01 +0100 (CET) Received: from mails.dpdk.org (localhost [127.0.0.1]) by mails.dpdk.org (Postfix) with ESMTP id D56B740261; Wed, 5 Feb 2025 12:47:01 +0100 (CET) Received: from mail-qt1-f225.google.com (mail-qt1-f225.google.com [209.85.160.225]) by mails.dpdk.org (Postfix) with ESMTP id 39DB94025F for ; Wed, 5 Feb 2025 12:47:00 +0100 (CET) Received: by mail-qt1-f225.google.com with SMTP id d75a77b69052e-467b955e288so70337291cf.1 for ; Wed, 05 Feb 2025 03:47:00 -0800 (PST) DKIM-Signature: v=1; a=rsa-sha256; c=relaxed/relaxed; d=iol.unh.edu; s=unh-iol; t=1738756019; x=1739360819; darn=dpdk.org; h=references:in-reply-to:cc:to:from:subject:message-id:date:from:to :cc:subject:date:message-id:reply-to; bh=6Mmvpbfr1y8zVa5KwXtUYPVynOiaSTaW2gVgXFnAhjs=; b=PtHh4D1QjPYpj7WcAg7MoT17X7eWkTQntLoOWtTF1tP4DDzYR4vaXJZjgXbj9RVan4 KHyoFj5CPA5xuayzWmVMePq1ZakR+SP2EH3seZ64S4XK3x+2wlO50SQWicUQejqoaycZ ZntURc5Aqk77pvuHFkDHj9wf8LuxZG+uI+ySo= X-Google-DKIM-Signature: v=1; a=rsa-sha256; c=relaxed/relaxed; d=1e100.net; s=20230601; t=1738756019; x=1739360819; h=references:in-reply-to:cc:to:from:subject:message-id:date :x-gm-message-state:from:to:cc:subject:date:message-id:reply-to; bh=6Mmvpbfr1y8zVa5KwXtUYPVynOiaSTaW2gVgXFnAhjs=; b=AsqlFGC0dHbAHX4nptTU5yOgScdyklCGWovlTCP6d5lm5MzKJsEpazCd0mNvk9ReSt S5+vrkDevV0eEfA7sLFjwuvU+fYgnV41AyWzl2U4oPBSquKO3E8he8SwsFZsSQSFjQN+ 2OeZr6Cl0JvKimzCsnQsBhIG2FQzN/3NaAfDVTcqti1UosvUV7tctPWiscuosbOvEnwb 7QBWCwzsPbtqKgfnQ73TlnLfBOsvwIwq/o6mlPKczSSh1eQ71XnzfUZWlAwmIiFecVQe Ycu3lWxs/PS1Q53eTOQZnmSHJGFemax9xXMVPytgvWp+N13fD6cIINOg+W8JojqweV0a bFyA== X-Gm-Message-State: AOJu0Yw5wAASXO1uaLry2TI6Hexe1UGB9B73apoDLvKZbYq7cJeuXwj2 igU6g5HhU3rusD9GZR8RR99DfTTgrqkn11mypUdDGrVTnFisTTIUy9gPQOMlHaSAQTHyY8rW0jO eHWKqYYbCu8E5fb2oGtkmfBv+KShF1dLiXKqmbRf9fRAsXcHQtgIBBPVk X-Gm-Gg: ASbGncu6BvdW9Fu8U91xKp6AdZow2oBH9uuNS3hyAame5ei9Q6P+cqkL6GMlqOWauZI UEpQ/PbRluj/qSjrKycinZvxzid3/LWoVbU4a8WJsrebzDSIMpZOhpJSRt2a8sG6Xtv9IG7I5xm lP6EjPC+Nx+1eTlpIAQgHvjtWuP0kTXojLvydbwmawEvRipv1qLtOse5eLEu9q7N/PM+CCUXVrr VOvWdLgRvZl7Unf05k15zz3f6C8uLFU0CaQZ0mbtuUk/MaiAiYO0psThMBI209yiFFr5ajGZTgb sGSlBHhWX+BSLYVMcJG60yb/3wXX9j22q4jtrVG4rg== X-Google-Smtp-Source: AGHT+IFnFNT9ZcVloq/w2kC/+AOS8Xc6oFYLOy37UVagF0d1uo1k1U1ZuRwGpUOES8zr289G4baQ55NuHWHK X-Received: by 2002:a05:6214:d42:b0:6e2:4d70:1fbd with SMTP id 6a1803df08f44-6e42fb99504mr37853036d6.6.1738756019520; Wed, 05 Feb 2025 03:46:59 -0800 (PST) Received: from postal.iol.unh.edu (postal.iol.unh.edu. [2606:4100:3880:1234::84]) by smtp-relay.gmail.com with ESMTPS id 6a1803df08f44-6e254950e82sm9904166d6.62.2025.02.05.03.46.59 (version=TLS1_2 cipher=ECDHE-ECDSA-AES128-GCM-SHA256 bits=128/128); Wed, 05 Feb 2025 03:46:59 -0800 (PST) X-Relaying-Domain: iol.unh.edu Date: Wed, 05 Feb 2025 03:46:59 -0800 (PST) Message-ID: <67a34fb3.050a0220.109c60.d382SMTPIN_ADDED_MISSING@mx.google.com> Received: from [172.21.0.5] (unknown [172.18.0.240]) by postal.iol.unh.edu (Postfix) with ESMTP id 3F1176052471; Wed, 5 Feb 2025 06:46:59 -0500 (EST) Subject: |WARNING| pw150503 [PATCH] app/crypto-perf: support RSA-2k From: dpdklab@iol.unh.edu To: Test Report Cc: dpdk-test-reports@iol.unh.edu In-Reply-To: <20250124191035.4028679-1-gakhil@marvell.com> References: <20250124191035.4028679-1-gakhil@marvell.com> Content-Type: text/plain X-BeenThere: test-report@dpdk.org X-Mailman-Version: 2.1.29 Precedence: list List-Id: automatic DPDK test reports List-Unsubscribe: , List-Archive: List-Post: List-Help: List-Subscribe: , Errors-To: test-report-bounces@dpdk.org Test-Label: iol-compile-amd64-testing Test-Status: WARNING http://dpdk.org/patch/150503 _Testing issues_ Submitter: Akhil Goyal Date: Friday, January 24 2025 19:10:35 DPDK git baseline: Repo:dpdk Branch: master CommitID:e110e9ecc60a78e26026496b1697863312f262a4 150503 --> testing issues Upstream job id: Windows-Compile-DPDK-Native#26395 Test environment and result as below: +---------------------+--------------------+-------------------+------------------+-------------------+----------------------+-------------------------+ | Environment | dpdk_meson_compile | dpdk_msvc_compile | dpdk_compile_ovs | dpdk_compile_spdk | dpdk_mingw64_compile | dpdk_llvm_clang_compile | +=====================+====================+===================+==================+===================+======================+=========================+ | FreeBSD 13.4 | PASS | SKIPPED | SKIPPED | SKIPPED | SKIPPED | SKIPPED | +---------------------+--------------------+-------------------+------------------+-------------------+----------------------+-------------------------+ | FreeBSD 14.2 | PASS | SKIPPED | SKIPPED | SKIPPED | SKIPPED | SKIPPED | +---------------------+--------------------+-------------------+------------------+-------------------+----------------------+-------------------------+ | CentOS Stream 9 | PASS | SKIPPED | PASS | PASS | SKIPPED | SKIPPED | +---------------------+--------------------+-------------------+------------------+-------------------+----------------------+-------------------------+ | Debian Bullseye | PASS | SKIPPED | PASS | PASS | SKIPPED | SKIPPED | +---------------------+--------------------+-------------------+------------------+-------------------+----------------------+-------------------------+ | Debian 12 | PASS | SKIPPED | PASS | PASS | SKIPPED | SKIPPED | +---------------------+--------------------+-------------------+------------------+-------------------+----------------------+-------------------------+ | Fedora 40 (Clang) | PASS | SKIPPED | PASS | PASS | SKIPPED | SKIPPED | +---------------------+--------------------+-------------------+------------------+-------------------+----------------------+-------------------------+ | Fedora 40 | PASS | SKIPPED | PASS | PASS | SKIPPED | SKIPPED | +---------------------+--------------------+-------------------+------------------+-------------------+----------------------+-------------------------+ | Fedora 41 (Clang) | PASS | SKIPPED | PASS | PASS | SKIPPED | SKIPPED | +---------------------+--------------------+-------------------+------------------+-------------------+----------------------+-------------------------+ | Fedora 41 | PASS | SKIPPED | PASS | PASS | SKIPPED | SKIPPED | +---------------------+--------------------+-------------------+------------------+-------------------+----------------------+-------------------------+ | openSUSE Leap 15 | PASS | SKIPPED | SKIPPED | SKIPPED | SKIPPED | SKIPPED | +---------------------+--------------------+-------------------+------------------+-------------------+----------------------+-------------------------+ | RHEL8 | PASS | SKIPPED | PASS | SKIPPED | SKIPPED | SKIPPED | +---------------------+--------------------+-------------------+------------------+-------------------+----------------------+-------------------------+ | RHEL9 | PASS | SKIPPED | PASS | SKIPPED | SKIPPED | SKIPPED | +---------------------+--------------------+-------------------+------------------+-------------------+----------------------+-------------------------+ | Ubuntu 20.04 | PASS | SKIPPED | WARN | SKIPPED | SKIPPED | SKIPPED | +---------------------+--------------------+-------------------+------------------+-------------------+----------------------+-------------------------+ | Ubuntu 22.04 | PASS | SKIPPED | PASS | PASS | SKIPPED | SKIPPED | +---------------------+--------------------+-------------------+------------------+-------------------+----------------------+-------------------------+ | Ubuntu 24.04 | PASS | SKIPPED | PASS | PASS | SKIPPED | SKIPPED | +---------------------+--------------------+-------------------+------------------+-------------------+----------------------+-------------------------+ | Alpine | PASS | SKIPPED | PASS | SKIPPED | SKIPPED | SKIPPED | +---------------------+--------------------+-------------------+------------------+-------------------+----------------------+-------------------------+ | Windows Server 2022 | SKIPPED | PASS | SKIPPED | SKIPPED | PASS | PASS | +---------------------+--------------------+-------------------+------------------+-------------------+----------------------+-------------------------+ ==== 20 line log output for Ubuntu 20.04 (dpdk_compile_ovs): ==== --- Failed to get log output --- ==== End log output ==== FreeBSD 13.4 Kernel: 13.4-RELEASE-p1 Compiler: clang 18.1.6 FreeBSD 14.2 Kernel: 14.2-RELEASE Compiler: clang 18.1.6 CentOS Stream 9 Kernel: Depends on container host Compiler: gcc 11.5.0 20240719 (Red Hat 11.5.0-2) Debian Bullseye Kernel: Depends on container host Compiler: gcc (Debian 10.2.1-6) 10.2.1 20210110 Debian 12 Kernel: Depends on container host Compiler: gcc (Debian 12.2.0-14) 12.2.0 Fedora 40 (Clang) Kernel: Depends on container host Compiler: clang 18.1.8 (Fedora 18.1.8-1.fc40) Fedora 40 Kernel: Depends on container host Compiler: gcc 14.2.1 20240912 (Red Hat 14.2.1-3) Fedora 41 (Clang) Kernel: Depends on container host Compiler: clang 19.1.5 (Fedora 19.1.5-1.fc41) Fedora 41 Kernel: Depends on container host Compiler: gcc 14.2.1 20240912 (Red Hat 14.2.1-3) openSUSE Leap 15 Kernel: Depends on container host Compiler: gcc (SUSE Linux) 7.5.0 RHEL8 Kernel: Depends on container host Compiler: gcc 8.5.0 20210514 (Red Hat 8.5.0-22) RHEL9 Kernel: Depends on container host Compiler: gcc 11.5.0 20240719 (Red Hat 11.5.0-2) Ubuntu 20.04 Kernel: Depends on container host Compiler: gcc (Ubuntu 9.4.0-1ubuntu1~20.04.2) 9.4.0 Ubuntu 22.04 Kernel: Depends on container host Compiler: gcc (Ubuntu 11.4.0-1ubuntu1~22.04) 11.4.0 Ubuntu 24.04 Kernel: Depends on container host Compiler: gcc (Ubuntu 13.3.0-6ubuntu2~24.04) 13.3.0 Alpine Kernel: Depends on container host Compiler: gcc (Alpine 14.2.0) 14.2.0 Windows Server 2022 Kernel: 10.0.20348.2031 Compiler: clang 15.0.7, gcc 14.1.0 (MinGW), and MSVC VS 19.39.33521 To view detailed results, visit: https://lab.dpdk.org/results/dashboard/patchsets/32423/ UNH-IOL DPDK Community Lab To manage your email subscriptions, visit: https://lab.dpdk.org/results/dashboard/preferences/subscriptions/