From mboxrd@z Thu Jan 1 00:00:00 1970 Return-Path: Received: from mails.dpdk.org (mails.dpdk.org [217.70.189.124]) by inbox.dpdk.org (Postfix) with ESMTP id C7E814619A for ; Wed, 5 Feb 2025 12:54:56 +0100 (CET) Received: from mails.dpdk.org (localhost [127.0.0.1]) by mails.dpdk.org (Postfix) with ESMTP id B2AB840261; Wed, 5 Feb 2025 12:54:56 +0100 (CET) Received: from mail-pl1-f226.google.com (mail-pl1-f226.google.com [209.85.214.226]) by mails.dpdk.org (Postfix) with ESMTP id 1537A4025F for ; Wed, 5 Feb 2025 12:54:55 +0100 (CET) Received: by mail-pl1-f226.google.com with SMTP id d9443c01a7336-21f0444b478so24303355ad.0 for ; Wed, 05 Feb 2025 03:54:54 -0800 (PST) DKIM-Signature: v=1; a=rsa-sha256; c=relaxed/relaxed; d=iol.unh.edu; s=unh-iol; t=1738756494; x=1739361294; darn=dpdk.org; h=references:in-reply-to:cc:to:from:subject:message-id:date:from:to :cc:subject:date:message-id:reply-to; bh=TssC20b/nhtcGpyODLVW4okUfQzqUBHGYqajyCv4QT0=; b=Q976gbY8dDnC8u0fnrv7vHNmxZegbYCgAWUhyL+BBFlmc9forQ57GyGysDrT7Q+kyx g7FeMdftQ1/K8wZVhjO1paaFpe7oAtaInHVFVRFAVqpzNo54lPGnK7qhzWiM/LAgEwTX w9/KrQfx9DXTa8yeVDeBDfGYzeiJsKG5pZyTs= X-Google-DKIM-Signature: v=1; a=rsa-sha256; c=relaxed/relaxed; d=1e100.net; s=20230601; t=1738756494; x=1739361294; h=references:in-reply-to:cc:to:from:subject:message-id:date :x-gm-message-state:from:to:cc:subject:date:message-id:reply-to; bh=TssC20b/nhtcGpyODLVW4okUfQzqUBHGYqajyCv4QT0=; b=A+vACSq2hgQrczCf/KJMMM02q0JJLjRvAVhcgATDjQU1QuJw1aLoBmnNgGNLhpzNgV 3l1S7D7HAWRgIif7l2bbVQ8DruXzVNK4GjiIIrzgUltYeRRiLcVDdff6Engzd/BQAOMX gCpcfNVPDlnv8KqfRUBL5mhjT9o4jclwIL4vuzF8pQcuNv718USgP/w7sY77bV4yBvnx BKkyZWTpkmkskdbfj7POpFLcHCk5nKnR5B7r7jqpYQvvL0qAAqLh4BlVERk48kXi1LR6 DbMIrPDGLBqA/WvwJVVnddWvHKGicAiWtjOtxwQREkluKsx6bD18drxgqlrX7ldXUXqZ Zuyw== X-Gm-Message-State: AOJu0YzcqcmPyIt0EBvqsYp7POjMsLVWA//YXgVLdgCnUI/19aGcSEDT mm6AQHhb92sVof9+KxFF8SWX/9Tl5Er5w9x+CZeQsY2Ar0jr9yxYUjaWztHYX/q+a3SwPMNtTRE I/BWXSrXYKHvl5Er/33oCJ0iNpQ0OAk1gInVzsaxN X-Gm-Gg: ASbGncu3km2LLDmqRG3oYwVqpkRkIBW46gX6x3/UZKEs+aXqTfrld7c6IGrezFsbHbi il8xvTKMgiZHHcyKuGkf+Fk66YxhIXpGYqAeXwuF5ezL9iPvAW2uT0DGD8nAlC/LXOSuqoph/Rv O6XBr8EUdYmNrwZH1EdN39F2IUZtq4Y89hez33LtdO0tXcRhJRC39telC1I6ndB8NyZ+dURhZe1 yVJolw0RvIS+T4DzwSoBpAt87KIhap1mOms81ynYMOMVZiPsJqvf54IiXR0q6Nfyjzfgy8cNb95 CY7iU99nM1VgRcpZC9x3GKnqK6WmUA== X-Google-Smtp-Source: AGHT+IEyeYq09teSZQ5jMpyjweWVrntLwfwtG2y0BUwgHjpoKsLm707Mlv0uRTDhWMw4wS3oI/7SySxJlB6C X-Received: by 2002:a17:902:e803:b0:215:e98c:c5c1 with SMTP id d9443c01a7336-21f17e74e67mr36869075ad.30.1738756493966; Wed, 05 Feb 2025 03:54:53 -0800 (PST) Received: from postal.iol.unh.edu (postal.iol.unh.edu. [132.177.123.84]) by smtp-relay.gmail.com with ESMTPS id d9443c01a7336-21de32743a0sm6557725ad.69.2025.02.05.03.54.53 (version=TLS1_2 cipher=ECDHE-ECDSA-AES128-GCM-SHA256 bits=128/128); Wed, 05 Feb 2025 03:54:53 -0800 (PST) X-Relaying-Domain: iol.unh.edu Date: Wed, 05 Feb 2025 03:54:53 -0800 (PST) Message-ID: <67a3518d.170a0220.7932f.d599SMTPIN_ADDED_MISSING@mx.google.com> Received: from [172.21.0.7] (unknown [172.18.0.240]) by postal.iol.unh.edu (Postfix) with ESMTP id 115706052471; Wed, 5 Feb 2025 06:54:53 -0500 (EST) Subject: |SUCCESS| pw150932-150965 [PATCH] [v2,34/34] net/ntnic: remove tag E From: dpdklab@iol.unh.edu To: Test Report Cc: dpdk-test-reports@iol.unh.edu In-Reply-To: <20250205104548.1533554-35-sil-plv@napatech.com> References: <20250205104548.1533554-35-sil-plv@napatech.com> Content-Type: text/plain X-BeenThere: test-report@dpdk.org X-Mailman-Version: 2.1.29 Precedence: list List-Id: automatic DPDK test reports List-Unsubscribe: , List-Archive: List-Post: List-Help: List-Subscribe: , Errors-To: test-report-bounces@dpdk.org Test-Label: iol-compile-amd64-testing Test-Status: SUCCESS http://dpdk.org/patch/150965 _Testing PASS_ Submitter: Serhii Iliushyk Date: Wednesday, February 05 2025 10:45:43 DPDK git baseline: Repo:dpdk Branch: master CommitID:dc4ce7c2538b713e16887eb598da309bc7b4d528 150932-150965 --> testing pass Upstream job id: Generic-VM-DPDK-Compile-Meson#33054 Test environment and result as below: +---------------------+--------------------+-------------------+ | Environment | dpdk_meson_compile | dpdk_msvc_compile | +=====================+====================+===================+ | FreeBSD 13.4 | PASS | SKIPPED | +---------------------+--------------------+-------------------+ | FreeBSD 14.2 | PASS | SKIPPED | +---------------------+--------------------+-------------------+ | Windows Server 2022 | SKIPPED | PASS | +---------------------+--------------------+-------------------+ FreeBSD 13.4 Kernel: 13.4-RELEASE-p1 Compiler: clang 18.1.6 FreeBSD 14.2 Kernel: 14.2-RELEASE Compiler: clang 18.1.6 Windows Server 2022 Kernel: 10.0.20348.2031 Compiler: clang 15.0.7, gcc 14.1.0 (MinGW), and MSVC VS 19.39.33521 To view detailed results, visit: https://lab.dpdk.org/results/dashboard/patchsets/32496/ UNH-IOL DPDK Community Lab To manage your email subscriptions, visit: https://lab.dpdk.org/results/dashboard/preferences/subscriptions/