From mboxrd@z Thu Jan 1 00:00:00 1970 Return-Path: Received: from mails.dpdk.org (mails.dpdk.org [217.70.189.124]) by inbox.dpdk.org (Postfix) with ESMTP id C98AE4619A for ; Wed, 5 Feb 2025 13:07:55 +0100 (CET) Received: from mails.dpdk.org (localhost [127.0.0.1]) by mails.dpdk.org (Postfix) with ESMTP id C3E35402E3; Wed, 5 Feb 2025 13:07:55 +0100 (CET) Received: from mail-pj1-f100.google.com (mail-pj1-f100.google.com [209.85.216.100]) by mails.dpdk.org (Postfix) with ESMTP id 47A32402DF for ; Wed, 5 Feb 2025 13:07:54 +0100 (CET) Received: by mail-pj1-f100.google.com with SMTP id 98e67ed59e1d1-2ef72924e53so11780530a91.3 for ; Wed, 05 Feb 2025 04:07:54 -0800 (PST) DKIM-Signature: v=1; a=rsa-sha256; c=relaxed/relaxed; d=iol.unh.edu; s=unh-iol; t=1738757273; x=1739362073; darn=dpdk.org; h=references:in-reply-to:cc:to:from:subject:message-id:date:from:to :cc:subject:date:message-id:reply-to; bh=Yps/YXdzhJ8ixnw93InKWoje+HipAttepGpGt5ooe9c=; b=dTcztlGW5mPrESDSnudzw2m1S14H1TidNRCa06vUpnN1b7+EeX/qPxvs2x/UW4sYfr whKJ3bpKq5ZSy1fDigOrHoevKwO/kvV9jSIsSzycLmRT4C/0G3KfRmP20F/9Egn4pX9R vfQ0b3XRsZCjw31so9TgD1YA6pugHznzDLwVg= X-Google-DKIM-Signature: v=1; a=rsa-sha256; c=relaxed/relaxed; d=1e100.net; s=20230601; t=1738757273; x=1739362073; h=references:in-reply-to:cc:to:from:subject:message-id:date :x-gm-message-state:from:to:cc:subject:date:message-id:reply-to; bh=Yps/YXdzhJ8ixnw93InKWoje+HipAttepGpGt5ooe9c=; b=o3nrvf8TS3lN5Ynlaq2znUKLl4sMA9l6/vOukpSlbZSX3bC0IzNcuV6nO/FlL0W01M wO01HoJ0O5kxEpH6ahizUKDjwgUl/WZTpzG31gTddHuKegHhN8c8uImRhyDeHkOnI015 iMDm6GdVMfuaOZtmN4uyEfzh0+CLhcLDSNi7orKPYI/OmNDiOV+l6+Pb6PWWs4ncaWN1 iqV5KUpYMBRkb9qOPC37hQkBsX6xp6niEoYfTk8THzazccCyIM08Lf5kdG9jA1MJ1Ekd ihFU5iDqk2dLSkG3LM4NK1LFQOc1/yZtKKsYG/UxNL+ztvqPXyyc1LMGDjR8oWF+4zXs hZzw== X-Gm-Message-State: AOJu0YxDiIoM3kpv4cd4/DFsDfJ6k4gAqY2n80yWkGBQuGziw0Hlq1sF wXiHbu4HEhC29P5Lr1TMVasfX47D6+MBhGpjfHciZuY7Qi1RAm0woIzOCxibnw7G5Mk2Fiophn7 rqE67Fz/GnbSsOc5kWHPw3FTr+Ad293BRo7BxDbVtDaAD3h4LQwNLh/UR X-Gm-Gg: ASbGnctT4cNrWbFlJHCFRvskETFJeP8MD8Mwut2DjJunCDgb6MEVmfpkbYuF6o0nBiT FykQvu6TpKp0RyZRhbWZENcSRU9zOAV0fOvzNCdPBSB+c6Tq+BRBBHbTMGtNFRae0RZ3SfXHDwo GFMlNCWH+mxEBePIhBO5GrmDtlY48BSOaBDDH6gwJgKr+D42uc6TwLSkOFBlkA3cgsmQ083hLWl zSljBtLj0KUZhr18bbc5sNm1yju5X4jK3iRulUVo+3LtrqKqGqxHawG+HcGUw8czjql9Wa4ZxAA +AwO2GfkiXvM6rMSYATeiT+Cw67ArgwOMp8kPoyBug== X-Google-Smtp-Source: AGHT+IFcnDVWu4nH1k1wtZccaRUZd2xlNwl0w8mm34P+nLtvfbwQINQlzscDUUhZb4/rTiIvfpdWNt0k8Rtc X-Received: by 2002:a17:90b:5288:b0:2ee:c918:cd42 with SMTP id 98e67ed59e1d1-2f9e080f3c3mr3485230a91.22.1738757272983; Wed, 05 Feb 2025 04:07:52 -0800 (PST) Received: from postal.iol.unh.edu (postal.iol.unh.edu. [2606:4100:3880:1234::84]) by smtp-relay.gmail.com with ESMTPS id 98e67ed59e1d1-2f9e1c0cec0sm127334a91.0.2025.02.05.04.07.52 (version=TLS1_2 cipher=ECDHE-ECDSA-AES128-GCM-SHA256 bits=128/128); Wed, 05 Feb 2025 04:07:52 -0800 (PST) X-Relaying-Domain: iol.unh.edu Date: Wed, 05 Feb 2025 04:07:52 -0800 (PST) Message-ID: <67a35498.170a0220.38d5be.58faSMTPIN_ADDED_MISSING@mx.google.com> Received: from [172.17.0.5] (unknown [172.18.0.217]) by postal.iol.unh.edu (Postfix) with ESMTP id 29C2B6052471; Wed, 5 Feb 2025 07:07:52 -0500 (EST) Subject: |WARNING| pw150501 [PATCH] test/security: check MACSEC offload befor From: dpdklab@iol.unh.edu To: Test Report Cc: dpdk-test-reports@iol.unh.edu In-Reply-To: <20250124182235.3587648-1-gakhil@marvell.com> References: <20250124182235.3587648-1-gakhil@marvell.com> Content-Type: text/plain X-BeenThere: test-report@dpdk.org X-Mailman-Version: 2.1.29 Precedence: list List-Id: automatic DPDK test reports List-Unsubscribe: , List-Archive: List-Post: List-Help: List-Subscribe: , Errors-To: test-report-bounces@dpdk.org Test-Label: iol-compile-amd64-testing Test-Status: WARNING http://dpdk.org/patch/150501 _Testing issues_ Submitter: Akhil Goyal Date: Friday, January 24 2025 18:22:35 DPDK git baseline: Repo:dpdk Branch: master CommitID:e110e9ecc60a78e26026496b1697863312f262a4 150501 --> testing issues Upstream job id: Windows-Compile-DPDK-Native#26397 Test environment and result as below: +---------------------+--------------------+------------------+-------------------+-------------------+----------------------+-------------------------+ | Environment | dpdk_meson_compile | dpdk_compile_ovs | dpdk_compile_spdk | dpdk_msvc_compile | dpdk_mingw64_compile | dpdk_llvm_clang_compile | +=====================+====================+==================+===================+===================+======================+=========================+ | CentOS Stream 9 | PASS | PASS | PASS | SKIPPED | SKIPPED | SKIPPED | +---------------------+--------------------+------------------+-------------------+-------------------+----------------------+-------------------------+ | Fedora 40 (Clang) | PASS | PASS | PASS | SKIPPED | SKIPPED | SKIPPED | +---------------------+--------------------+------------------+-------------------+-------------------+----------------------+-------------------------+ | Debian Bullseye | PASS | PASS | PASS | SKIPPED | SKIPPED | SKIPPED | +---------------------+--------------------+------------------+-------------------+-------------------+----------------------+-------------------------+ | Fedora 40 | PASS | PASS | PASS | SKIPPED | SKIPPED | SKIPPED | +---------------------+--------------------+------------------+-------------------+-------------------+----------------------+-------------------------+ | Debian 12 | PASS | PASS | PASS | SKIPPED | SKIPPED | SKIPPED | +---------------------+--------------------+------------------+-------------------+-------------------+----------------------+-------------------------+ | Fedora 41 (Clang) | PASS | PASS | PASS | SKIPPED | SKIPPED | SKIPPED | +---------------------+--------------------+------------------+-------------------+-------------------+----------------------+-------------------------+ | Ubuntu 22.04 | PASS | PASS | PASS | SKIPPED | SKIPPED | SKIPPED | +---------------------+--------------------+------------------+-------------------+-------------------+----------------------+-------------------------+ | Fedora 41 | PASS | PASS | PASS | SKIPPED | SKIPPED | SKIPPED | +---------------------+--------------------+------------------+-------------------+-------------------+----------------------+-------------------------+ | openSUSE Leap 15 | PASS | SKIPPED | SKIPPED | SKIPPED | SKIPPED | SKIPPED | +---------------------+--------------------+------------------+-------------------+-------------------+----------------------+-------------------------+ | RHEL8 | PASS | PASS | SKIPPED | SKIPPED | SKIPPED | SKIPPED | +---------------------+--------------------+------------------+-------------------+-------------------+----------------------+-------------------------+ | Ubuntu 24.04 | PASS | PASS | PASS | SKIPPED | SKIPPED | SKIPPED | +---------------------+--------------------+------------------+-------------------+-------------------+----------------------+-------------------------+ | RHEL9 | PASS | PASS | SKIPPED | SKIPPED | SKIPPED | SKIPPED | +---------------------+--------------------+------------------+-------------------+-------------------+----------------------+-------------------------+ | Alpine | PASS | PASS | SKIPPED | SKIPPED | SKIPPED | SKIPPED | +---------------------+--------------------+------------------+-------------------+-------------------+----------------------+-------------------------+ | FreeBSD 13.4 | PASS | SKIPPED | SKIPPED | SKIPPED | SKIPPED | SKIPPED | +---------------------+--------------------+------------------+-------------------+-------------------+----------------------+-------------------------+ | FreeBSD 14.2 | PASS | SKIPPED | SKIPPED | SKIPPED | SKIPPED | SKIPPED | +---------------------+--------------------+------------------+-------------------+-------------------+----------------------+-------------------------+ | Ubuntu 20.04 | PASS | WARN | SKIPPED | SKIPPED | SKIPPED | SKIPPED | +---------------------+--------------------+------------------+-------------------+-------------------+----------------------+-------------------------+ | Windows Server 2022 | SKIPPED | SKIPPED | SKIPPED | PASS | PASS | PASS | +---------------------+--------------------+------------------+-------------------+-------------------+----------------------+-------------------------+ ==== 20 line log output for Ubuntu 20.04 (dpdk_compile_ovs): ==== --- Failed to get log output --- ==== End log output ==== CentOS Stream 9 Kernel: Depends on container host Compiler: gcc 11.5.0 20240719 (Red Hat 11.5.0-2) Fedora 40 (Clang) Kernel: Depends on container host Compiler: clang 18.1.8 (Fedora 18.1.8-1.fc40) Debian Bullseye Kernel: Depends on container host Compiler: gcc (Debian 10.2.1-6) 10.2.1 20210110 Fedora 40 Kernel: Depends on container host Compiler: gcc 14.2.1 20240912 (Red Hat 14.2.1-3) Debian 12 Kernel: Depends on container host Compiler: gcc (Debian 12.2.0-14) 12.2.0 Fedora 41 (Clang) Kernel: Depends on container host Compiler: clang 19.1.5 (Fedora 19.1.5-1.fc41) Ubuntu 22.04 Kernel: Depends on container host Compiler: gcc (Ubuntu 11.4.0-1ubuntu1~22.04) 11.4.0 Fedora 41 Kernel: Depends on container host Compiler: gcc 14.2.1 20240912 (Red Hat 14.2.1-3) openSUSE Leap 15 Kernel: Depends on container host Compiler: gcc (SUSE Linux) 7.5.0 RHEL8 Kernel: Depends on container host Compiler: gcc 8.5.0 20210514 (Red Hat 8.5.0-22) Ubuntu 24.04 Kernel: Depends on container host Compiler: gcc (Ubuntu 13.3.0-6ubuntu2~24.04) 13.3.0 RHEL9 Kernel: Depends on container host Compiler: gcc 11.5.0 20240719 (Red Hat 11.5.0-2) Alpine Kernel: Depends on container host Compiler: gcc (Alpine 14.2.0) 14.2.0 FreeBSD 13.4 Kernel: 13.4-RELEASE-p1 Compiler: clang 18.1.6 FreeBSD 14.2 Kernel: 14.2-RELEASE Compiler: clang 18.1.6 Ubuntu 20.04 Kernel: Depends on container host Compiler: gcc (Ubuntu 9.4.0-1ubuntu1~20.04.2) 9.4.0 Windows Server 2022 Kernel: 10.0.20348.2031 Compiler: clang 15.0.7, gcc 14.1.0 (MinGW), and MSVC VS 19.39.33521 To view detailed results, visit: https://lab.dpdk.org/results/dashboard/patchsets/32421/ UNH-IOL DPDK Community Lab To manage your email subscriptions, visit: https://lab.dpdk.org/results/dashboard/preferences/subscriptions/