From mboxrd@z Thu Jan 1 00:00:00 1970 Return-Path: Received: from mails.dpdk.org (mails.dpdk.org [217.70.189.124]) by inbox.dpdk.org (Postfix) with ESMTP id EDB2E4619A for ; Wed, 5 Feb 2025 13:14:22 +0100 (CET) Received: from mails.dpdk.org (localhost [127.0.0.1]) by mails.dpdk.org (Postfix) with ESMTP id E92F1402E4; Wed, 5 Feb 2025 13:14:22 +0100 (CET) Received: from mail-io1-f98.google.com (mail-io1-f98.google.com [209.85.166.98]) by mails.dpdk.org (Postfix) with ESMTP id 0E40F402DF for ; Wed, 5 Feb 2025 13:14:22 +0100 (CET) Received: by mail-io1-f98.google.com with SMTP id ca18e2360f4ac-844e9b8b0b9so442019439f.0 for ; Wed, 05 Feb 2025 04:14:21 -0800 (PST) DKIM-Signature: v=1; a=rsa-sha256; c=relaxed/relaxed; d=iol.unh.edu; s=unh-iol; t=1738757661; x=1739362461; darn=dpdk.org; h=references:in-reply-to:cc:to:from:subject:message-id:date:from:to :cc:subject:date:message-id:reply-to; bh=MWoGfmGTPw0sJt24BBV/nHZh6kwaTELBgvr2uz5x4SY=; b=a6Ejo0u8lZMS3xJH44nPahFjDcKrxYuLoY4zc3zRoqZUPwsLqDFYdnGl6dPa7jLlMy 0KqD5sa9dm8pyCE7lKPqEevif/MoY83uoDN91AH8H1eGuFEAAsdJuiD0d6DzDTRxr88v s1PZpQeZutQ48YsZz58ZYCjaazktShV8D0GL8= X-Google-DKIM-Signature: v=1; a=rsa-sha256; c=relaxed/relaxed; d=1e100.net; s=20230601; t=1738757661; x=1739362461; h=references:in-reply-to:cc:to:from:subject:message-id:date :x-gm-message-state:from:to:cc:subject:date:message-id:reply-to; bh=MWoGfmGTPw0sJt24BBV/nHZh6kwaTELBgvr2uz5x4SY=; b=RP8T3AuIfVY4CNKsgbB/uwMC6gN3fSRVaC82UZhhHOQHCQ3DbtHIjPYiBvxMRhEeiP y79u9TQH8x1AGrToNLLsDbI+enBnV6vRtwq4yGwPaK40JRDYeuXe5TGbzsAf0rq09o1d 04m4s4Ol5steGGWKhdCcYvnlMhw7oXE9DAjWGOwdQ8U4IIhQuPeCdCCS4iMF10G3VFJZ BVZ8PWOt03yySWrWhDchuw0w2OfGYcuv24zkLOifyR5/AHlVzj1aKdEspGrUEcPChSjy NrA/4mDbsKVehqb55RTwN1hIKgvlhZjzxI7Bw5Xb0VRx96x7xeOVrtZ7HCotJWpcNnX+ YwKQ== X-Gm-Message-State: AOJu0Yx8VgDhBy6p8kwmFmpp1LrFe9STS95Ii30E5bedV0ts7bDPyMah 1eQuAtsfFzcxwYLU4JUEiSVQu9JReuVsO70DHMNlhrn5M/I2zmOTHpAU3WBfqdaMrcuHT1TMoXN t2/hUmksNjyNdmKeEqPnsLOFTDEkIlNRTzbV1fE1Myz6KM1nq7TVwNaVh X-Gm-Gg: ASbGnctWqKkztSyWCFePqZweU6qLCMGlDbbPl+sZJL5jdI4sWEyBiiit5uLLsYaH6fp bvvNSWRSMrGSOGrGW8qApSPUH9jqphvhzmc5u2gdfrrorR8DqAkVzfvN4O7N2r4DPNigtQ7rE/t zv0Tgi2/HlEUQRjKyTic5fmgge1WiSrp5WhUTvsXiZXNNoFbxF1172r0vWAK9MMLqx2JLPYZZYO 6HjTMCPx9NWgI2jasEJSWMnIEZb8MPwkPNtKLvWIWLvNdyFQWaQh3mfFjHxBViEsgLIt5Vv1QiZ BuE8q444LGlmgnxvi/G45OMvmCXmL4YWtBqwEAaRmQ== X-Google-Smtp-Source: AGHT+IEWLUarvo3v3XnsEwe+kAaVATRBsEUjxKhivPuIWw3Z7q8CS5M7jtxvdRbQ7YRMNfZ+mPv6W+hj71ik X-Received: by 2002:a05:6602:7210:b0:84f:2929:5ee0 with SMTP id ca18e2360f4ac-854ea50f874mr231004539f.10.1738757661383; Wed, 05 Feb 2025 04:14:21 -0800 (PST) Received: from postal.iol.unh.edu (postal.iol.unh.edu. [2606:4100:3880:1234::84]) by smtp-relay.gmail.com with ESMTPS id ca18e2360f4ac-854a15f8c25sm82283639f.12.2025.02.05.04.14.21 (version=TLS1_2 cipher=ECDHE-ECDSA-AES128-GCM-SHA256 bits=128/128); Wed, 05 Feb 2025 04:14:21 -0800 (PST) X-Relaying-Domain: iol.unh.edu Date: Wed, 05 Feb 2025 04:14:21 -0800 (PST) Message-ID: <67a3561d.050a0220.169285.6ca0SMTPIN_ADDED_MISSING@mx.google.com> Received: from [172.17.0.5] (unknown [172.18.0.217]) by postal.iol.unh.edu (Postfix) with ESMTP id D552E6052471; Wed, 5 Feb 2025 07:14:20 -0500 (EST) Subject: |WARNING| pw150502 [PATCH] [v2] build: force gcc to initialize paddi From: dpdklab@iol.unh.edu To: Test Report Cc: dpdk-test-reports@iol.unh.edu In-Reply-To: <20250124182647.117636-2-stephen@networkplumber.org> References: <20250124182647.117636-2-stephen@networkplumber.org> Content-Type: text/plain X-BeenThere: test-report@dpdk.org X-Mailman-Version: 2.1.29 Precedence: list List-Id: automatic DPDK test reports List-Unsubscribe: , List-Archive: List-Post: List-Help: List-Subscribe: , Errors-To: test-report-bounces@dpdk.org Test-Label: iol-compile-amd64-testing Test-Status: WARNING http://dpdk.org/patch/150502 _Testing issues_ Submitter: Stephen Hemminger Date: Friday, January 24 2025 18:26:48 DPDK git baseline: Repo:dpdk Branch: master CommitID:5b856206c74bbcf19e12cafa15382a7e15b0a1b5 150502 --> testing issues Upstream job id: Windows-Compile-DPDK-Native#26398 Test environment and result as below: +---------------------+--------------------+-------------------+------------------+-------------------+----------------------+-------------------------+ | Environment | dpdk_meson_compile | dpdk_msvc_compile | dpdk_compile_ovs | dpdk_compile_spdk | dpdk_mingw64_compile | dpdk_llvm_clang_compile | +=====================+====================+===================+==================+===================+======================+=========================+ | FreeBSD 13.4 | PASS | SKIPPED | SKIPPED | SKIPPED | SKIPPED | SKIPPED | +---------------------+--------------------+-------------------+------------------+-------------------+----------------------+-------------------------+ | FreeBSD 14.2 | PASS | SKIPPED | SKIPPED | SKIPPED | SKIPPED | SKIPPED | +---------------------+--------------------+-------------------+------------------+-------------------+----------------------+-------------------------+ | CentOS Stream 9 | PASS | SKIPPED | PASS | PASS | SKIPPED | SKIPPED | +---------------------+--------------------+-------------------+------------------+-------------------+----------------------+-------------------------+ | Debian Bullseye | PASS | SKIPPED | PASS | PASS | SKIPPED | SKIPPED | +---------------------+--------------------+-------------------+------------------+-------------------+----------------------+-------------------------+ | Debian 12 | PASS | SKIPPED | PASS | PASS | SKIPPED | SKIPPED | +---------------------+--------------------+-------------------+------------------+-------------------+----------------------+-------------------------+ | Fedora 40 (Clang) | PASS | SKIPPED | PASS | PASS | SKIPPED | SKIPPED | +---------------------+--------------------+-------------------+------------------+-------------------+----------------------+-------------------------+ | Fedora 40 | PASS | SKIPPED | PASS | PASS | SKIPPED | SKIPPED | +---------------------+--------------------+-------------------+------------------+-------------------+----------------------+-------------------------+ | Fedora 41 (Clang) | PASS | SKIPPED | PASS | PASS | SKIPPED | SKIPPED | +---------------------+--------------------+-------------------+------------------+-------------------+----------------------+-------------------------+ | Fedora 41 | PASS | SKIPPED | PASS | PASS | SKIPPED | SKIPPED | +---------------------+--------------------+-------------------+------------------+-------------------+----------------------+-------------------------+ | openSUSE Leap 15 | PASS | SKIPPED | SKIPPED | SKIPPED | SKIPPED | SKIPPED | +---------------------+--------------------+-------------------+------------------+-------------------+----------------------+-------------------------+ | RHEL9 | PASS | SKIPPED | PASS | SKIPPED | SKIPPED | SKIPPED | +---------------------+--------------------+-------------------+------------------+-------------------+----------------------+-------------------------+ | Ubuntu 20.04 | PASS | SKIPPED | WARN | SKIPPED | SKIPPED | SKIPPED | +---------------------+--------------------+-------------------+------------------+-------------------+----------------------+-------------------------+ | Ubuntu 22.04 | PASS | SKIPPED | PASS | PASS | SKIPPED | SKIPPED | +---------------------+--------------------+-------------------+------------------+-------------------+----------------------+-------------------------+ | Ubuntu 24.04 | PASS | SKIPPED | PASS | PASS | SKIPPED | SKIPPED | +---------------------+--------------------+-------------------+------------------+-------------------+----------------------+-------------------------+ | Alpine | PASS | SKIPPED | PASS | SKIPPED | SKIPPED | SKIPPED | +---------------------+--------------------+-------------------+------------------+-------------------+----------------------+-------------------------+ | RHEL8 | PASS | SKIPPED | PASS | SKIPPED | SKIPPED | SKIPPED | +---------------------+--------------------+-------------------+------------------+-------------------+----------------------+-------------------------+ | Windows Server 2022 | SKIPPED | PASS | SKIPPED | SKIPPED | PASS | PASS | +---------------------+--------------------+-------------------+------------------+-------------------+----------------------+-------------------------+ ==== 20 line log output for Ubuntu 20.04 (dpdk_compile_ovs): ==== --- Failed to get log output --- ==== End log output ==== FreeBSD 13.4 Kernel: 13.4-RELEASE-p1 Compiler: clang 18.1.6 FreeBSD 14.2 Kernel: 14.2-RELEASE Compiler: clang 18.1.6 CentOS Stream 9 Kernel: Depends on container host Compiler: gcc 11.5.0 20240719 (Red Hat 11.5.0-2) Debian Bullseye Kernel: Depends on container host Compiler: gcc (Debian 10.2.1-6) 10.2.1 20210110 Debian 12 Kernel: Depends on container host Compiler: gcc (Debian 12.2.0-14) 12.2.0 Fedora 40 (Clang) Kernel: Depends on container host Compiler: clang 18.1.8 (Fedora 18.1.8-1.fc40) Fedora 40 Kernel: Depends on container host Compiler: gcc 14.2.1 20240912 (Red Hat 14.2.1-3) Fedora 41 (Clang) Kernel: Depends on container host Compiler: clang 19.1.5 (Fedora 19.1.5-1.fc41) Fedora 41 Kernel: Depends on container host Compiler: gcc 14.2.1 20240912 (Red Hat 14.2.1-3) openSUSE Leap 15 Kernel: Depends on container host Compiler: gcc (SUSE Linux) 7.5.0 RHEL9 Kernel: Depends on container host Compiler: gcc 11.5.0 20240719 (Red Hat 11.5.0-2) Ubuntu 20.04 Kernel: Depends on container host Compiler: gcc (Ubuntu 9.4.0-1ubuntu1~20.04.2) 9.4.0 Ubuntu 22.04 Kernel: Depends on container host Compiler: gcc (Ubuntu 11.4.0-1ubuntu1~22.04) 11.4.0 Ubuntu 24.04 Kernel: Depends on container host Compiler: gcc (Ubuntu 13.3.0-6ubuntu2~24.04) 13.3.0 Alpine Kernel: Depends on container host Compiler: gcc (Alpine 14.2.0) 14.2.0 RHEL8 Kernel: Depends on container host Compiler: gcc 8.5.0 20210514 (Red Hat 8.5.0-22) Windows Server 2022 Kernel: 10.0.20348.2031 Compiler: clang 15.0.7, gcc 14.1.0 (MinGW), and MSVC VS 19.39.33521 To view detailed results, visit: https://lab.dpdk.org/results/dashboard/patchsets/32422/ UNH-IOL DPDK Community Lab To manage your email subscriptions, visit: https://lab.dpdk.org/results/dashboard/preferences/subscriptions/