From mboxrd@z Thu Jan 1 00:00:00 1970 Return-Path: Received: from mails.dpdk.org (mails.dpdk.org [217.70.189.124]) by inbox.dpdk.org (Postfix) with ESMTP id D5C394619A for ; Wed, 5 Feb 2025 13:20:22 +0100 (CET) Received: from mails.dpdk.org (localhost [127.0.0.1]) by mails.dpdk.org (Postfix) with ESMTP id C9EFC402E3; Wed, 5 Feb 2025 13:20:22 +0100 (CET) Received: from mail-oa1-f97.google.com (mail-oa1-f97.google.com [209.85.160.97]) by mails.dpdk.org (Postfix) with ESMTP id ABFE3402E3 for ; Wed, 5 Feb 2025 13:20:20 +0100 (CET) Received: by mail-oa1-f97.google.com with SMTP id 586e51a60fabf-2b38896c534so2315473fac.0 for ; Wed, 05 Feb 2025 04:20:20 -0800 (PST) DKIM-Signature: v=1; a=rsa-sha256; c=relaxed/relaxed; d=iol.unh.edu; s=unh-iol; t=1738758020; x=1739362820; darn=dpdk.org; h=cc:to:from:subject:message-id:date:from:to:cc:subject:date :message-id:reply-to; bh=fLesFJQiy8xlW1sx5AYucfawL2+p6XW3AZBjn7Xeb8k=; b=YbaqVmEo+fMwamRAWTUDvFn89C/JtjUiOLhl/Im4FmzPewFeQ2pbm9AYAlLpPxvJAX dmN5GvTnjyvpzg64VtkrPlh7+FnF3zgPjC+08NcQH6T6QVRaVZ+mie5dHfiJwOoiA26s rQoEBA6wUjAoz40kYzfJ78DGD+40SmLkXD64k= X-Google-DKIM-Signature: v=1; a=rsa-sha256; c=relaxed/relaxed; d=1e100.net; s=20230601; t=1738758020; x=1739362820; h=cc:to:from:subject:message-id:date:x-gm-message-state:from:to:cc :subject:date:message-id:reply-to; bh=fLesFJQiy8xlW1sx5AYucfawL2+p6XW3AZBjn7Xeb8k=; b=Q88KovR9DnAuc/a7aY4nTjYmROmxpwQo7FWqC++GQOvx9zV1Hun8ldPeuwHmSTPGTU H12H56tHXdK8Rw+nDfYaOkCykBXxN7Cofr1EyiHwjOfu+9piTrskWza5LLNaw/rPxarH EfQLwHyaKPBhQdgJ/jGl2iJMI70AQqyVTXanqwQ87bleFzFfxai4q+KYepS9XXnu4Mq5 urrPmfplvyebRUznbf3XsuX4CNjbRW5rSEkMve+EGZjNTJvRZdcUugYfbTow5RZMf/6l rKD00OAhmQN8XIZwGAzIG+X7E+EjLwvy78XMlhOG+gNtjdyNOgUEmmDvoEZlmgquwvbh 8Gjw== X-Gm-Message-State: AOJu0Yz9SncTR4NQAi5aVvgni2NzLZ4xuwsmTQj0Ov/u+KcvmzxpGM6L P9jkTkY59t3WO3NehS2XiOO0+mCbqnRbcdbX/RCItzA7DZ0RVVmdxPAKylZUUSYsLbttFxvCnO9 T6UURkESuHzKu2snnh18KAy+tlHrtGLZC X-Gm-Gg: ASbGncv5kMLnvxCZuxUBp/RAFYuIOUxCrUNlNWdXVW1HPpesYkNj/pFOmvu78IoqATc UhJu+t4KRzovC12bXiG1YiJjGYkvZt7iBZBsRPV1f7xMKhg9YvBMbAnCHiWts94jvSr2cOeeInr bEKYA4AmWfkVMPxMXV6gDRO1f6ooQd3QC5y7wTHMT5rg9W5/vxDThLQTAN7pOXQ/UGlQtVVb4yr dIwpyW0qxnmYgj3U7N4zsGjiHrHWXws2ZCvADuYQTmz27RwDlmv1JKCcnjf9lm6sIcpux2Fc6Ln fw5MbthBRkuuqvdY67M7Kz2jXG9fwA== X-Google-Smtp-Source: AGHT+IF0Z4n4TW6eONtm/9j+83RhFiqZ+oUpsGDxE5CzMD1gWxHMvxd85lKDuBvbAtAmezOfmHgVAj1iGIBK X-Received: by 2002:a05:6870:5589:b0:29e:3d0b:834 with SMTP id 586e51a60fabf-2b804f0eeb4mr1682154fac.5.1738758019852; Wed, 05 Feb 2025 04:20:19 -0800 (PST) Received: from postal.iol.unh.edu (postal.iol.unh.edu. [132.177.123.84]) by smtp-relay.gmail.com with ESMTPS id 586e51a60fabf-2b7f8683e5dsm166111fac.20.2025.02.05.04.20.19 (version=TLS1_2 cipher=ECDHE-ECDSA-AES128-GCM-SHA256 bits=128/128); Wed, 05 Feb 2025 04:20:19 -0800 (PST) X-Relaying-Domain: iol.unh.edu Date: Wed, 05 Feb 2025 04:20:19 -0800 (PST) Message-ID: <67a35783.050a0220.2ac5f1.8045SMTPIN_ADDED_MISSING@mx.google.com> Received: from [172.17.0.5] (unknown [172.18.0.217]) by postal.iol.unh.edu (Postfix) with ESMTP id 45ED36052471; Wed, 5 Feb 2025 07:20:19 -0500 (EST) Subject: |SUCCESS| [GIT MASTER] 7ce7d3341d7e21c2a81f2fea8e451681d7306d77 From: dpdklab@iol.unh.edu To: Test Report Cc: dpdk-test-reports@iol.unh.edu, Xueming Li , Christian Ehrhardt , Kevin Traynor , Luca Boccassi Content-Type: text/plain X-BeenThere: test-report@dpdk.org X-Mailman-Version: 2.1.29 Precedence: list List-Id: automatic DPDK test reports List-Unsubscribe: , List-Archive: List-Post: List-Help: List-Subscribe: , Errors-To: test-report-bounces@dpdk.org _Testing PASS_ Branch: tags/v22.11 7ce7d3341d7e21c2a81f2fea8e451681d7306d77 --> testing pass Upstream job id: ACVP-FIPS-testing#8785 Test environment and result as below: +--------------------+----------------------+----------------------+ | Environment | compressdev_zlib_pmd | dpdk_fips_validation | +====================+======================+======================+ | Ubuntu 22.04 (ARM) | PASS | SKIPPED | +--------------------+----------------------+----------------------+ | Ubuntu 22.04 | PASS | SKIPPED | +--------------------+----------------------+----------------------+ | Ubuntu 20.04 | SKIPPED | PASS | +--------------------+----------------------+----------------------+ Ubuntu 22.04 (ARM) Kernel: 5.15.0-97-generic Compiler: gcc gcc (Ubuntu 11.4.0-1ubuntu1~22.04) 11.4.0 Ubuntu 22.04 Kernel: 5.15.0-100-generic Compiler: gcc gcc (Ubuntu 11.4.0-1ubuntu1~22.04) 11.4.0 Ubuntu 20.04 Kernel: Depends on container host Compiler: gcc (Ubuntu 9.4.0-1ubuntu1~20.04.2) 9.4.0 To view detailed results, visit: https://lab.dpdk.org/results/dashboard/tarballs/32445/ UNH-IOL DPDK Community Lab To manage your email subscriptions, visit: https://lab.dpdk.org/results/dashboard/preferences/subscriptions/