From mboxrd@z Thu Jan 1 00:00:00 1970 Return-Path: Received: from mails.dpdk.org (mails.dpdk.org [217.70.189.124]) by inbox.dpdk.org (Postfix) with ESMTP id 1EC604619A for ; Wed, 5 Feb 2025 13:21:59 +0100 (CET) Received: from mails.dpdk.org (localhost [127.0.0.1]) by mails.dpdk.org (Postfix) with ESMTP id 19640402E3; Wed, 5 Feb 2025 13:21:59 +0100 (CET) Received: from mail-qv1-f100.google.com (mail-qv1-f100.google.com [209.85.219.100]) by mails.dpdk.org (Postfix) with ESMTP id EE228402DF for ; Wed, 5 Feb 2025 13:21:56 +0100 (CET) Received: by mail-qv1-f100.google.com with SMTP id 6a1803df08f44-6dd049b5428so51117986d6.2 for ; Wed, 05 Feb 2025 04:21:56 -0800 (PST) DKIM-Signature: v=1; a=rsa-sha256; c=relaxed/relaxed; d=iol.unh.edu; s=unh-iol; t=1738758116; x=1739362916; darn=dpdk.org; h=references:in-reply-to:cc:to:from:subject:message-id:date:from:to :cc:subject:date:message-id:reply-to; bh=6YUQqq5qFQsaduiBsyhg/jZgWpqza92igfOQBZmkix4=; b=OmvS7lnfUHM1K4i5p0IfX+h/ItJKGvB2WShAeQg3Q1l3Xkx3z2zOyZFuen0rPIu2Aw GG1MPzOl6Zrvc5Omx38yB3hqM859RLrXBUOVUDtfww5qA7xzFuKn/kvWKijYnUwFWxKC Fqx9EZX5Da4NFK81cLJjhtqSe5/+EPebbGOTE= X-Google-DKIM-Signature: v=1; a=rsa-sha256; c=relaxed/relaxed; d=1e100.net; s=20230601; t=1738758116; x=1739362916; h=references:in-reply-to:cc:to:from:subject:message-id:date :x-gm-message-state:from:to:cc:subject:date:message-id:reply-to; bh=6YUQqq5qFQsaduiBsyhg/jZgWpqza92igfOQBZmkix4=; b=ude3k0PgGwUYC7eEj6d2SCoNcn8C+/aCpGLrICIOhgapH+vvETSYwUj8IP5x8CY3w/ /iKj9tAUBcvMj5MBHlQ5u6krNk1O54E2qCFKIfXsVRHAOTdYKR9BBV905ox32Sas1bBJ p/1AnE+wI8viUO4Cr6M5c/FuadV7/WqaEQRqZYcRr4ZICeIdgFwjSZHIeAbBeaybP4zX UHOWTqwV1IJFlFJ/ZOYNT5P3Vbcr8nT2WJJu7Py/kVF2zH5QBTeT+fk+ysZUPv/BW67m nRt3qHFchW1PP9hliWeKCcoV+jbU2WHc6EsI9nFw5T8VJNZhNfc00Ht/OKrwlgsCalal pDxg== X-Gm-Message-State: AOJu0Yw7Q1potAJN+a0/bKN6wOStSl7npVQCDoKZDVLQFTNBePq9RIMI aRS0/QLwFJvTaG+nGDDoa80qTxv2S7fHsEwzPyEMfkV1X+gpediEKZBc2Qh072WVR27Fehj9llT NxVkHscRwesKI1BrEia9IunUDpaF5AHlBTWbPCGEl X-Gm-Gg: ASbGncsyg7of6jEQlSvKbKMkqZT/8AYnH6j1D7FHLZFKTxg0QlMTSEd5o1jTrL89kis xr5D4J2WY9Kta1IJ92VVI1ZpaEH9mcs5idLETNMOAa6zwQIqYujXMZCgCrH+KtjDwgxgK2Er5o+ /jfKHTlQCeHQgRqkJBWfd8pZ1MjiefB1iFMRiw71I1aYcFtmFODTwPgdEBh/gwzobYKGg5f9FAK ZjoO93EvnBgYOE5pcavoc4bCM2HUFHKwOVFnScEaAgOgS82t2yxZDc/9Dd+JwHEVFRctFQ/HGlt KCuUGTNQZ2zzKaKMxTp4MhG5A4rOPg== X-Google-Smtp-Source: AGHT+IGICF6ne4KunmIIMQuQaZ3IaNRQhhVs1qzRkiFjSx0NNsyHlvW1oRSXqes80Pipo3Q31K9+U2RzWolA X-Received: by 2002:a05:6214:53c8:b0:6d8:96a6:ec31 with SMTP id 6a1803df08f44-6e42fc4a97amr30225576d6.35.1738758116263; Wed, 05 Feb 2025 04:21:56 -0800 (PST) Received: from postal.iol.unh.edu (postal.iol.unh.edu. [132.177.123.84]) by smtp-relay.gmail.com with ESMTPS id 6a1803df08f44-6e25482fd2asm9938676d6.30.2025.02.05.04.21.56 (version=TLS1_2 cipher=ECDHE-ECDSA-AES128-GCM-SHA256 bits=128/128); Wed, 05 Feb 2025 04:21:56 -0800 (PST) X-Relaying-Domain: iol.unh.edu Date: Wed, 05 Feb 2025 04:21:56 -0800 (PST) Message-ID: <67a357e4.050a0220.351dcf.e2f0SMTPIN_ADDED_MISSING@mx.google.com> Received: from [172.17.0.5] (unknown [172.18.0.217]) by postal.iol.unh.edu (Postfix) with ESMTP id EFF4B6052471; Wed, 5 Feb 2025 07:21:55 -0500 (EST) Subject: |WARNING| pw150456-150457 [PATCH] [2/2] dmadev: avoid copies in trac From: dpdklab@iol.unh.edu To: Test Report Cc: dpdk-test-reports@iol.unh.edu In-Reply-To: <20250124161408.310581-2-david.marchand@redhat.com> References: <20250124161408.310581-2-david.marchand@redhat.com> Content-Type: text/plain X-BeenThere: test-report@dpdk.org X-Mailman-Version: 2.1.29 Precedence: list List-Id: automatic DPDK test reports List-Unsubscribe: , List-Archive: List-Post: List-Help: List-Subscribe: , Errors-To: test-report-bounces@dpdk.org Test-Label: iol-compile-amd64-testing Test-Status: WARNING http://dpdk.org/patch/150457 _Testing issues_ Submitter: David Marchand Date: Friday, January 24 2025 16:14:08 DPDK git baseline: Repo:dpdk Branch: master CommitID:5b856206c74bbcf19e12cafa15382a7e15b0a1b5 150456-150457 --> testing issues Upstream job id: Windows-Compile-DPDK-Native#26399 Test environment and result as below: +---------------------+--------------------+------------------+-------------------+-------------------+----------------------+-------------------------+ | Environment | dpdk_meson_compile | dpdk_compile_ovs | dpdk_compile_spdk | dpdk_msvc_compile | dpdk_mingw64_compile | dpdk_llvm_clang_compile | +=====================+====================+==================+===================+===================+======================+=========================+ | Debian 12 | PASS | PASS | PASS | SKIPPED | SKIPPED | SKIPPED | +---------------------+--------------------+------------------+-------------------+-------------------+----------------------+-------------------------+ | CentOS Stream 9 | PASS | PASS | PASS | SKIPPED | SKIPPED | SKIPPED | +---------------------+--------------------+------------------+-------------------+-------------------+----------------------+-------------------------+ | Debian Bullseye | PASS | PASS | PASS | SKIPPED | SKIPPED | SKIPPED | +---------------------+--------------------+------------------+-------------------+-------------------+----------------------+-------------------------+ | openSUSE Leap 15 | PASS | SKIPPED | SKIPPED | SKIPPED | SKIPPED | SKIPPED | +---------------------+--------------------+------------------+-------------------+-------------------+----------------------+-------------------------+ | Fedora 40 (Clang) | PASS | PASS | PASS | SKIPPED | SKIPPED | SKIPPED | +---------------------+--------------------+------------------+-------------------+-------------------+----------------------+-------------------------+ | Fedora 40 | PASS | PASS | PASS | SKIPPED | SKIPPED | SKIPPED | +---------------------+--------------------+------------------+-------------------+-------------------+----------------------+-------------------------+ | Fedora 41 | PASS | PASS | PASS | SKIPPED | SKIPPED | SKIPPED | +---------------------+--------------------+------------------+-------------------+-------------------+----------------------+-------------------------+ | Fedora 41 (Clang) | PASS | PASS | PASS | SKIPPED | SKIPPED | SKIPPED | +---------------------+--------------------+------------------+-------------------+-------------------+----------------------+-------------------------+ | Ubuntu 22.04 | PASS | PASS | PASS | SKIPPED | SKIPPED | SKIPPED | +---------------------+--------------------+------------------+-------------------+-------------------+----------------------+-------------------------+ | Ubuntu 20.04 | PASS | WARN | SKIPPED | SKIPPED | SKIPPED | SKIPPED | +---------------------+--------------------+------------------+-------------------+-------------------+----------------------+-------------------------+ | RHEL9 | PASS | PASS | SKIPPED | SKIPPED | SKIPPED | SKIPPED | +---------------------+--------------------+------------------+-------------------+-------------------+----------------------+-------------------------+ | RHEL8 | PASS | PASS | SKIPPED | SKIPPED | SKIPPED | SKIPPED | +---------------------+--------------------+------------------+-------------------+-------------------+----------------------+-------------------------+ | Alpine | PASS | PASS | SKIPPED | SKIPPED | SKIPPED | SKIPPED | +---------------------+--------------------+------------------+-------------------+-------------------+----------------------+-------------------------+ | FreeBSD 13.4 | PASS | SKIPPED | SKIPPED | SKIPPED | SKIPPED | SKIPPED | +---------------------+--------------------+------------------+-------------------+-------------------+----------------------+-------------------------+ | FreeBSD 14.2 | PASS | SKIPPED | SKIPPED | SKIPPED | SKIPPED | SKIPPED | +---------------------+--------------------+------------------+-------------------+-------------------+----------------------+-------------------------+ | Ubuntu 24.04 | PASS | PASS | PASS | SKIPPED | SKIPPED | SKIPPED | +---------------------+--------------------+------------------+-------------------+-------------------+----------------------+-------------------------+ | Windows Server 2022 | SKIPPED | SKIPPED | SKIPPED | PASS | PASS | PASS | +---------------------+--------------------+------------------+-------------------+-------------------+----------------------+-------------------------+ ==== 20 line log output for Ubuntu 20.04 (dpdk_compile_ovs): ==== --- Failed to get log output --- ==== End log output ==== Debian 12 Kernel: Depends on container host Compiler: gcc (Debian 12.2.0-14) 12.2.0 CentOS Stream 9 Kernel: Depends on container host Compiler: gcc 11.5.0 20240719 (Red Hat 11.5.0-2) Debian Bullseye Kernel: Depends on container host Compiler: gcc (Debian 10.2.1-6) 10.2.1 20210110 openSUSE Leap 15 Kernel: Depends on container host Compiler: gcc (SUSE Linux) 7.5.0 Fedora 40 (Clang) Kernel: Depends on container host Compiler: clang 18.1.8 (Fedora 18.1.8-1.fc40) Fedora 40 Kernel: Depends on container host Compiler: gcc 14.2.1 20240912 (Red Hat 14.2.1-3) Fedora 41 Kernel: Depends on container host Compiler: gcc 14.2.1 20240912 (Red Hat 14.2.1-3) Fedora 41 (Clang) Kernel: Depends on container host Compiler: clang 19.1.5 (Fedora 19.1.5-1.fc41) Ubuntu 22.04 Kernel: Depends on container host Compiler: gcc (Ubuntu 11.4.0-1ubuntu1~22.04) 11.4.0 Ubuntu 20.04 Kernel: Depends on container host Compiler: gcc (Ubuntu 9.4.0-1ubuntu1~20.04.2) 9.4.0 RHEL9 Kernel: Depends on container host Compiler: gcc 11.5.0 20240719 (Red Hat 11.5.0-2) RHEL8 Kernel: Depends on container host Compiler: gcc 8.5.0 20210514 (Red Hat 8.5.0-22) Alpine Kernel: Depends on container host Compiler: gcc (Alpine 14.2.0) 14.2.0 FreeBSD 13.4 Kernel: 13.4-RELEASE-p1 Compiler: clang 18.1.6 FreeBSD 14.2 Kernel: 14.2-RELEASE Compiler: clang 18.1.6 Ubuntu 24.04 Kernel: Depends on container host Compiler: gcc (Ubuntu 13.3.0-6ubuntu2~24.04) 13.3.0 Windows Server 2022 Kernel: 10.0.20348.2031 Compiler: clang 15.0.7, gcc 14.1.0 (MinGW), and MSVC VS 19.39.33521 To view detailed results, visit: https://lab.dpdk.org/results/dashboard/patchsets/32416/ UNH-IOL DPDK Community Lab To manage your email subscriptions, visit: https://lab.dpdk.org/results/dashboard/preferences/subscriptions/