automatic DPDK test reports
 help / color / mirror / Atom feed
From: dpdklab@iol.unh.edu
To: Test Report <test-report@dpdk.org>
Cc: dpdk-test-reports@iol.unh.edu
Subject: |SUCCESS| pw150932-150965 [PATCH] [v2,34/34] net/ntnic: remove tag E
Date: Wed, 05 Feb 2025 04:30:04 -0800 (PST)	[thread overview]
Message-ID: <67a359cc.050a0220.23a1c5.299bSMTPIN_ADDED_MISSING@mx.google.com> (raw)
In-Reply-To: <20250205104548.1533554-35-sil-plv@napatech.com>

Test-Label: iol-unit-amd64-testing
Test-Status: SUCCESS
http://dpdk.org/patch/150965

_Testing PASS_

Submitter: Serhii Iliushyk <sil-plv@napatech.com>
Date: Wednesday, February 05 2025 10:45:43 
DPDK git baseline: Repo:dpdk
  Branch: master
  CommitID:dc4ce7c2538b713e16887eb598da309bc7b4d528

150932-150965 --> testing pass

Upstream job id: Generic-Unit-Test-DPDK#311803

Test environment and result as below:

+---------------------+----------------+
|     Environment     | dpdk_unit_test |
+=====================+================+
| Debian Bullseye     | PASS           |
+---------------------+----------------+
| CentOS Stream 9     | PASS           |
+---------------------+----------------+
| Debian 12           | PASS           |
+---------------------+----------------+
| Fedora 40 (Clang)   | PASS           |
+---------------------+----------------+
| Fedora 40           | PASS           |
+---------------------+----------------+
| Ubuntu 24.04        | PASS           |
+---------------------+----------------+
| Fedora 41           | PASS           |
+---------------------+----------------+
| Fedora 41 (Clang)   | PASS           |
+---------------------+----------------+
| RHEL9               | PASS           |
+---------------------+----------------+
| RHEL8               | PASS           |
+---------------------+----------------+
| Ubuntu 20.04        | PASS           |
+---------------------+----------------+
| Ubuntu 22.04        | PASS           |
+---------------------+----------------+
| Windows Server 2022 | PASS           |
+---------------------+----------------+


Debian Bullseye
	Kernel: Depends on container host
	Compiler: gcc (Debian 10.2.1-6) 10.2.1 20210110

CentOS Stream 9
	Kernel: Depends on container host
	Compiler: gcc 11.5.0 20240719 (Red Hat 11.5.0-2)

Debian 12
	Kernel: Depends on container host
	Compiler: gcc (Debian 12.2.0-14) 12.2.0

Fedora 40 (Clang)
	Kernel: Depends on container host
	Compiler: clang 18.1.8 (Fedora 18.1.8-1.fc40)

Fedora 40
	Kernel: Depends on container host
	Compiler: gcc 14.2.1 20240912 (Red Hat 14.2.1-3)

Ubuntu 24.04
	Kernel: Depends on container host
	Compiler: gcc (Ubuntu 13.3.0-6ubuntu2~24.04) 13.3.0

Fedora 41
	Kernel: Depends on container host
	Compiler: gcc 14.2.1 20240912 (Red Hat 14.2.1-3)

Fedora 41 (Clang)
	Kernel: Depends on container host
	Compiler: clang 19.1.5 (Fedora 19.1.5-1.fc41)

RHEL9
	Kernel: Depends on container host
	Compiler: gcc 11.5.0 20240719 (Red Hat 11.5.0-2)

RHEL8
	Kernel: Depends on container host
	Compiler: gcc 8.5.0 20210514 (Red Hat 8.5.0-22)

Ubuntu 20.04
	Kernel: Depends on container host
	Compiler: gcc (Ubuntu 9.4.0-1ubuntu1~20.04.2) 9.4.0

Ubuntu 22.04
	Kernel: Depends on container host
	Compiler: gcc (Ubuntu 11.4.0-1ubuntu1~22.04) 11.4.0

Windows Server 2022
	Kernel: 10.0.20348.2031
	Compiler: clang 15.0.7, gcc 14.1.0 (MinGW), and MSVC VS 19.39.33521

To view detailed results, visit:
https://lab.dpdk.org/results/dashboard/patchsets/32496/

UNH-IOL DPDK Community Lab

To manage your email subscriptions, visit: 
https://lab.dpdk.org/results/dashboard/preferences/subscriptions/

  parent reply	other threads:[~2025-02-05 12:30 UTC|newest]

Thread overview: 19+ messages / expand[flat|nested]  mbox.gz  Atom feed  top
     [not found] <20250205104548.1533554-35-sil-plv@napatech.com>
2025-02-05 10:26 ` |SUCCESS| pw150932-150965 [PATCH v2 34/34] net/ntnic: remove tag EXPERIMENTAL qemudev
2025-02-05 10:31 ` qemudev
2025-02-05 10:52 ` |SUCCESS| pw150965 " checkpatch
2025-02-05 11:44 ` |SUCCESS| pw150932-150965 [PATCH] [v2,34/34] net/ntnic: remove tag E dpdklab
2025-02-05 11:45 ` |SUCCESS| pw150965 [PATCH v2 34/34] net/ntnic: remove tag EXPERIMENTAL 0-day Robot
2025-02-05 11:46 ` |PENDING| pw150932-150965 [PATCH] [v2,34/34] net/ntnic: remove tag E dpdklab
2025-02-05 11:48 ` dpdklab
2025-02-05 11:51 ` |SUCCESS| " dpdklab
2025-02-05 11:54 ` dpdklab
2025-02-05 11:57 ` |PENDING| " dpdklab
2025-02-05 11:59 ` |SUCCESS| " dpdklab
2025-02-05 12:06 ` dpdklab
2025-02-05 12:14 ` dpdklab
2025-02-05 12:26 ` |PENDING| " dpdklab
2025-02-05 12:30 ` dpdklab [this message]
2025-02-05 13:00 ` |SUCCESS| " dpdklab
2025-02-05 14:54 ` dpdklab
2025-02-05 15:53 ` dpdklab
2025-02-05 15:56 ` dpdklab

Reply instructions:

You may reply publicly to this message via plain-text email
using any one of the following methods:

* Save the following mbox file, import it into your mail client,
  and reply-to-all from there: mbox

  Avoid top-posting and favor interleaved quoting:
  https://en.wikipedia.org/wiki/Posting_style#Interleaved_style

* Reply using the --to, --cc, and --in-reply-to
  switches of git-send-email(1):

  git send-email \
    --in-reply-to=67a359cc.050a0220.23a1c5.299bSMTPIN_ADDED_MISSING@mx.google.com \
    --to=dpdklab@iol.unh.edu \
    --cc=dpdk-test-reports@iol.unh.edu \
    --cc=test-report@dpdk.org \
    /path/to/YOUR_REPLY

  https://kernel.org/pub/software/scm/git/docs/git-send-email.html

* If your mail client supports setting the In-Reply-To header
  via mailto: links, try the mailto: link
Be sure your reply has a Subject: header at the top and a blank line before the message body.
This is a public inbox, see mirroring instructions
for how to clone and mirror all data and code used for this inbox;
as well as URLs for NNTP newsgroup(s).