From mboxrd@z Thu Jan 1 00:00:00 1970 Return-Path: Received: from mails.dpdk.org (mails.dpdk.org [217.70.189.124]) by inbox.dpdk.org (Postfix) with ESMTP id 57E1F4619A for ; Wed, 5 Feb 2025 13:30:06 +0100 (CET) Received: from mails.dpdk.org (localhost [127.0.0.1]) by mails.dpdk.org (Postfix) with ESMTP id 55AE8402E3; Wed, 5 Feb 2025 13:30:06 +0100 (CET) Received: from mail-qt1-f227.google.com (mail-qt1-f227.google.com [209.85.160.227]) by mails.dpdk.org (Postfix) with ESMTP id 07FF6402DF for ; Wed, 5 Feb 2025 13:30:05 +0100 (CET) Received: by mail-qt1-f227.google.com with SMTP id d75a77b69052e-467918c35easo99613991cf.2 for ; Wed, 05 Feb 2025 04:30:04 -0800 (PST) DKIM-Signature: v=1; a=rsa-sha256; c=relaxed/relaxed; d=iol.unh.edu; s=unh-iol; t=1738758604; x=1739363404; darn=dpdk.org; h=references:in-reply-to:cc:to:from:subject:message-id:date:from:to :cc:subject:date:message-id:reply-to; bh=Uq3lYiIyUrR3uRozAZfYiICtDZv38sdwux3vem0BIsM=; b=RzL17OXc1K679JnM/wQaN2ktcMFocE3KryTJPx3MmeXpWFr6pxrWSsubRan5A1bSOA 6qC7vS/dKtZX+0/vN+YX+nKnRQQkbiwGbZeAfJ0qa56uSIoH2MaSQ8gXzM+XCDGFelPs MXiakhfFIlF/f3U+iFatTojvEnwV8+AXbetuc= X-Google-DKIM-Signature: v=1; a=rsa-sha256; c=relaxed/relaxed; d=1e100.net; s=20230601; t=1738758604; x=1739363404; h=references:in-reply-to:cc:to:from:subject:message-id:date :x-gm-message-state:from:to:cc:subject:date:message-id:reply-to; bh=Uq3lYiIyUrR3uRozAZfYiICtDZv38sdwux3vem0BIsM=; b=OKtyDgpz0LLwluP1ReZvKxk8P99ikkQAjnD9JAefN3OeCMyjmHKIQZJqp1l/qcgymF GMTzcaqC7OtdRRBXgKZqZ47IbFoPOGqYrPixsDvnKG4veyPXHSG3kNZsxBrGlDlwyi9H 8p/V8XfQDo4RpFo+5nppz2GgxdR70kK1KGA4mG/hE92ysrPKiBrzDsvxtpQC7w7DVti6 3ud6Jv7eL6erjTDX2dJV/ygj61xkV223hkNQJSPVXgRrpNArc/CYCMbE7jCxqca1WkvX KoInTM8Ml3h19pi5EroohaScr9BxywRg1/fHlkJb+7j4uebzvflNibcz7ZFQskkfQXHl fw0w== X-Gm-Message-State: AOJu0Yy5Qh79WL9mAAKYQZrK40kQswo7J6geZn1D4f8S4brJQCM28Sts qojHWoZOVEOQ7tes0out0Ey+AdC+DTmTaUKc6+3C/HsJu0mJxFYvGdIMV5Py1EZquNgDoSMw/Cq olzQNMVKzpyHPVHRxNT+/+x1R7mNPyIXN/sjIMpRDY+zjJZh4spfnGoYR X-Gm-Gg: ASbGncuixX6MI1GPJ+4AtfRS16IeW7kEpwzqMBfnfE9tOfOhSDT2HLuN2hgRXpOVzms pdRIAKLqj8xAJUqCkfQtPOMddKNpnTjIwDQJfxjozVOS2RbbI+y/u8/LIX/psjtGwjisDd72zAw U7vEcrQV7mLp+z2Q5S/YsQlhhA5OKk2tVvamKs+Oupa3xzL1wgYXbSFSEFQ6/bdRtjdm1YOXlpg kUekzuA/gD/L0rFckq4JDpxd3izHqqGRN8ekGY5XWHmY40+/Z0E4+ixXUhfUCF+K5pbIBDK3oBz ofzcEYgivPh2mXHNUQh/xARuzS/31lI/eXtLmS5H5Q== X-Google-Smtp-Source: AGHT+IFcsTS5Ej77TR/+AvgTOsoEcWgzTnVuHhvSUpTCBZmYU3Lrn1CeWumZlTybtfUXmNMaaqD69U1tAV/H X-Received: by 2002:ac8:5a42:0:b0:46c:7150:ee81 with SMTP id d75a77b69052e-4702817b741mr33178471cf.3.1738758604474; Wed, 05 Feb 2025 04:30:04 -0800 (PST) Received: from postal.iol.unh.edu (postal.iol.unh.edu. [2606:4100:3880:1234::84]) by smtp-relay.gmail.com with ESMTPS id d75a77b69052e-46fdf16206bsm3851871cf.19.2025.02.05.04.30.04 (version=TLS1_2 cipher=ECDHE-ECDSA-AES128-GCM-SHA256 bits=128/128); Wed, 05 Feb 2025 04:30:04 -0800 (PST) X-Relaying-Domain: iol.unh.edu Date: Wed, 05 Feb 2025 04:30:04 -0800 (PST) Message-ID: <67a359cc.050a0220.23a1c5.299bSMTPIN_ADDED_MISSING@mx.google.com> Received: from [172.17.0.4] (unknown [172.18.0.217]) by postal.iol.unh.edu (Postfix) with ESMTP id 207466052471; Wed, 5 Feb 2025 07:30:04 -0500 (EST) Subject: |SUCCESS| pw150932-150965 [PATCH] [v2,34/34] net/ntnic: remove tag E From: dpdklab@iol.unh.edu To: Test Report Cc: dpdk-test-reports@iol.unh.edu In-Reply-To: <20250205104548.1533554-35-sil-plv@napatech.com> References: <20250205104548.1533554-35-sil-plv@napatech.com> Content-Type: text/plain X-BeenThere: test-report@dpdk.org X-Mailman-Version: 2.1.29 Precedence: list List-Id: automatic DPDK test reports List-Unsubscribe: , List-Archive: List-Post: List-Help: List-Subscribe: , Errors-To: test-report-bounces@dpdk.org Test-Label: iol-unit-amd64-testing Test-Status: SUCCESS http://dpdk.org/patch/150965 _Testing PASS_ Submitter: Serhii Iliushyk Date: Wednesday, February 05 2025 10:45:43 DPDK git baseline: Repo:dpdk Branch: master CommitID:dc4ce7c2538b713e16887eb598da309bc7b4d528 150932-150965 --> testing pass Upstream job id: Generic-Unit-Test-DPDK#311803 Test environment and result as below: +---------------------+----------------+ | Environment | dpdk_unit_test | +=====================+================+ | Debian Bullseye | PASS | +---------------------+----------------+ | CentOS Stream 9 | PASS | +---------------------+----------------+ | Debian 12 | PASS | +---------------------+----------------+ | Fedora 40 (Clang) | PASS | +---------------------+----------------+ | Fedora 40 | PASS | +---------------------+----------------+ | Ubuntu 24.04 | PASS | +---------------------+----------------+ | Fedora 41 | PASS | +---------------------+----------------+ | Fedora 41 (Clang) | PASS | +---------------------+----------------+ | RHEL9 | PASS | +---------------------+----------------+ | RHEL8 | PASS | +---------------------+----------------+ | Ubuntu 20.04 | PASS | +---------------------+----------------+ | Ubuntu 22.04 | PASS | +---------------------+----------------+ | Windows Server 2022 | PASS | +---------------------+----------------+ Debian Bullseye Kernel: Depends on container host Compiler: gcc (Debian 10.2.1-6) 10.2.1 20210110 CentOS Stream 9 Kernel: Depends on container host Compiler: gcc 11.5.0 20240719 (Red Hat 11.5.0-2) Debian 12 Kernel: Depends on container host Compiler: gcc (Debian 12.2.0-14) 12.2.0 Fedora 40 (Clang) Kernel: Depends on container host Compiler: clang 18.1.8 (Fedora 18.1.8-1.fc40) Fedora 40 Kernel: Depends on container host Compiler: gcc 14.2.1 20240912 (Red Hat 14.2.1-3) Ubuntu 24.04 Kernel: Depends on container host Compiler: gcc (Ubuntu 13.3.0-6ubuntu2~24.04) 13.3.0 Fedora 41 Kernel: Depends on container host Compiler: gcc 14.2.1 20240912 (Red Hat 14.2.1-3) Fedora 41 (Clang) Kernel: Depends on container host Compiler: clang 19.1.5 (Fedora 19.1.5-1.fc41) RHEL9 Kernel: Depends on container host Compiler: gcc 11.5.0 20240719 (Red Hat 11.5.0-2) RHEL8 Kernel: Depends on container host Compiler: gcc 8.5.0 20210514 (Red Hat 8.5.0-22) Ubuntu 20.04 Kernel: Depends on container host Compiler: gcc (Ubuntu 9.4.0-1ubuntu1~20.04.2) 9.4.0 Ubuntu 22.04 Kernel: Depends on container host Compiler: gcc (Ubuntu 11.4.0-1ubuntu1~22.04) 11.4.0 Windows Server 2022 Kernel: 10.0.20348.2031 Compiler: clang 15.0.7, gcc 14.1.0 (MinGW), and MSVC VS 19.39.33521 To view detailed results, visit: https://lab.dpdk.org/results/dashboard/patchsets/32496/ UNH-IOL DPDK Community Lab To manage your email subscriptions, visit: https://lab.dpdk.org/results/dashboard/preferences/subscriptions/