From mboxrd@z Thu Jan 1 00:00:00 1970 Return-Path: Received: from mails.dpdk.org (mails.dpdk.org [217.70.189.124]) by inbox.dpdk.org (Postfix) with ESMTP id 8628C4619A for ; Wed, 5 Feb 2025 13:31:11 +0100 (CET) Received: from mails.dpdk.org (localhost [127.0.0.1]) by mails.dpdk.org (Postfix) with ESMTP id 83EF6402E3; Wed, 5 Feb 2025 13:31:11 +0100 (CET) Received: from mail-qt1-f226.google.com (mail-qt1-f226.google.com [209.85.160.226]) by mails.dpdk.org (Postfix) with ESMTP id 4190B402DF for ; Wed, 5 Feb 2025 13:31:10 +0100 (CET) Received: by mail-qt1-f226.google.com with SMTP id d75a77b69052e-467b086e0easo29415901cf.1 for ; Wed, 05 Feb 2025 04:31:10 -0800 (PST) DKIM-Signature: v=1; a=rsa-sha256; c=relaxed/relaxed; d=iol.unh.edu; s=unh-iol; t=1738758669; x=1739363469; darn=dpdk.org; h=references:in-reply-to:cc:to:from:subject:message-id:date:from:to :cc:subject:date:message-id:reply-to; bh=GgKtjl1uVXKeR0/x0AVJbMDkVTrMhM5NLbIH1NgoZkE=; b=YH5vknqc9BgMp79dvm2ocnRopJIkmmm5QUohYslcScvEuO5uTos4HyGWjcP8qDHUFK tGD19WtMOttEebpnADiE8vhZwc53tiNK0KgMBIpOuQ2JcQ05G7Veh4T2Gltqs0CFZp2b 8bNa0Etr2rPFZAmY/oz8aMoOoYvcD45xD5lPI= X-Google-DKIM-Signature: v=1; a=rsa-sha256; c=relaxed/relaxed; d=1e100.net; s=20230601; t=1738758669; x=1739363469; h=references:in-reply-to:cc:to:from:subject:message-id:date :x-gm-message-state:from:to:cc:subject:date:message-id:reply-to; bh=GgKtjl1uVXKeR0/x0AVJbMDkVTrMhM5NLbIH1NgoZkE=; b=ONs0nQlH5jAZMMFgXFpom5Zs9gFHjOmqSCf1Ijr0JxXtqiNgL0Dw4eD7b1jEFKvtWD TwzABvQlnB5LlZMG5EwWY7oWV+8KOtsv8T3F6Koo1pJwGOVr/ajkIMdE0wUaTrX0yix7 6GeZRPuNT1iPCa8S6aTWGCoF3nqjz2PbniIo7ltKvKqrACZHmUwEhU1fpZn+0rRVrmud CvW1Hs75GE/7F3MivzEkvN6GrsIFhqvpzJ994+AZnaMBPipH4xAJurzteIoHt2S2pzOT JwgIldSdqD91JR1LTh9nz7Yl3J9qubvQmsaDoSRht5Bz98IPyu/OELiXx81uT649mh0S S20Q== X-Gm-Message-State: AOJu0YxZp3j/tpp2vc6w1hSbqrqnzM3mR+Pvo+c8StXr5g8/vvADoO55 yeYheljoWDLWkUs9JS9izFcbuMymSZylOSZfG8r0wo+5CQFvbpEfNWwKNtPtd+5lSh3WlnFw5HL ZR4+mDwKgKaspGg1UvaVZP+zo29LBdZ9/S8d04aQc X-Gm-Gg: ASbGncvV2ZvpZXyUdUV5IO7cbZRAEsuTVAVwvSfUvOBSWvJDWtXlyPNgb6Ym4jc4w3t icK5EnZtMzjOogBsWg2P4/dxdhXGj8QFdlzjFl2cXzP7hOCQlc7UQbhbuhy/2TSov7pSdeOOyC8 V9wu0Pvtchj7OfcQOymC7B+qsqB/F3wjRp/xfGUjKvbD1QODpSQjhX3+bW5MP11tgRLN//wZ+YY UJYGuoumCEmDFGK9wgunqDrw/mm404gILowuCqx/lvr/eLPvcIlOMVr3f5J6EZ+RrInHGWvfTJH WKbRfOaIllLyAPQaPfgk4W94dqyEcw== X-Google-Smtp-Source: AGHT+IE0j4jtBS/5/3MlyAmhF7gAAkPkeaJTgg3BtuKjMNWwy+r0lBdl/4gT0OGqQXsMsKgEMeCnxCJ2O+ez X-Received: by 2002:a05:622a:130e:b0:467:5da6:808f with SMTP id d75a77b69052e-470281ba048mr28251661cf.22.1738758669605; Wed, 05 Feb 2025 04:31:09 -0800 (PST) Received: from postal.iol.unh.edu (postal.iol.unh.edu. [132.177.123.84]) by smtp-relay.gmail.com with ESMTPS id d75a77b69052e-46fdf176ef8sm4151111cf.21.2025.02.05.04.31.09 (version=TLS1_2 cipher=ECDHE-ECDSA-AES128-GCM-SHA256 bits=128/128); Wed, 05 Feb 2025 04:31:09 -0800 (PST) X-Relaying-Domain: iol.unh.edu Date: Wed, 05 Feb 2025 04:31:09 -0800 (PST) Message-ID: <67a35a0d.c80a0220.3b6201.3ebeSMTPIN_ADDED_MISSING@mx.google.com> Received: from [172.17.0.5] (unknown [172.18.0.217]) by postal.iol.unh.edu (Postfix) with ESMTP id 232156052471; Wed, 5 Feb 2025 07:31:09 -0500 (EST) Subject: |SUCCESS| pw150905-150924 [PATCH] [v21,27/27] config: add -Wvla proj From: dpdklab@iol.unh.edu To: Test Report Cc: dpdk-test-reports@iol.unh.edu In-Reply-To: <1738702638-22363-28-git-send-email-andremue@linux.microsoft.com> References: <1738702638-22363-28-git-send-email-andremue@linux.microsoft.com> Content-Type: text/plain X-BeenThere: test-report@dpdk.org X-Mailman-Version: 2.1.29 Precedence: list List-Id: automatic DPDK test reports List-Unsubscribe: , List-Archive: List-Post: List-Help: List-Subscribe: , Errors-To: test-report-bounces@dpdk.org Test-Label: iol-unit-arm64-testing Test-Status: SUCCESS http://dpdk.org/patch/150924 _Testing PASS_ Submitter: Andre Muezerie Date: Tuesday, February 04 2025 20:57:18 DPDK git baseline: Repo:dpdk Branch: master CommitID:dc4ce7c2538b713e16887eb598da309bc7b4d528 150905-150924 --> testing pass Upstream job id: Generic-Unit-Test-DPDK#311670 Test environment and result as below: +--------------------------+------------------------------+--------------+---------------------------+----------------+ | Environment | cryptodev_sw_snow3g_autotest | lpm_autotest | cryptodev_sw_zuc_autotest | dpdk_unit_test | +==========================+==============================+==============+===========================+================+ | Debian 12 (arm) | PASS | SKIPPED | PASS | PASS | +--------------------------+------------------------------+--------------+---------------------------+----------------+ | Ubuntu 20.04 ARM SVE | SKIPPED | PASS | SKIPPED | SKIPPED | +--------------------------+------------------------------+--------------+---------------------------+----------------+ | CentOS Stream 9 (ARM) | SKIPPED | SKIPPED | SKIPPED | PASS | +--------------------------+------------------------------+--------------+---------------------------+----------------+ | Debian 11 (Buster) (ARM) | SKIPPED | SKIPPED | SKIPPED | PASS | +--------------------------+------------------------------+--------------+---------------------------+----------------+ | Fedora 40 (ARM) | SKIPPED | SKIPPED | SKIPPED | PASS | +--------------------------+------------------------------+--------------+---------------------------+----------------+ | Fedora 41 (ARM) | SKIPPED | SKIPPED | SKIPPED | PASS | +--------------------------+------------------------------+--------------+---------------------------+----------------+ | Fedora 40 (ARM Clang) | SKIPPED | SKIPPED | SKIPPED | PASS | +--------------------------+------------------------------+--------------+---------------------------+----------------+ | Fedora 41 (ARM Clang) | SKIPPED | SKIPPED | SKIPPED | PASS | +--------------------------+------------------------------+--------------+---------------------------+----------------+ | RHEL9 (ARM) | SKIPPED | SKIPPED | SKIPPED | PASS | +--------------------------+------------------------------+--------------+---------------------------+----------------+ | Ubuntu 20.04 (ARM) | SKIPPED | SKIPPED | SKIPPED | PASS | +--------------------------+------------------------------+--------------+---------------------------+----------------+ | Ubuntu 22.04 (ARM) | SKIPPED | SKIPPED | SKIPPED | PASS | +--------------------------+------------------------------+--------------+---------------------------+----------------+ | Ubuntu 24.04 (ARM) | SKIPPED | SKIPPED | SKIPPED | PASS | +--------------------------+------------------------------+--------------+---------------------------+----------------+ Debian 12 (arm) Kernel: Depends on container host Compiler: gcc (Debian 12.2.0-14) 12.2.0 Ubuntu 20.04 ARM SVE Kernel: Depends on container host Compiler: gcc (Ubuntu 10.5.0-1ubuntu1~20.04) 10.5.0 CentOS Stream 9 (ARM) Kernel: Depends on container host Compiler: gcc 11.5.0 20240719 (Red Hat 11.5.0-2) Debian 11 (Buster) (ARM) Kernel: Depends on container host Compiler: gcc (Debian 10.2.1-6) 10.2.1 20210110 Fedora 40 (ARM) Kernel: Depends on container host Compiler: gcc 14.2.1 20240912 (Red Hat 14.2.1-3) Fedora 41 (ARM) Kernel: Depends on container host Compiler: gcc 14.2.1 20240912 (Red Hat 14.2.1-3) Fedora 40 (ARM Clang) Kernel: Depends on container host Compiler: clang 18.1.8 (Fedora 18.1.8-1.fc40) Fedora 41 (ARM Clang) Kernel: Depends on container host Compiler: clang 19.1.5 (Fedora 19.1.5-1.fc41) RHEL9 (ARM) Kernel: Depends on container host Compiler: gcc 11.5.0 20240719 (Red Hat 11.5.0-2) Ubuntu 20.04 (ARM) Kernel: Depends on container host Compiler: gcc (Ubuntu 9.4.0-1ubuntu1~20.04.2) 9.4.0 Ubuntu 22.04 (ARM) Kernel: Depends on container host Compiler: gcc (Ubuntu 11.4.0-1ubuntu1~22.04) 11.4.0 Ubuntu 24.04 (ARM) Kernel: Depends on container host Compiler: gcc (Ubuntu 13.3.0-6ubuntu2~24.04) 13.3.0 To view detailed results, visit: https://lab.dpdk.org/results/dashboard/patchsets/32494/ UNH-IOL DPDK Community Lab To manage your email subscriptions, visit: https://lab.dpdk.org/results/dashboard/preferences/subscriptions/