From mboxrd@z Thu Jan 1 00:00:00 1970 Return-Path: Received: from mails.dpdk.org (mails.dpdk.org [217.70.189.124]) by inbox.dpdk.org (Postfix) with ESMTP id 4F99D4619A for ; Wed, 5 Feb 2025 13:52:04 +0100 (CET) Received: from mails.dpdk.org (localhost [127.0.0.1]) by mails.dpdk.org (Postfix) with ESMTP id 4C915402CE; Wed, 5 Feb 2025 13:52:04 +0100 (CET) Received: from mail-pl1-f226.google.com (mail-pl1-f226.google.com [209.85.214.226]) by mails.dpdk.org (Postfix) with ESMTP id 7CB2540270 for ; Wed, 5 Feb 2025 13:52:03 +0100 (CET) Received: by mail-pl1-f226.google.com with SMTP id d9443c01a7336-2166360285dso114140635ad.1 for ; Wed, 05 Feb 2025 04:52:03 -0800 (PST) DKIM-Signature: v=1; a=rsa-sha256; c=relaxed/relaxed; d=iol.unh.edu; s=unh-iol; t=1738759922; x=1739364722; darn=dpdk.org; h=cc:to:from:subject:message-id:date:from:to:cc:subject:date :message-id:reply-to; bh=sWS7xRMt/XI5ucXywU2hIePJvRfJgQG9KItD2H9pdDo=; b=RsFOk+mrP7G3zvJq/vD5UaM8NwymmakMT0Gt51LpnyPOhoxXrDFU5ncYGRzUIZSpGZ AUrMt5ubvSvLtTyVtyUW1mSsEzhbLZ+ADmrtU/PS8oZyjrhREyDXQlP6eI3G/eylsP6s ehJ99fxL/IMv567yPt2MG8LoV/ghzfHSLtEb8= X-Google-DKIM-Signature: v=1; a=rsa-sha256; c=relaxed/relaxed; d=1e100.net; s=20230601; t=1738759922; x=1739364722; h=cc:to:from:subject:message-id:date:x-gm-message-state:from:to:cc :subject:date:message-id:reply-to; bh=sWS7xRMt/XI5ucXywU2hIePJvRfJgQG9KItD2H9pdDo=; b=h8v2U2INlPe2y4BZEKGzdFQYXJIeMrbxJMMMHK4XIzglsubQB2R5QqiF85yq+iN9zh FUDQvJT2S9D6xSBcP9pMh5dyi2tkuQMCq9c698LdKkaRdSN32nPPQ+eN2m+ZcOfAHefe TCxHFHuPgFUqy1OfHjKczcHiD8juRogDcYg3AOEcXLvfgQfJv2kbFWvLvdmzEdC4mUUb 3I5HqN45JXWgXE5bcx6H/RzdMDKt1cxW4ap/5o4//0wrDF4icX/nvIfoGr1KW1nUkgVf h+VbIv90hCzJU8DXVP2tpgYrLgXCf++JMpGrqd2UnlJeod5Ib9/5WnQzWrsjolgHD2X/ 5REw== X-Gm-Message-State: AOJu0YztdFSuh/schOzj+qbRy2V7QA5wvH+qtvW8knGwvZLLv5hbBKtE dvULppP3kvx/ynZx1Lw6vkak4Ft1VI718mwqlHyoXL6GCLLEM8251uR5hczihEYlVgTkPNGzL9B hItfBG3HAxeuPt2ighVQYY4a7sKT1uVPD X-Gm-Gg: ASbGncs/DIQIG4amt91CVRJm9bcuSEnl7YRZzQoVeB614rrX0qZGCpyGiPnfhQJhR9y HcwzH/XEg7qqCOkG9sWq5U+A1mBvaFGStqEO9IORLioWxUx044O1bMak4JCQcJe0DvbREoGSg3Q idDfmX5pUbruPHlDYkWbIV6aWs+SURmVNxzgL/bL0RIDSTLX3wLIkzt48hXGfEWgHI9eagJkYL0 OEQ3urCOnTnYDTiFhvM5cSBkgk/rTasgT3wbzDjfUg2IOFhtlzQlx7D6877jRfiGlYQYwJ5FAwN zaibIQdCz42TXu7d6PBOow+RxN3Bxw== X-Google-Smtp-Source: AGHT+IGR/TVAgM6JJBgfNyamA5YTmib3AFgWsey79OpA82TdUpXXbPpgLPAXEKCa/p8yMB/2qxTnOXGgdtvl X-Received: by 2002:a17:903:18f:b0:21a:8300:b9d5 with SMTP id d9443c01a7336-21f17e73fa6mr43976515ad.23.1738759922428; Wed, 05 Feb 2025 04:52:02 -0800 (PST) Received: from postal.iol.unh.edu (postal.iol.unh.edu. [132.177.123.84]) by smtp-relay.gmail.com with ESMTPS id d9443c01a7336-21f085ea4bbsm1688025ad.112.2025.02.05.04.52.02 (version=TLS1_2 cipher=ECDHE-ECDSA-AES128-GCM-SHA256 bits=128/128); Wed, 05 Feb 2025 04:52:02 -0800 (PST) X-Relaying-Domain: iol.unh.edu Date: Wed, 05 Feb 2025 04:52:02 -0800 (PST) Message-ID: <67a35ef2.170a0220.12fc1d.81beSMTPIN_ADDED_MISSING@mx.google.com> Received: from [172.21.0.6] (unknown [172.18.0.240]) by postal.iol.unh.edu (Postfix) with ESMTP id CD9D76052471; Wed, 5 Feb 2025 07:52:01 -0500 (EST) Subject: |SUCCESS| [GIT MASTER] f2eea2f37a82bb73fb01d56350708f7d70e21379 From: dpdklab@iol.unh.edu To: Test Report Cc: dpdk-test-reports@iol.unh.edu, Xueming Li , Christian Ehrhardt , Kevin Traynor , Luca Boccassi Content-Type: text/plain X-BeenThere: test-report@dpdk.org X-Mailman-Version: 2.1.29 Precedence: list List-Id: automatic DPDK test reports List-Unsubscribe: , List-Archive: List-Post: List-Help: List-Subscribe: , Errors-To: test-report-bounces@dpdk.org _Testing PASS_ Branch: tags/v24.11 f2eea2f37a82bb73fb01d56350708f7d70e21379 --> testing pass Upstream job id: ACVP-FIPS-testing#8786 Test environment and result as below: +--------------------+----------------------+----------------------+ | Environment | compressdev_zlib_pmd | dpdk_fips_validation | +====================+======================+======================+ | Ubuntu 22.04 (ARM) | PASS | SKIPPED | +--------------------+----------------------+----------------------+ | Ubuntu 22.04 | PASS | SKIPPED | +--------------------+----------------------+----------------------+ | Ubuntu 20.04 | SKIPPED | PASS | +--------------------+----------------------+----------------------+ Ubuntu 22.04 (ARM) Kernel: 5.15.0-97-generic Compiler: gcc gcc (Ubuntu 11.4.0-1ubuntu1~22.04) 11.4.0 Ubuntu 22.04 Kernel: 5.15.0-100-generic Compiler: gcc gcc (Ubuntu 11.4.0-1ubuntu1~22.04) 11.4.0 Ubuntu 20.04 Kernel: Depends on container host Compiler: gcc (Ubuntu 9.4.0-1ubuntu1~20.04.2) 9.4.0 To view detailed results, visit: https://lab.dpdk.org/results/dashboard/tarballs/32446/ UNH-IOL DPDK Community Lab To manage your email subscriptions, visit: https://lab.dpdk.org/results/dashboard/preferences/subscriptions/