automatic DPDK test reports
 help / color / mirror / Atom feed
* |SUCCESS| pw150966-150969 [PATCH v4 4/4] net/intel: allow building ice driver without iavf
       [not found] <20250205115533.2746196-5-bruce.richardson@intel.com>
@ 2025-02-05 11:21 ` qemudev
  2025-02-05 11:26 ` qemudev
                   ` (14 subsequent siblings)
  15 siblings, 0 replies; 16+ messages in thread
From: qemudev @ 2025-02-05 11:21 UTC (permalink / raw)
  To: test-report

Test-Label: loongarch-compilation
Test-Status: SUCCESS
http://dpdk.org/patch/150969

_Compilation OK_

Submitter: Bruce Richardson <bruce.richardson@intel.com>
Date: Wed,  5 Feb 2025 11:55:28 +0000
DPDK git baseline: Repo:dpdk-next-net
  Branch: main
  CommitID: 595535be66b103f7ce3ba61939b8013032987404

150966-150969 --> meson & ninja build successfully

Test environment and result as below:

+---------------------+----------------+
|     Environment     | compilation    |
+---------------------+----------------+
| Loongnix-Server 8.3 | PASS           |
+---------------------+----------------+

Loongnix-Server 8.3
    Kernel: 4.19.190+
    Compiler: gcc 8.3


^ permalink raw reply	[flat|nested] 16+ messages in thread

* |SUCCESS| pw150966-150969 [PATCH v4 4/4] net/intel: allow building ice driver without iavf
       [not found] <20250205115533.2746196-5-bruce.richardson@intel.com>
  2025-02-05 11:21 ` |SUCCESS| pw150966-150969 [PATCH v4 4/4] net/intel: allow building ice driver without iavf qemudev
@ 2025-02-05 11:26 ` qemudev
  2025-02-05 11:55 ` |WARNING| pw150969 " checkpatch
                   ` (13 subsequent siblings)
  15 siblings, 0 replies; 16+ messages in thread
From: qemudev @ 2025-02-05 11:26 UTC (permalink / raw)
  To: test-report

Test-Label: loongarch-unit-testing
Test-Status: SUCCESS
http://dpdk.org/patch/150969

_Unit Testing PASS_

Submitter: Bruce Richardson <bruce.richardson@intel.com>
Date: Wed,  5 Feb 2025 11:55:28 +0000
DPDK git baseline: Repo:dpdk-next-net
  Branch: main
  CommitID: 595535be66b103f7ce3ba61939b8013032987404

150966-150969 --> testing pass

Test environment and result as below:

+---------------------+----------------+
|     Environment     | dpdk_unit_test |
+---------------------+----------------+
| Loongnix-Server 8.3 | PASS           |
+---------------------+----------------+

Loongnix-Server 8.3
    Kernel: 4.19.190+
    Compiler: gcc 8.3


Test result details:
  1/119 DPDK:fast-tests / acl_autotest                            OK              3.37s
  2/119 DPDK:fast-tests / alarm_autotest                          OK              1.51s
  3/119 DPDK:fast-tests / argparse_autotest                       OK              0.50s
  4/119 DPDK:fast-tests / atomic_autotest                         OK              7.23s
  5/119 DPDK:fast-tests / bitcount_autotest                       OK              0.31s
  6/119 DPDK:fast-tests / bitmap_autotest                         OK              0.31s
  7/119 DPDK:fast-tests / bitops_autotest                         OK              1.81s
  8/119 DPDK:fast-tests / bitratestats_autotest                   OK              0.31s
  9/119 DPDK:fast-tests / bitset_autotest                         OK              2.92s
 10/119 DPDK:fast-tests / bpf_autotest                            OK              0.31s
 11/119 DPDK:fast-tests / bpf_convert_autotest                    OK              0.53s
 12/119 DPDK:fast-tests / byteorder_autotest                      OK              0.53s
 13/119 DPDK:fast-tests / cfgfile_autotest                        OK              0.52s
 14/119 DPDK:fast-tests / cksum_autotest                          OK              0.52s
 15/119 DPDK:fast-tests / cmdline_autotest                        OK              0.53s
 16/119 DPDK:fast-tests / common_autotest                         OK              1.40s
 17/119 DPDK:fast-tests / compressdev_autotest                    SKIP            0.07s   exit status 77
 18/119 DPDK:fast-tests / cpuflags_autotest                       OK              0.48s
 19/119 DPDK:fast-tests / crc_autotest                            OK              0.48s
 20/119 DPDK:fast-tests / user_delay_us                           OK              0.48s
 21/119 DPDK:fast-tests / debug_autotest                          OK             24.20s
 22/119 DPDK:fast-tests / devargs_autotest                        OK              0.48s
 23/119 DPDK:fast-tests / dispatcher_autotest                     OK              2.51s
 24/119 DPDK:fast-tests / distributor_autotest                    OK              1.21s
 25/119 DPDK:fast-tests / eal_flags_c_opt_autotest                OK              0.78s
 26/119 DPDK:fast-tests / eal_flags_main_opt_autotest             OK              0.22s
 27/119 DPDK:fast-tests / eal_flags_n_opt_autotest                OK              0.20s
 28/119 DPDK:fast-tests / eal_flags_hpet_autotest                 OK              0.14s
 29/119 DPDK:fast-tests / eal_flags_no_huge_autotest              OK              0.22s
 30/119 DPDK:fast-tests / eal_flags_a_opt_autotest                OK              0.30s
 31/119 DPDK:fast-tests / eal_flags_b_opt_autotest                OK              0.25s
 32/119 DPDK:fast-tests / eal_flags_vdev_opt_autotest             OK              0.20s
 33/119 DPDK:fast-tests / eal_flags_r_opt_autotest                OK              0.19s
 34/119 DPDK:fast-tests / eal_flags_mem_autotest                  OK              0.59s
 35/119 DPDK:fast-tests / eal_flags_file_prefix_autotest          OK             22.24s
 36/119 DPDK:fast-tests / eal_flags_misc_autotest                 OK              1.04s
 37/119 DPDK:fast-tests / eal_fs_autotest                         OK              0.48s
 38/119 DPDK:fast-tests / errno_autotest                          OK              0.48s
 39/119 DPDK:fast-tests / ethdev_link_status                      OK              0.48s
 40/119 DPDK:fast-tests / event_eth_tx_adapter_autotest           OK              1.69s
 41/119 DPDK:fast-tests / event_ring_autotest                     OK              0.48s
 42/119 DPDK:fast-tests / eventdev_common_autotest                OK              0.48s
 43/119 DPDK:fast-tests / eventdev_selftest_sw                    OK              7.28s
 44/119 DPDK:fast-tests / fbarray_autotest                        OK              0.48s
 45/119 DPDK:fast-tests / fib_autotest                            OK              1.36s
 46/119 DPDK:fast-tests / fib6_autotest                           OK              1.15s
 47/119 DPDK:fast-tests / func_reentrancy_autotest                OK              2.30s
 48/119 DPDK:fast-tests / graph_autotest                          OK              0.48s
 49/119 DPDK:fast-tests / node_list_dump                          OK              0.48s
 50/119 DPDK:fast-tests / hash_autotest                           OK              1.11s
 51/119 DPDK:fast-tests / hash_readwrite_func_autotest            OK              6.41s
 52/119 DPDK:fast-tests / interrupt_autotest                      OK              1.78s
 53/119 DPDK:fast-tests / ipfrag_autotest                         OK              0.08s
 54/119 DPDK:fast-tests / ipsec_autotest                          SKIP            0.48s   exit status 77
 55/119 DPDK:fast-tests / kvargs_autotest                         OK              0.49s
 56/119 DPDK:fast-tests / latencystats_autotest                   OK              0.49s
 57/119 DPDK:fast-tests / lcore_var_autotest                      OK              0.62s
 58/119 DPDK:fast-tests / lcores_autotest                         OK              5.29s
 59/119 DPDK:fast-tests / logs_autotest                           OK              0.48s
 60/119 DPDK:fast-tests / lpm_autotest                            OK              2.51s
 61/119 DPDK:fast-tests / lpm6_autotest                           OK              5.63s
 62/119 DPDK:fast-tests / malloc_autotest                         OK             64.47s
 63/119 DPDK:fast-tests / mbuf_autotest                           OK              5.27s
 64/119 DPDK:fast-tests / mcslock_autotest                        OK              4.92s
 65/119 DPDK:fast-tests / member_autotest                         OK              1.68s
 66/119 DPDK:fast-tests / memcpy_autotest                         OK              6.76s
 67/119 DPDK:fast-tests / memory_autotest                         OK              0.09s
 68/119 DPDK:fast-tests / mempool_autotest                        OK              0.44s
 69/119 DPDK:fast-tests / memzone_autotest                        OK              0.14s
 70/119 DPDK:fast-tests / meter_autotest                          OK              0.48s
 71/119 DPDK:fast-tests / metrics_autotest                        OK              0.48s
 72/119 DPDK:fast-tests / multiprocess_autotest                   OK              0.19s
 73/119 DPDK:fast-tests / net_ether_autotest                      OK              1.14s
 74/119 DPDK:fast-tests / net_ipv6_autotest                       OK              0.48s
 75/119 DPDK:fast-tests / pcapng_autotest                         OK              6.31s
 76/119 DPDK:fast-tests / pdcp_autotest                           SKIP            0.07s   exit status 77
 77/119 DPDK:fast-tests / pdump_autotest                          OK              0.59s
 78/119 DPDK:fast-tests / per_lcore_autotest                      OK              0.58s
 79/119 DPDK:fast-tests / pflock_autotest                         OK              1.29s
 80/119 DPDK:fast-tests / pie_autotest                            OK              0.48s
 81/119 DPDK:fast-tests / ring_pmd_autotest                       OK              0.48s
 82/119 DPDK:fast-tests / power_autotest                          OK              0.48s
 83/119 DPDK:fast-tests / power_cpufreq_autotest                  SKIP            0.07s   exit status 77
 84/119 DPDK:fast-tests / power_intel_uncore_autotest             SKIP            0.47s   exit status 77
 85/119 DPDK:fast-tests / power_kvm_vm_autotest                   SKIP            0.07s   exit status 77
 86/119 DPDK:fast-tests / prefetch_autotest                       OK              0.48s
 87/119 DPDK:fast-tests / ptr_compress_autotest                   OK              0.49s
 88/119 DPDK:fast-tests / rawdev_autotest                         OK              0.48s
 89/119 DPDK:fast-tests / rcu_qsbr_autotest                       OK              1.00s
 90/119 DPDK:fast-tests / reorder_autotest                        OK              0.54s
 91/119 DPDK:fast-tests / rib_autotest                            OK              9.14s
 92/119 DPDK:fast-tests / rib6_autotest                           OK              9.12s
 93/119 DPDK:fast-tests / ring_autotest                           OK              0.51s
 94/119 DPDK:fast-tests / rwlock_test1_autotest                   OK              1.23s
 95/119 DPDK:fast-tests / rwlock_rda_autotest                     OK              5.49s
 96/119 DPDK:fast-tests / rwlock_rds_wrm_autotest                 OK              5.48s
 97/119 DPDK:fast-tests / rwlock_rde_wro_autotest                 OK              5.49s
 98/119 DPDK:fast-tests / sched_autotest                          OK              0.59s
 99/119 DPDK:fast-tests / security_autotest                       OK              0.07s
100/119 DPDK:fast-tests / seqlock_autotest                        OK              2.48s
101/119 DPDK:fast-tests / service_autotest                        OK              3.18s
102/119 DPDK:fast-tests / soring_autotest                         OK              0.49s
103/119 DPDK:fast-tests / spinlock_autotest                       OK              0.56s
104/119 DPDK:fast-tests / stack_autotest                          OK              0.87s
105/119 DPDK:fast-tests / stack_lf_autotest                       SKIP            0.06s   exit status 77
106/119 DPDK:fast-tests / string_autotest                         OK              0.48s
107/119 DPDK:fast-tests / table_autotest                          OK              7.75s
108/119 DPDK:fast-tests / tailq_autotest                          OK              0.47s
109/119 DPDK:fast-tests / telemetry_data_autotest                 OK              0.49s
110/119 DPDK:fast-tests / telemetry_json_autotest                 OK              0.48s
111/119 DPDK:fast-tests / thash_autotest                          OK              0.49s
112/119 DPDK:fast-tests / threads_autotest                        OK              0.66s
113/119 DPDK:fast-tests / ticketlock_autotest                     OK              0.64s
114/119 DPDK:fast-tests / timer_autotest                          OK              3.98s
115/119 DPDK:fast-tests / trace_autotest                          OK              0.48s
116/119 DPDK:fast-tests / trace_autotest_with_traces              OK              0.49s
117/119 DPDK:fast-tests / vdev_autotest                           OK              0.48s
118/119 DPDK:fast-tests / version_autotest                        OK              0.48s
119/119 DPDK:fast-tests / telemetry_all                           OK              1.46s


Ok:                 112
Expected Fail:      0
Fail:               0
Unexpected Pass:    0
Skipped:            7
Timeout:            0


^ permalink raw reply	[flat|nested] 16+ messages in thread

* |WARNING| pw150969 [PATCH v4 4/4] net/intel: allow building ice driver without iavf
       [not found] <20250205115533.2746196-5-bruce.richardson@intel.com>
  2025-02-05 11:21 ` |SUCCESS| pw150966-150969 [PATCH v4 4/4] net/intel: allow building ice driver without iavf qemudev
  2025-02-05 11:26 ` qemudev
@ 2025-02-05 11:55 ` checkpatch
  2025-02-05 12:45 ` |SUCCESS| " 0-day Robot
                   ` (12 subsequent siblings)
  15 siblings, 0 replies; 16+ messages in thread
From: checkpatch @ 2025-02-05 11:55 UTC (permalink / raw)
  To: test-report; +Cc: Bruce Richardson

Test-Label: checkpatch
Test-Status: WARNING
http://dpdk.org/patch/150969

_coding style issues_


__rte_internal must appear alone on the line immediately preceding the return type of a function.
__rte_internal must appear alone on the line immediately preceding the return type of a function.

^ permalink raw reply	[flat|nested] 16+ messages in thread

* |SUCCESS| pw150969 [PATCH v4 4/4] net/intel: allow building ice driver without iavf
       [not found] <20250205115533.2746196-5-bruce.richardson@intel.com>
                   ` (2 preceding siblings ...)
  2025-02-05 11:55 ` |WARNING| pw150969 " checkpatch
@ 2025-02-05 12:45 ` 0-day Robot
  2025-02-05 12:53 ` |PENDING| pw150966-150969 [PATCH] [v4,4/4] net/intel: allow building dpdklab
                   ` (11 subsequent siblings)
  15 siblings, 0 replies; 16+ messages in thread
From: 0-day Robot @ 2025-02-05 12:45 UTC (permalink / raw)
  To: test-report; +Cc: robot

From: robot@bytheb.org

Test-Label: github-robot: build
Test-Status: SUCCESS
http://patchwork.dpdk.org/patch/150969/

_github build: passed_
Build URL: https://github.com/ovsrobot/dpdk/actions/runs/13156970132

^ permalink raw reply	[flat|nested] 16+ messages in thread

* |PENDING| pw150966-150969 [PATCH] [v4,4/4] net/intel: allow building
       [not found] <20250205115533.2746196-5-bruce.richardson@intel.com>
                   ` (3 preceding siblings ...)
  2025-02-05 12:45 ` |SUCCESS| " 0-day Robot
@ 2025-02-05 12:53 ` dpdklab
  2025-02-05 12:59 ` |SUCCESS| " dpdklab
                   ` (10 subsequent siblings)
  15 siblings, 0 replies; 16+ messages in thread
From: dpdklab @ 2025-02-05 12:53 UTC (permalink / raw)
  To: Test Report; +Cc: dpdk-test-reports

Test-Label: iol-compile-amd64-testing
Test-Status: PENDING
http://dpdk.org/patch/150969

_Testing pending_

Submitter: Bruce Richardson <bruce.richardson@intel.com>
Date: Wednesday, February 05 2025 11:55:31 
DPDK git baseline: Repo:dpdk
  Branch: master
  CommitID:595535be66b103f7ce3ba61939b8013032987404

150966-150969 --> testing pending

Upstream job id: Windows-Compile-DPDK-VS#4819

Test environment and result as below:

+---------------------+-------------------+--------------------+
|     Environment     | dpdk_msvc_compile | dpdk_meson_compile |
+=====================+===================+====================+
| Windows Server 2022 | PASS              | SKIPPED            |
+---------------------+-------------------+--------------------+
| FreeBSD 13.4        | SKIPPED           | PEND               |
+---------------------+-------------------+--------------------+
| FreeBSD 14.2        | SKIPPED           | PEND               |
+---------------------+-------------------+--------------------+


Windows Server 2022
	Kernel: 10.0.20348.2031
	Compiler: clang 15.0.7, gcc 14.1.0 (MinGW), and MSVC VS 19.39.33521

FreeBSD 13.4
	Kernel: 13.4-RELEASE-p1
	Compiler: clang 18.1.6

FreeBSD 14.2
	Kernel: 14.2-RELEASE
	Compiler: clang 18.1.6

To view detailed results, visit:
https://lab.dpdk.org/results/dashboard/patchsets/32497/

UNH-IOL DPDK Community Lab

To manage your email subscriptions, visit: 
https://lab.dpdk.org/results/dashboard/preferences/subscriptions/

^ permalink raw reply	[flat|nested] 16+ messages in thread

* |SUCCESS| pw150966-150969 [PATCH] [v4,4/4] net/intel: allow building
       [not found] <20250205115533.2746196-5-bruce.richardson@intel.com>
                   ` (4 preceding siblings ...)
  2025-02-05 12:53 ` |PENDING| pw150966-150969 [PATCH] [v4,4/4] net/intel: allow building dpdklab
@ 2025-02-05 12:59 ` dpdklab
  2025-02-05 13:01 ` dpdklab
                   ` (9 subsequent siblings)
  15 siblings, 0 replies; 16+ messages in thread
From: dpdklab @ 2025-02-05 12:59 UTC (permalink / raw)
  To: Test Report; +Cc: dpdk-test-reports

Test-Label: iol-sample-apps-testing
Test-Status: SUCCESS
http://dpdk.org/patch/150969

_Testing PASS_

Submitter: Bruce Richardson <bruce.richardson@intel.com>
Date: Wednesday, February 05 2025 11:55:31 
DPDK git baseline: Repo:dpdk
  Branch: master
  CommitID:595535be66b103f7ce3ba61939b8013032987404

150966-150969 --> testing pass

Upstream job id: Template-DTS-Pipeline#210854

Test environment and result as below:

+--------------------+----------------------+
|    Environment     | compressdev_zlib_pmd |
+====================+======================+
| Ubuntu 22.04 (ARM) | PASS                 |
+--------------------+----------------------+


Ubuntu 22.04 (ARM)
	Kernel: 5.15.0-97-generic
	Compiler: gcc gcc (Ubuntu 11.4.0-1ubuntu1~22.04) 11.4.0

To view detailed results, visit:
https://lab.dpdk.org/results/dashboard/patchsets/32497/

UNH-IOL DPDK Community Lab

To manage your email subscriptions, visit: 
https://lab.dpdk.org/results/dashboard/preferences/subscriptions/

^ permalink raw reply	[flat|nested] 16+ messages in thread

* |SUCCESS| pw150966-150969 [PATCH] [v4,4/4] net/intel: allow building
       [not found] <20250205115533.2746196-5-bruce.richardson@intel.com>
                   ` (5 preceding siblings ...)
  2025-02-05 12:59 ` |SUCCESS| " dpdklab
@ 2025-02-05 13:01 ` dpdklab
  2025-02-05 13:06 ` |PENDING| " dpdklab
                   ` (8 subsequent siblings)
  15 siblings, 0 replies; 16+ messages in thread
From: dpdklab @ 2025-02-05 13:01 UTC (permalink / raw)
  To: Test Report; +Cc: dpdk-test-reports

Test-Label: iol-compile-amd64-testing
Test-Status: SUCCESS
http://dpdk.org/patch/150969

_Testing PASS_

Submitter: Bruce Richardson <bruce.richardson@intel.com>
Date: Wednesday, February 05 2025 11:55:31 
DPDK git baseline: Repo:dpdk
  Branch: master
  CommitID:595535be66b103f7ce3ba61939b8013032987404

150966-150969 --> testing pass

Upstream job id: Generic-VM-DPDK-Compile-Meson#33056

Test environment and result as below:

+---------------------+-------------------+--------------------+
|     Environment     | dpdk_msvc_compile | dpdk_meson_compile |
+=====================+===================+====================+
| Windows Server 2022 | PASS              | SKIPPED            |
+---------------------+-------------------+--------------------+
| FreeBSD 13.4        | SKIPPED           | PASS               |
+---------------------+-------------------+--------------------+
| FreeBSD 14.2        | SKIPPED           | PASS               |
+---------------------+-------------------+--------------------+


Windows Server 2022
	Kernel: 10.0.20348.2031
	Compiler: clang 15.0.7, gcc 14.1.0 (MinGW), and MSVC VS 19.39.33521

FreeBSD 13.4
	Kernel: 13.4-RELEASE-p1
	Compiler: clang 18.1.6

FreeBSD 14.2
	Kernel: 14.2-RELEASE
	Compiler: clang 18.1.6

To view detailed results, visit:
https://lab.dpdk.org/results/dashboard/patchsets/32497/

UNH-IOL DPDK Community Lab

To manage your email subscriptions, visit: 
https://lab.dpdk.org/results/dashboard/preferences/subscriptions/

^ permalink raw reply	[flat|nested] 16+ messages in thread

* |PENDING| pw150966-150969 [PATCH] [v4,4/4] net/intel: allow building
       [not found] <20250205115533.2746196-5-bruce.richardson@intel.com>
                   ` (6 preceding siblings ...)
  2025-02-05 13:01 ` dpdklab
@ 2025-02-05 13:06 ` dpdklab
  2025-02-05 13:11 ` |SUCCESS| " dpdklab
                   ` (7 subsequent siblings)
  15 siblings, 0 replies; 16+ messages in thread
From: dpdklab @ 2025-02-05 13:06 UTC (permalink / raw)
  To: Test Report; +Cc: dpdk-test-reports

Test-Label: iol-unit-amd64-testing
Test-Status: PENDING
http://dpdk.org/patch/150969

_Testing pending_

Submitter: Bruce Richardson <bruce.richardson@intel.com>
Date: Wednesday, February 05 2025 11:55:31 
DPDK git baseline: Repo:dpdk
  Branch: master
  CommitID:595535be66b103f7ce3ba61939b8013032987404

150966-150969 --> testing pending

Upstream job id: Generic-Unit-Test-DPDK#311822

Test environment and result as below:

+---------------------+----------------+
|     Environment     | dpdk_unit_test |
+=====================+================+
| Debian Bullseye     | PASS           |
+---------------------+----------------+
| Debian 12           | PEND           |
+---------------------+----------------+
| CentOS Stream 9     | PEND           |
+---------------------+----------------+
| Fedora 40           | PEND           |
+---------------------+----------------+
| Ubuntu 20.04        | PEND           |
+---------------------+----------------+
| Ubuntu 22.04        | PEND           |
+---------------------+----------------+
| Fedora 41           | PEND           |
+---------------------+----------------+
| Fedora 40 (Clang)   | PEND           |
+---------------------+----------------+
| RHEL8               | PEND           |
+---------------------+----------------+
| Fedora 41 (Clang)   | PEND           |
+---------------------+----------------+
| RHEL9               | PEND           |
+---------------------+----------------+
| Ubuntu 24.04        | PEND           |
+---------------------+----------------+
| Windows Server 2022 | PEND           |
+---------------------+----------------+


Debian Bullseye
	Kernel: Depends on container host
	Compiler: gcc (Debian 10.2.1-6) 10.2.1 20210110

Debian 12
	Kernel: Depends on container host
	Compiler: gcc (Debian 12.2.0-14) 12.2.0

CentOS Stream 9
	Kernel: Depends on container host
	Compiler: gcc 11.5.0 20240719 (Red Hat 11.5.0-2)

Fedora 40
	Kernel: Depends on container host
	Compiler: gcc 14.2.1 20240912 (Red Hat 14.2.1-3)

Ubuntu 20.04
	Kernel: Depends on container host
	Compiler: gcc (Ubuntu 9.4.0-1ubuntu1~20.04.2) 9.4.0

Ubuntu 22.04
	Kernel: Depends on container host
	Compiler: gcc (Ubuntu 11.4.0-1ubuntu1~22.04) 11.4.0

Fedora 41
	Kernel: Depends on container host
	Compiler: gcc 14.2.1 20240912 (Red Hat 14.2.1-3)

Fedora 40 (Clang)
	Kernel: Depends on container host
	Compiler: clang 18.1.8 (Fedora 18.1.8-1.fc40)

RHEL8
	Kernel: Depends on container host
	Compiler: gcc 8.5.0 20210514 (Red Hat 8.5.0-22)

Fedora 41 (Clang)
	Kernel: Depends on container host
	Compiler: clang 19.1.5 (Fedora 19.1.5-1.fc41)

RHEL9
	Kernel: Depends on container host
	Compiler: gcc 11.5.0 20240719 (Red Hat 11.5.0-2)

Ubuntu 24.04
	Kernel: Depends on container host
	Compiler: gcc (Ubuntu 13.3.0-6ubuntu2~24.04) 13.3.0

Windows Server 2022
	Kernel: 10.0.20348.2031
	Compiler: clang 15.0.7, gcc 14.1.0 (MinGW), and MSVC VS 19.39.33521

To view detailed results, visit:
https://lab.dpdk.org/results/dashboard/patchsets/32497/

UNH-IOL DPDK Community Lab

To manage your email subscriptions, visit: 
https://lab.dpdk.org/results/dashboard/preferences/subscriptions/

^ permalink raw reply	[flat|nested] 16+ messages in thread

* |SUCCESS| pw150966-150969 [PATCH] [v4,4/4] net/intel: allow building
       [not found] <20250205115533.2746196-5-bruce.richardson@intel.com>
                   ` (7 preceding siblings ...)
  2025-02-05 13:06 ` |PENDING| " dpdklab
@ 2025-02-05 13:11 ` dpdklab
  2025-02-05 13:12 ` |PENDING| " dpdklab
                   ` (6 subsequent siblings)
  15 siblings, 0 replies; 16+ messages in thread
From: dpdklab @ 2025-02-05 13:11 UTC (permalink / raw)
  To: Test Report; +Cc: dpdk-test-reports

Test-Label: iol-marvell-Functional
Test-Status: SUCCESS
http://dpdk.org/patch/150969

_Functional Testing PASS_

Submitter: Bruce Richardson <bruce.richardson@intel.com>
Date: Wednesday, February 05 2025 11:55:31 
DPDK git baseline: Repo:dpdk
  Branch: master
  CommitID:595535be66b103f7ce3ba61939b8013032987404

150966-150969 --> functional testing pass

Upstream job id: Template-DTS-Pipeline#210852

Test environment and result as below:

Ubuntu 20.04.6
Kernel: 5.4.105
Compiler: gcc 9.4
NIC: Marvell CN106XX 50000 Mbps
Target: arm64-native-linuxapp-gcc

Aggregate Results by Test Suite
+-----------------+--------+
|   Test Suite    | Result |
+=================+========+
| cmdline         |  PASS  |
+-----------------+--------+
| ipv4_reassembly |  PASS  |
+-----------------+--------+
| rxtx_callbacks  |  PASS  |
+-----------------+--------+
| tso             |  PASS  |
+-----------------+--------+


To view detailed results, visit:
https://lab.dpdk.org/results/dashboard/patchsets/32497/

UNH-IOL DPDK Community Lab

To manage your email subscriptions, visit: 
https://lab.dpdk.org/results/dashboard/preferences/subscriptions/

^ permalink raw reply	[flat|nested] 16+ messages in thread

* |PENDING| pw150966-150969 [PATCH] [v4,4/4] net/intel: allow building
       [not found] <20250205115533.2746196-5-bruce.richardson@intel.com>
                   ` (8 preceding siblings ...)
  2025-02-05 13:11 ` |SUCCESS| " dpdklab
@ 2025-02-05 13:12 ` dpdklab
  2025-02-05 13:16 ` |SUCCESS| " dpdklab
                   ` (5 subsequent siblings)
  15 siblings, 0 replies; 16+ messages in thread
From: dpdklab @ 2025-02-05 13:12 UTC (permalink / raw)
  To: Test Report; +Cc: dpdk-test-reports

Test-Label: iol-unit-arm64-testing
Test-Status: PENDING
http://dpdk.org/patch/150969

_Testing pending_

Submitter: Bruce Richardson <bruce.richardson@intel.com>
Date: Wednesday, February 05 2025 11:55:31 
DPDK git baseline: Repo:dpdk
  Branch: master
  CommitID:595535be66b103f7ce3ba61939b8013032987404

150966-150969 --> testing pending

Upstream job id: Generic-Unit-Test-DPDK#311821

Test environment and result as below:

+--------------------------+----------------+------------------------------+--------------+---------------------------+
|       Environment        | dpdk_unit_test | cryptodev_sw_snow3g_autotest | lpm_autotest | cryptodev_sw_zuc_autotest |
+==========================+================+==============================+==============+===========================+
| Fedora 41 (ARM)          | PEND           | SKIPPED                      | SKIPPED      | SKIPPED                   |
+--------------------------+----------------+------------------------------+--------------+---------------------------+
| Debian 12 (arm)          | PEND           | PEND                         | SKIPPED      | PEND                      |
+--------------------------+----------------+------------------------------+--------------+---------------------------+
| Debian 11 (Buster) (ARM) | PEND           | SKIPPED                      | SKIPPED      | SKIPPED                   |
+--------------------------+----------------+------------------------------+--------------+---------------------------+
| CentOS Stream 9 (ARM)    | PEND           | SKIPPED                      | SKIPPED      | SKIPPED                   |
+--------------------------+----------------+------------------------------+--------------+---------------------------+
| Fedora 41 (ARM Clang)    | PEND           | SKIPPED                      | SKIPPED      | SKIPPED                   |
+--------------------------+----------------+------------------------------+--------------+---------------------------+
| Fedora 40 (ARM Clang)    | PEND           | SKIPPED                      | SKIPPED      | SKIPPED                   |
+--------------------------+----------------+------------------------------+--------------+---------------------------+
| Fedora 40 (ARM)          | PEND           | SKIPPED                      | SKIPPED      | SKIPPED                   |
+--------------------------+----------------+------------------------------+--------------+---------------------------+
| Ubuntu 24.04 (ARM)       | PEND           | SKIPPED                      | SKIPPED      | SKIPPED                   |
+--------------------------+----------------+------------------------------+--------------+---------------------------+
| Ubuntu 22.04 (ARM)       | PEND           | SKIPPED                      | SKIPPED      | SKIPPED                   |
+--------------------------+----------------+------------------------------+--------------+---------------------------+
| Ubuntu 20.04 (ARM)       | PEND           | SKIPPED                      | SKIPPED      | SKIPPED                   |
+--------------------------+----------------+------------------------------+--------------+---------------------------+
| RHEL9 (ARM)              | PEND           | SKIPPED                      | SKIPPED      | SKIPPED                   |
+--------------------------+----------------+------------------------------+--------------+---------------------------+
| Ubuntu 20.04 ARM SVE     | SKIPPED        | SKIPPED                      | PASS         | SKIPPED                   |
+--------------------------+----------------+------------------------------+--------------+---------------------------+


Fedora 41 (ARM)
	Kernel: Depends on container host
	Compiler: gcc 14.2.1 20240912 (Red Hat 14.2.1-3)

Debian 12 (arm)
	Kernel: Depends on container host
	Compiler: gcc (Debian 12.2.0-14) 12.2.0

Debian 11 (Buster) (ARM)
	Kernel: Depends on container host
	Compiler: gcc (Debian 10.2.1-6) 10.2.1 20210110

CentOS Stream 9 (ARM)
	Kernel: Depends on container host
	Compiler: gcc 11.5.0 20240719 (Red Hat 11.5.0-2)

Fedora 41 (ARM Clang)
	Kernel: Depends on container host
	Compiler: clang 19.1.5 (Fedora 19.1.5-1.fc41)

Fedora 40 (ARM Clang)
	Kernel: Depends on container host
	Compiler: clang 18.1.8 (Fedora 18.1.8-1.fc40)

Fedora 40 (ARM)
	Kernel: Depends on container host
	Compiler: gcc 14.2.1 20240912 (Red Hat 14.2.1-3)

Ubuntu 24.04 (ARM)
	Kernel: Depends on container host
	Compiler: gcc (Ubuntu 13.3.0-6ubuntu2~24.04) 13.3.0

Ubuntu 22.04 (ARM)
	Kernel: Depends on container host
	Compiler: gcc (Ubuntu 11.4.0-1ubuntu1~22.04) 11.4.0

Ubuntu 20.04 (ARM)
	Kernel: Depends on container host
	Compiler: gcc (Ubuntu 9.4.0-1ubuntu1~20.04.2) 9.4.0

RHEL9 (ARM)
	Kernel: Depends on container host
	Compiler: gcc 11.5.0 20240719 (Red Hat 11.5.0-2)

Ubuntu 20.04 ARM SVE
	Kernel: Depends on container host
	Compiler: gcc (Ubuntu 10.5.0-1ubuntu1~20.04) 10.5.0

To view detailed results, visit:
https://lab.dpdk.org/results/dashboard/patchsets/32497/

UNH-IOL DPDK Community Lab

To manage your email subscriptions, visit: 
https://lab.dpdk.org/results/dashboard/preferences/subscriptions/

^ permalink raw reply	[flat|nested] 16+ messages in thread

* |SUCCESS| pw150966-150969 [PATCH] [v4,4/4] net/intel: allow building
       [not found] <20250205115533.2746196-5-bruce.richardson@intel.com>
                   ` (9 preceding siblings ...)
  2025-02-05 13:12 ` |PENDING| " dpdklab
@ 2025-02-05 13:16 ` dpdklab
  2025-02-05 13:31 ` dpdklab
                   ` (4 subsequent siblings)
  15 siblings, 0 replies; 16+ messages in thread
From: dpdklab @ 2025-02-05 13:16 UTC (permalink / raw)
  To: Test Report; +Cc: dpdk-test-reports

Test-Label: iol-intel-Functional
Test-Status: SUCCESS
http://dpdk.org/patch/150969

_Functional Testing PASS_

Submitter: Bruce Richardson <bruce.richardson@intel.com>
Date: Wednesday, February 05 2025 11:55:31 
DPDK git baseline: Repo:dpdk
  Branch: master
  CommitID:595535be66b103f7ce3ba61939b8013032987404

150966-150969 --> functional testing pass

Upstream job id: Template-DTS-Pipeline#210849

Test environment and result as below:

Ubuntu 20.04
Kernel: 5.4.0-122-generic
Compiler: gcc 9.4.0
NIC: Intel Corporation Ethernet Converged Network Adapter 82599ES 10000 Mbps

Aggregate Results by Test Suite
+-----------------------------+--------+
|         Test Suite          | Result |
+=============================+========+
| unit_tests_mbuf             |  PASS  |
+-----------------------------+--------+
| vhost_virtio_user_interrupt |  PASS  |
+-----------------------------+--------+
| virtio_smoke                |  PASS  |
+-----------------------------+--------+


To view detailed results, visit:
https://lab.dpdk.org/results/dashboard/patchsets/32497/

UNH-IOL DPDK Community Lab

To manage your email subscriptions, visit: 
https://lab.dpdk.org/results/dashboard/preferences/subscriptions/

^ permalink raw reply	[flat|nested] 16+ messages in thread

* |SUCCESS| pw150966-150969 [PATCH] [v4,4/4] net/intel: allow building
       [not found] <20250205115533.2746196-5-bruce.richardson@intel.com>
                   ` (10 preceding siblings ...)
  2025-02-05 13:16 ` |SUCCESS| " dpdklab
@ 2025-02-05 13:31 ` dpdklab
  2025-02-05 13:52 ` dpdklab
                   ` (3 subsequent siblings)
  15 siblings, 0 replies; 16+ messages in thread
From: dpdklab @ 2025-02-05 13:31 UTC (permalink / raw)
  To: Test Report; +Cc: dpdk-test-reports

Test-Label: iol-sample-apps-testing
Test-Status: SUCCESS
http://dpdk.org/patch/150969

_Testing PASS_

Submitter: Bruce Richardson <bruce.richardson@intel.com>
Date: Wednesday, February 05 2025 11:55:31 
DPDK git baseline: Repo:dpdk
  Branch: master
  CommitID:595535be66b103f7ce3ba61939b8013032987404

150966-150969 --> testing pass

Upstream job id: Template-DTS-Pipeline#210853

Test environment and result as below:

+--------------------+----------------------+
|    Environment     | compressdev_zlib_pmd |
+====================+======================+
| Ubuntu 22.04 (ARM) | PASS                 |
+--------------------+----------------------+
| Ubuntu 22.04       | PASS                 |
+--------------------+----------------------+


Ubuntu 22.04 (ARM)
	Kernel: 5.15.0-97-generic
	Compiler: gcc gcc (Ubuntu 11.4.0-1ubuntu1~22.04) 11.4.0

Ubuntu 22.04
	Kernel: 5.15.0-100-generic
	Compiler: gcc gcc (Ubuntu 11.4.0-1ubuntu1~22.04) 11.4.0

To view detailed results, visit:
https://lab.dpdk.org/results/dashboard/patchsets/32497/

UNH-IOL DPDK Community Lab

To manage your email subscriptions, visit: 
https://lab.dpdk.org/results/dashboard/preferences/subscriptions/

^ permalink raw reply	[flat|nested] 16+ messages in thread

* |SUCCESS| pw150966-150969 [PATCH] [v4,4/4] net/intel: allow building
       [not found] <20250205115533.2746196-5-bruce.richardson@intel.com>
                   ` (11 preceding siblings ...)
  2025-02-05 13:31 ` dpdklab
@ 2025-02-05 13:52 ` dpdklab
  2025-02-05 13:54 ` dpdklab
                   ` (2 subsequent siblings)
  15 siblings, 0 replies; 16+ messages in thread
From: dpdklab @ 2025-02-05 13:52 UTC (permalink / raw)
  To: Test Report; +Cc: dpdk-test-reports

Test-Label: iol-unit-amd64-testing
Test-Status: SUCCESS
http://dpdk.org/patch/150969

_Testing PASS_

Submitter: Bruce Richardson <bruce.richardson@intel.com>
Date: Wednesday, February 05 2025 11:55:31 
DPDK git baseline: Repo:dpdk
  Branch: master
  CommitID:595535be66b103f7ce3ba61939b8013032987404

150966-150969 --> testing pass

Upstream job id: Generic-Unit-Test-DPDK#311832

Test environment and result as below:

+---------------------+----------------+
|     Environment     | dpdk_unit_test |
+=====================+================+
| Debian Bullseye     | PASS           |
+---------------------+----------------+
| Debian 12           | PASS           |
+---------------------+----------------+
| CentOS Stream 9     | PASS           |
+---------------------+----------------+
| Fedora 40           | PASS           |
+---------------------+----------------+
| Ubuntu 20.04        | PASS           |
+---------------------+----------------+
| Ubuntu 22.04        | PASS           |
+---------------------+----------------+
| Fedora 41           | PASS           |
+---------------------+----------------+
| Fedora 40 (Clang)   | PASS           |
+---------------------+----------------+
| RHEL8               | PASS           |
+---------------------+----------------+
| Fedora 41 (Clang)   | PASS           |
+---------------------+----------------+
| RHEL9               | PASS           |
+---------------------+----------------+
| Ubuntu 24.04        | PASS           |
+---------------------+----------------+
| Windows Server 2022 | PASS           |
+---------------------+----------------+


Debian Bullseye
	Kernel: Depends on container host
	Compiler: gcc (Debian 10.2.1-6) 10.2.1 20210110

Debian 12
	Kernel: Depends on container host
	Compiler: gcc (Debian 12.2.0-14) 12.2.0

CentOS Stream 9
	Kernel: Depends on container host
	Compiler: gcc 11.5.0 20240719 (Red Hat 11.5.0-2)

Fedora 40
	Kernel: Depends on container host
	Compiler: gcc 14.2.1 20240912 (Red Hat 14.2.1-3)

Ubuntu 20.04
	Kernel: Depends on container host
	Compiler: gcc (Ubuntu 9.4.0-1ubuntu1~20.04.2) 9.4.0

Ubuntu 22.04
	Kernel: Depends on container host
	Compiler: gcc (Ubuntu 11.4.0-1ubuntu1~22.04) 11.4.0

Fedora 41
	Kernel: Depends on container host
	Compiler: gcc 14.2.1 20240912 (Red Hat 14.2.1-3)

Fedora 40 (Clang)
	Kernel: Depends on container host
	Compiler: clang 18.1.8 (Fedora 18.1.8-1.fc40)

RHEL8
	Kernel: Depends on container host
	Compiler: gcc 8.5.0 20210514 (Red Hat 8.5.0-22)

Fedora 41 (Clang)
	Kernel: Depends on container host
	Compiler: clang 19.1.5 (Fedora 19.1.5-1.fc41)

RHEL9
	Kernel: Depends on container host
	Compiler: gcc 11.5.0 20240719 (Red Hat 11.5.0-2)

Ubuntu 24.04
	Kernel: Depends on container host
	Compiler: gcc (Ubuntu 13.3.0-6ubuntu2~24.04) 13.3.0

Windows Server 2022
	Kernel: 10.0.20348.2031
	Compiler: clang 15.0.7, gcc 14.1.0 (MinGW), and MSVC VS 19.39.33521

To view detailed results, visit:
https://lab.dpdk.org/results/dashboard/patchsets/32497/

UNH-IOL DPDK Community Lab

To manage your email subscriptions, visit: 
https://lab.dpdk.org/results/dashboard/preferences/subscriptions/

^ permalink raw reply	[flat|nested] 16+ messages in thread

* |SUCCESS| pw150966-150969 [PATCH] [v4,4/4] net/intel: allow building
       [not found] <20250205115533.2746196-5-bruce.richardson@intel.com>
                   ` (12 preceding siblings ...)
  2025-02-05 13:52 ` dpdklab
@ 2025-02-05 13:54 ` dpdklab
  2025-02-05 15:21 ` dpdklab
  2025-02-05 16:01 ` dpdklab
  15 siblings, 0 replies; 16+ messages in thread
From: dpdklab @ 2025-02-05 13:54 UTC (permalink / raw)
  To: Test Report; +Cc: dpdk-test-reports

Test-Label: iol-abi-testing
Test-Status: SUCCESS
http://dpdk.org/patch/150969

_Testing PASS_

Submitter: Bruce Richardson <bruce.richardson@intel.com>
Date: Wednesday, February 05 2025 11:55:31 
DPDK git baseline: Repo:dpdk
  Branch: master
  CommitID:595535be66b103f7ce3ba61939b8013032987404

150966-150969 --> testing pass

Upstream job id: Generic-DPDK-Compile-ABI#114874

Test environment and result as below:

+-------------------+----------+
|    Environment    | abi_test |
+===================+==========+
| CentOS Stream 9   | PASS     |
+-------------------+----------+
| Debian Bullseye   | PASS     |
+-------------------+----------+
| Debian 12         | PASS     |
+-------------------+----------+
| Fedora 40 (Clang) | PASS     |
+-------------------+----------+
| Fedora 41         | PASS     |
+-------------------+----------+
| Fedora 41 (Clang) | PASS     |
+-------------------+----------+
| Fedora 40         | PASS     |
+-------------------+----------+
| openSUSE Leap 15  | PASS     |
+-------------------+----------+
| RHEL9             | PASS     |
+-------------------+----------+
| Ubuntu 22.04      | PASS     |
+-------------------+----------+
| Ubuntu 24.04      | PASS     |
+-------------------+----------+
| RHEL8             | PASS     |
+-------------------+----------+


CentOS Stream 9
	Kernel: Depends on container host
	Compiler: gcc 11.5.0 20240719 (Red Hat 11.5.0-2)

Debian Bullseye
	Kernel: Depends on container host
	Compiler: gcc (Debian 10.2.1-6) 10.2.1 20210110

Debian 12
	Kernel: Depends on container host
	Compiler: gcc (Debian 12.2.0-14) 12.2.0

Fedora 40 (Clang)
	Kernel: Depends on container host
	Compiler: clang 18.1.8 (Fedora 18.1.8-1.fc40)

Fedora 41
	Kernel: Depends on container host
	Compiler: gcc 14.2.1 20240912 (Red Hat 14.2.1-3)

Fedora 41 (Clang)
	Kernel: Depends on container host
	Compiler: clang 19.1.5 (Fedora 19.1.5-1.fc41)

Fedora 40
	Kernel: Depends on container host
	Compiler: gcc 14.2.1 20240912 (Red Hat 14.2.1-3)

openSUSE Leap 15
	Kernel: Depends on container host
	Compiler: gcc (SUSE Linux) 7.5.0

RHEL9
	Kernel: Depends on container host
	Compiler: gcc 11.5.0 20240719 (Red Hat 11.5.0-2)

Ubuntu 22.04
	Kernel: Depends on container host
	Compiler: gcc (Ubuntu 11.4.0-1ubuntu1~22.04) 11.4.0

Ubuntu 24.04
	Kernel: Depends on container host
	Compiler: gcc (Ubuntu 13.3.0-6ubuntu2~24.04) 13.3.0

RHEL8
	Kernel: Depends on container host
	Compiler: gcc 8.5.0 20210514 (Red Hat 8.5.0-22)

To view detailed results, visit:
https://lab.dpdk.org/results/dashboard/patchsets/32497/

UNH-IOL DPDK Community Lab

To manage your email subscriptions, visit: 
https://lab.dpdk.org/results/dashboard/preferences/subscriptions/

^ permalink raw reply	[flat|nested] 16+ messages in thread

* |SUCCESS| pw150966-150969 [PATCH] [v4,4/4] net/intel: allow building
       [not found] <20250205115533.2746196-5-bruce.richardson@intel.com>
                   ` (13 preceding siblings ...)
  2025-02-05 13:54 ` dpdklab
@ 2025-02-05 15:21 ` dpdklab
  2025-02-05 16:01 ` dpdklab
  15 siblings, 0 replies; 16+ messages in thread
From: dpdklab @ 2025-02-05 15:21 UTC (permalink / raw)
  To: Test Report; +Cc: dpdk-test-reports

Test-Label: iol-sample-apps-testing
Test-Status: SUCCESS
http://dpdk.org/patch/150969

_Testing PASS_

Submitter: Bruce Richardson <bruce.richardson@intel.com>
Date: Wednesday, February 05 2025 11:55:31 
DPDK git baseline: Repo:dpdk
  Branch: master
  CommitID:595535be66b103f7ce3ba61939b8013032987404

150966-150969 --> testing pass

Upstream job id: ACVP-FIPS-testing#8791

Test environment and result as below:

+--------------------+----------------------+----------------------+
|    Environment     | compressdev_zlib_pmd | dpdk_fips_validation |
+====================+======================+======================+
| Ubuntu 22.04 (ARM) | PASS                 | SKIPPED              |
+--------------------+----------------------+----------------------+
| Ubuntu 22.04       | PASS                 | SKIPPED              |
+--------------------+----------------------+----------------------+
| Ubuntu 20.04       | SKIPPED              | PASS                 |
+--------------------+----------------------+----------------------+


Ubuntu 22.04 (ARM)
	Kernel: 5.15.0-97-generic
	Compiler: gcc gcc (Ubuntu 11.4.0-1ubuntu1~22.04) 11.4.0

Ubuntu 22.04
	Kernel: 5.15.0-100-generic
	Compiler: gcc gcc (Ubuntu 11.4.0-1ubuntu1~22.04) 11.4.0

Ubuntu 20.04
	Kernel: Depends on container host
	Compiler: gcc (Ubuntu 9.4.0-1ubuntu1~20.04.2) 9.4.0

To view detailed results, visit:
https://lab.dpdk.org/results/dashboard/patchsets/32497/

UNH-IOL DPDK Community Lab

To manage your email subscriptions, visit: 
https://lab.dpdk.org/results/dashboard/preferences/subscriptions/

^ permalink raw reply	[flat|nested] 16+ messages in thread

* |SUCCESS| pw150966-150969 [PATCH] [v4,4/4] net/intel: allow building
       [not found] <20250205115533.2746196-5-bruce.richardson@intel.com>
                   ` (14 preceding siblings ...)
  2025-02-05 15:21 ` dpdklab
@ 2025-02-05 16:01 ` dpdklab
  15 siblings, 0 replies; 16+ messages in thread
From: dpdklab @ 2025-02-05 16:01 UTC (permalink / raw)
  To: Test Report; +Cc: dpdk-test-reports

Test-Label: iol-compile-amd64-testing
Test-Status: SUCCESS
http://dpdk.org/patch/150969

_Testing PASS_

Submitter: Bruce Richardson <bruce.richardson@intel.com>
Date: Wednesday, February 05 2025 11:55:31 
DPDK git baseline: Repo:dpdk
  Branch: master
  CommitID:595535be66b103f7ce3ba61939b8013032987404

150966-150969 --> testing pass

Upstream job id: Windows-Compile-DPDK-Native#26444

Test environment and result as below:

+---------------------+-------------------+--------------------+-------------------------+
|     Environment     | dpdk_msvc_compile | dpdk_meson_compile | dpdk_llvm_clang_compile |
+=====================+===================+====================+=========================+
| Windows Server 2022 | PASS              | SKIPPED            | PASS                    |
+---------------------+-------------------+--------------------+-------------------------+
| FreeBSD 13.4        | SKIPPED           | PASS               | SKIPPED                 |
+---------------------+-------------------+--------------------+-------------------------+
| FreeBSD 14.2        | SKIPPED           | PASS               | SKIPPED                 |
+---------------------+-------------------+--------------------+-------------------------+


Windows Server 2022
	Kernel: 10.0.20348.2031
	Compiler: clang 15.0.7, gcc 14.1.0 (MinGW), and MSVC VS 19.39.33521

FreeBSD 13.4
	Kernel: 13.4-RELEASE-p1
	Compiler: clang 18.1.6

FreeBSD 14.2
	Kernel: 14.2-RELEASE
	Compiler: clang 18.1.6

To view detailed results, visit:
https://lab.dpdk.org/results/dashboard/patchsets/32497/

UNH-IOL DPDK Community Lab

To manage your email subscriptions, visit: 
https://lab.dpdk.org/results/dashboard/preferences/subscriptions/

^ permalink raw reply	[flat|nested] 16+ messages in thread

end of thread, other threads:[~2025-02-05 16:01 UTC | newest]

Thread overview: 16+ messages (download: mbox.gz / follow: Atom feed)
-- links below jump to the message on this page --
     [not found] <20250205115533.2746196-5-bruce.richardson@intel.com>
2025-02-05 11:21 ` |SUCCESS| pw150966-150969 [PATCH v4 4/4] net/intel: allow building ice driver without iavf qemudev
2025-02-05 11:26 ` qemudev
2025-02-05 11:55 ` |WARNING| pw150969 " checkpatch
2025-02-05 12:45 ` |SUCCESS| " 0-day Robot
2025-02-05 12:53 ` |PENDING| pw150966-150969 [PATCH] [v4,4/4] net/intel: allow building dpdklab
2025-02-05 12:59 ` |SUCCESS| " dpdklab
2025-02-05 13:01 ` dpdklab
2025-02-05 13:06 ` |PENDING| " dpdklab
2025-02-05 13:11 ` |SUCCESS| " dpdklab
2025-02-05 13:12 ` |PENDING| " dpdklab
2025-02-05 13:16 ` |SUCCESS| " dpdklab
2025-02-05 13:31 ` dpdklab
2025-02-05 13:52 ` dpdklab
2025-02-05 13:54 ` dpdklab
2025-02-05 15:21 ` dpdklab
2025-02-05 16:01 ` dpdklab

This is a public inbox, see mirroring instructions
for how to clone and mirror all data and code used for this inbox;
as well as URLs for NNTP newsgroup(s).