From mboxrd@z Thu Jan 1 00:00:00 1970 Return-Path: Received: from mails.dpdk.org (mails.dpdk.org [217.70.189.124]) by inbox.dpdk.org (Postfix) with ESMTP id 26DFD4619C for ; Wed, 5 Feb 2025 14:00:43 +0100 (CET) Received: from mails.dpdk.org (localhost [127.0.0.1]) by mails.dpdk.org (Postfix) with ESMTP id 23527402CE; Wed, 5 Feb 2025 14:00:43 +0100 (CET) Received: from mail-yw1-f225.google.com (mail-yw1-f225.google.com [209.85.128.225]) by mails.dpdk.org (Postfix) with ESMTP id 92A8F40270 for ; Wed, 5 Feb 2025 14:00:42 +0100 (CET) Received: by mail-yw1-f225.google.com with SMTP id 00721157ae682-6f97a3a0b25so15506367b3.3 for ; Wed, 05 Feb 2025 05:00:42 -0800 (PST) DKIM-Signature: v=1; a=rsa-sha256; c=relaxed/relaxed; d=iol.unh.edu; s=unh-iol; t=1738760442; x=1739365242; darn=dpdk.org; h=references:in-reply-to:cc:to:from:subject:message-id:date:from:to :cc:subject:date:message-id:reply-to; bh=eoSf7JvzXUoMH2AyqMOLK0oTSrstmI7dYDI6sV7O4L0=; b=g/4VTg8gi0nvU1wfRGkvg3d3Bfsreq79RMZyzySADanaD6ku0y6/q/z47Ld8oV8jkw +l8F0xnnPpzNDY7xqM16uHqJfzJnQ0aJPxHS3Bb7Si3DIBdG42MOTL0Z4BF3S4NH6QWV rYTwgdg7NeXdXu3qUdQsIUdxryDNfbv9qpmhc= X-Google-DKIM-Signature: v=1; a=rsa-sha256; c=relaxed/relaxed; d=1e100.net; s=20230601; t=1738760442; x=1739365242; h=references:in-reply-to:cc:to:from:subject:message-id:date :x-gm-message-state:from:to:cc:subject:date:message-id:reply-to; bh=eoSf7JvzXUoMH2AyqMOLK0oTSrstmI7dYDI6sV7O4L0=; b=nowe9b7vKW9oSPR8M7zFYAwROtoaacTuXpOzt0hag6HblSEavkqSm1Y4/qgI27tQ93 Pja4v3EpAjjFq0sLNzndoaEU73n5woF4qZ9ZOwCvJ46riG6P54lp9Nfc/REc+NXux3/Q 5A2OH6IdG4ZobzqFh4rMD7WpBhXecidmDrffnRp4FcXYqM0KVKcwBI7T/HaJxToezpkm p1pHuIgO8F8KLHnS2HADV/D8UZTmiwtqBGu+RWhcd5Sarb/NiEtIB30OgPL6dKOpgy4h 4y3OMQVrA7dRYHGHG8MiL38Vogbi9+jK5/YRlxKS/qjpKFrPNbG7ADWYabwxLZJz1o4b s23w== X-Gm-Message-State: AOJu0Yy1FmkLeOmi3rvIJvEp86sXClnno0Wrkbj+Fk6EN/WUizqbej5u fyZeKDV4O/Nk6kPVd5FwJM0ONPj0CXunW3ZaQ1CqROGum0Qvnf/XWt1xvrkl3hmPdPjA0TboWUS ey4KYaO4S2tibLiDstVG/dXo2Ncp/V2ro/z/tVAma X-Gm-Gg: ASbGncuuzI/mYFWkMkfRoHIASYRiiIj8x/uIC8d17OjjiQmeHngWj2XEacUjwtKMOer WR6m4HpuB5Qcr2oO6OPVC3KHetMHwijXBwQo/ih+L3t8YYLNaEGg+5HaSz4fEgemDdL8FVyXZO+ aQJxzTma1wGnD0auMJ6+tAYWGsm1EJWoXHivbJr0r4VuIM2zz1JVy/Eq8Aht26Zr0EdP3bZEhKP Yfqzk72LI8qs0KdJsJ9CcLfsO3gdk2+HMy5jqj+FxR44gSj4kkVHBtnadGXm4xI7vKRxS1fMhha 6kk/75ybBRUrmksMAubBLeXz/X7TwA== X-Google-Smtp-Source: AGHT+IFvX9mzYtZMLjpcuMw4qBkEF82M9qevUntYoZrMQXOV7uwELEgVxpP4gtWz7X0Bgrlay8ok79mgHK5K X-Received: by 2002:a05:690c:7090:b0:6f8:c3d0:3268 with SMTP id 00721157ae682-6f989fae825mr23623277b3.32.1738760441769; Wed, 05 Feb 2025 05:00:41 -0800 (PST) Received: from postal.iol.unh.edu (postal.iol.unh.edu. [132.177.123.84]) by smtp-relay.gmail.com with ESMTPS id 00721157ae682-6f8c460bd9bsm6685187b3.8.2025.02.05.05.00.41 (version=TLS1_2 cipher=ECDHE-ECDSA-AES128-GCM-SHA256 bits=128/128); Wed, 05 Feb 2025 05:00:41 -0800 (PST) X-Relaying-Domain: iol.unh.edu Date: Wed, 05 Feb 2025 05:00:41 -0800 (PST) Message-ID: <67a360f9.050a0220.9481d.d993SMTPIN_ADDED_MISSING@mx.google.com> Received: from [172.21.0.5] (unknown [172.18.0.240]) by postal.iol.unh.edu (Postfix) with ESMTP id 1C31D6052471; Wed, 5 Feb 2025 08:00:41 -0500 (EST) Subject: |SUCCESS| pw150932-150965 [PATCH] [v2,34/34] net/ntnic: remove tag E From: dpdklab@iol.unh.edu To: Test Report Cc: dpdk-test-reports@iol.unh.edu In-Reply-To: <20250205104548.1533554-35-sil-plv@napatech.com> References: <20250205104548.1533554-35-sil-plv@napatech.com> Content-Type: text/plain X-BeenThere: test-report@dpdk.org X-Mailman-Version: 2.1.29 Precedence: list List-Id: automatic DPDK test reports List-Unsubscribe: , List-Archive: List-Post: List-Help: List-Subscribe: , Errors-To: test-report-bounces@dpdk.org Test-Label: iol-abi-testing Test-Status: SUCCESS http://dpdk.org/patch/150965 _Testing PASS_ Submitter: Serhii Iliushyk Date: Wednesday, February 05 2025 10:45:43 DPDK git baseline: Repo:dpdk Branch: master CommitID:dc4ce7c2538b713e16887eb598da309bc7b4d528 150932-150965 --> testing pass Upstream job id: Generic-DPDK-Compile-ABI#114853 Test environment and result as below: +-------------------+----------+ | Environment | abi_test | +===================+==========+ | CentOS Stream 9 | PASS | +-------------------+----------+ | Debian Bullseye | PASS | +-------------------+----------+ | Debian 12 | PASS | +-------------------+----------+ | Fedora 40 (Clang) | PASS | +-------------------+----------+ | Fedora 40 | PASS | +-------------------+----------+ | Fedora 41 (Clang) | PASS | +-------------------+----------+ | Fedora 41 | PASS | +-------------------+----------+ | openSUSE Leap 15 | PASS | +-------------------+----------+ | RHEL8 | PASS | +-------------------+----------+ | RHEL9 | PASS | +-------------------+----------+ | Ubuntu 22.04 | PASS | +-------------------+----------+ | Ubuntu 24.04 | PASS | +-------------------+----------+ CentOS Stream 9 Kernel: Depends on container host Compiler: gcc 11.5.0 20240719 (Red Hat 11.5.0-2) Debian Bullseye Kernel: Depends on container host Compiler: gcc (Debian 10.2.1-6) 10.2.1 20210110 Debian 12 Kernel: Depends on container host Compiler: gcc (Debian 12.2.0-14) 12.2.0 Fedora 40 (Clang) Kernel: Depends on container host Compiler: clang 18.1.8 (Fedora 18.1.8-1.fc40) Fedora 40 Kernel: Depends on container host Compiler: gcc 14.2.1 20240912 (Red Hat 14.2.1-3) Fedora 41 (Clang) Kernel: Depends on container host Compiler: clang 19.1.5 (Fedora 19.1.5-1.fc41) Fedora 41 Kernel: Depends on container host Compiler: gcc 14.2.1 20240912 (Red Hat 14.2.1-3) openSUSE Leap 15 Kernel: Depends on container host Compiler: gcc (SUSE Linux) 7.5.0 RHEL8 Kernel: Depends on container host Compiler: gcc 8.5.0 20210514 (Red Hat 8.5.0-22) RHEL9 Kernel: Depends on container host Compiler: gcc 11.5.0 20240719 (Red Hat 11.5.0-2) Ubuntu 22.04 Kernel: Depends on container host Compiler: gcc (Ubuntu 11.4.0-1ubuntu1~22.04) 11.4.0 Ubuntu 24.04 Kernel: Depends on container host Compiler: gcc (Ubuntu 13.3.0-6ubuntu2~24.04) 13.3.0 To view detailed results, visit: https://lab.dpdk.org/results/dashboard/patchsets/32496/ UNH-IOL DPDK Community Lab To manage your email subscriptions, visit: https://lab.dpdk.org/results/dashboard/preferences/subscriptions/