From mboxrd@z Thu Jan 1 00:00:00 1970 Return-Path: Received: from mails.dpdk.org (mails.dpdk.org [217.70.189.124]) by inbox.dpdk.org (Postfix) with ESMTP id 494D84619C for ; Wed, 5 Feb 2025 14:01:32 +0100 (CET) Received: from mails.dpdk.org (localhost [127.0.0.1]) by mails.dpdk.org (Postfix) with ESMTP id 42CDA402CE; Wed, 5 Feb 2025 14:01:32 +0100 (CET) Received: from mail-yw1-f226.google.com (mail-yw1-f226.google.com [209.85.128.226]) by mails.dpdk.org (Postfix) with ESMTP id BF10540270 for ; Wed, 5 Feb 2025 14:01:30 +0100 (CET) Received: by mail-yw1-f226.google.com with SMTP id 00721157ae682-6efe4e3d698so50140067b3.0 for ; Wed, 05 Feb 2025 05:01:30 -0800 (PST) DKIM-Signature: v=1; a=rsa-sha256; c=relaxed/relaxed; d=iol.unh.edu; s=unh-iol; t=1738760490; x=1739365290; darn=dpdk.org; h=references:in-reply-to:cc:to:from:subject:message-id:date:from:to :cc:subject:date:message-id:reply-to; bh=TmFPe0KEiUZLgyxsobU4gm/Bf9HFsUzNHfzD3IvnC3c=; b=hc43zP1JmcP4uhoNrpcGghsqwTTdykMrWyiIH++dDmNB66FQgAnC5nys+pa0iU9Rkb AjpH0XavvbUVvNOZ4CV28L0hBxumKGXyrzQfjpoOVWnyIHy8rlpMXfsaWe1vN7WRmtkr EOKSP4DIUlirWHQ4GlgteoAe6MCMSttq+2XD8= X-Google-DKIM-Signature: v=1; a=rsa-sha256; c=relaxed/relaxed; d=1e100.net; s=20230601; t=1738760490; x=1739365290; h=references:in-reply-to:cc:to:from:subject:message-id:date :x-gm-message-state:from:to:cc:subject:date:message-id:reply-to; bh=TmFPe0KEiUZLgyxsobU4gm/Bf9HFsUzNHfzD3IvnC3c=; b=es7WyCD8rajPdLFC0e6roRd75gO0DwwAZDRrleBi4LZ7cjv8N6r6dUxrkbEYVIDukC VNB+29mGq3KvruWfDie5fy0cv12UMm+J1jgOtgihkbqQ/Hf/4kF7DDgKPVNlu0HwEIRu xS6d7x+eSXiwJnVzGJkcAHcXKNr0Runury34ta8ZYWQtlPrG3OIiEmo0Lk9RXRcZcyAp R4wZ9ED3vfvj2L3Y9GiXcVsk8w2nj+gKd/d0DICUCV9O+h6RQV3Tyyq/Vg61TK/Rbvmm izBSHgV4RUt0Da+8E0s1cEHZ6ZAhK3cZmbZ1zIMeq331xnECnAfeEwiMDn5+fBOBqqX1 f40w== X-Gm-Message-State: AOJu0YymGltB9gFBKqehXHzI7a96f2GGlt6Uip7MbwKGRRagqAEw4p3+ v3oaGHbvbQM5fXn+mvmmczfr59uKZbtv/XzjwEn+FKHtX+qjp3ClWBKP9mRPfi/Y70ZNzANMLOW YsIMwmWPCgeUFxlLavXfGEOw6LZVVit1e1oK1eQHRhUiARl/dDkJJkpmO X-Gm-Gg: ASbGncuGFXwEuBjbYzDk0pYdUhUeGMHmk3GyPY0rEbsaFGJ8aMXsfoVdAZ4pni8QIOm 1p5v0jr3BZ4FIg+uxr+9lEo8cRaJ2mqiQkjaWM3Vl/68LUde7sxu4bRA9Qx2yS2VgwVrbDQTBzv bLwy/ksYH370Wvyp/6JGjtz0WU4b2qEPurrEClM4ZqiK8aqdNBhwcOt7+AivrbFenNGscwr0D+3 uuvll8adfFdssbkpWqaBBRjnrLFpDooW4KyeiLUvuMsYs7Kpg5wpdSKOqBd5jmVJGOpRtDafcE5 NEQwwjOFMnlQnXwUlftRVNlVgYHQIj5cusbHRNiGTw== X-Google-Smtp-Source: AGHT+IEpTGopX/qbCMWw51jMiMF70uEYQXGQkDABzmfnFKbfHodNN120AXxhO1fsrhNOIZ6oQdPZPXkSV92w X-Received: by 2002:a05:690c:7010:b0:6ee:5cf9:f898 with SMTP id 00721157ae682-6f989f8d503mr25405107b3.33.1738760490142; Wed, 05 Feb 2025 05:01:30 -0800 (PST) Received: from postal.iol.unh.edu (postal.iol.unh.edu. [2606:4100:3880:1234::84]) by smtp-relay.gmail.com with ESMTPS id 00721157ae682-6f8c4885474sm6517317b3.45.2025.02.05.05.01.30 (version=TLS1_2 cipher=ECDHE-ECDSA-AES128-GCM-SHA256 bits=128/128); Wed, 05 Feb 2025 05:01:30 -0800 (PST) X-Relaying-Domain: iol.unh.edu Date: Wed, 05 Feb 2025 05:01:30 -0800 (PST) Message-ID: <67a3612a.050a0220.30f491.d046SMTPIN_ADDED_MISSING@mx.google.com> Received: from [172.21.0.5] (unknown [172.18.0.240]) by postal.iol.unh.edu (Postfix) with ESMTP id BEA216052471; Wed, 5 Feb 2025 08:01:29 -0500 (EST) Subject: |SUCCESS| pw150966-150969 [PATCH] [v4,4/4] net/intel: allow building From: dpdklab@iol.unh.edu To: Test Report Cc: dpdk-test-reports@iol.unh.edu In-Reply-To: <20250205115533.2746196-5-bruce.richardson@intel.com> References: <20250205115533.2746196-5-bruce.richardson@intel.com> Content-Type: text/plain X-BeenThere: test-report@dpdk.org X-Mailman-Version: 2.1.29 Precedence: list List-Id: automatic DPDK test reports List-Unsubscribe: , List-Archive: List-Post: List-Help: List-Subscribe: , Errors-To: test-report-bounces@dpdk.org Test-Label: iol-compile-amd64-testing Test-Status: SUCCESS http://dpdk.org/patch/150969 _Testing PASS_ Submitter: Bruce Richardson Date: Wednesday, February 05 2025 11:55:31 DPDK git baseline: Repo:dpdk Branch: master CommitID:595535be66b103f7ce3ba61939b8013032987404 150966-150969 --> testing pass Upstream job id: Generic-VM-DPDK-Compile-Meson#33056 Test environment and result as below: +---------------------+-------------------+--------------------+ | Environment | dpdk_msvc_compile | dpdk_meson_compile | +=====================+===================+====================+ | Windows Server 2022 | PASS | SKIPPED | +---------------------+-------------------+--------------------+ | FreeBSD 13.4 | SKIPPED | PASS | +---------------------+-------------------+--------------------+ | FreeBSD 14.2 | SKIPPED | PASS | +---------------------+-------------------+--------------------+ Windows Server 2022 Kernel: 10.0.20348.2031 Compiler: clang 15.0.7, gcc 14.1.0 (MinGW), and MSVC VS 19.39.33521 FreeBSD 13.4 Kernel: 13.4-RELEASE-p1 Compiler: clang 18.1.6 FreeBSD 14.2 Kernel: 14.2-RELEASE Compiler: clang 18.1.6 To view detailed results, visit: https://lab.dpdk.org/results/dashboard/patchsets/32497/ UNH-IOL DPDK Community Lab To manage your email subscriptions, visit: https://lab.dpdk.org/results/dashboard/preferences/subscriptions/