From mboxrd@z Thu Jan 1 00:00:00 1970 Return-Path: Received: from mails.dpdk.org (mails.dpdk.org [217.70.189.124]) by inbox.dpdk.org (Postfix) with ESMTP id A60F44619C for ; Wed, 5 Feb 2025 14:04:01 +0100 (CET) Received: from mails.dpdk.org (localhost [127.0.0.1]) by mails.dpdk.org (Postfix) with ESMTP id 84C6F402CE; Wed, 5 Feb 2025 14:04:01 +0100 (CET) Received: from mail-pl1-f225.google.com (mail-pl1-f225.google.com [209.85.214.225]) by mails.dpdk.org (Postfix) with ESMTP id 9343040270 for ; Wed, 5 Feb 2025 14:04:00 +0100 (CET) Received: by mail-pl1-f225.google.com with SMTP id d9443c01a7336-216728b1836so117141475ad.0 for ; Wed, 05 Feb 2025 05:04:00 -0800 (PST) DKIM-Signature: v=1; a=rsa-sha256; c=relaxed/relaxed; d=iol.unh.edu; s=unh-iol; t=1738760639; x=1739365439; darn=dpdk.org; h=references:in-reply-to:cc:to:from:subject:message-id:date:from:to :cc:subject:date:message-id:reply-to; bh=BqAJF4+S4l3Rancqb4e6z7jaNbSMiNxKwWdJVJuoDZU=; b=ciqOG3HCeYAVhvCLEsDqLAmnRS6CHUQAdu+UuQS0gfCBLZo5olxu5XJHr7hnrAQ4DB K6aiB2/tSaNBUYdQ60ix6wVB8+uv455yHORFss6Qix2F8Dje8wCQoS0kAeV2id/UbUhv XNmpULvNciMIBTbOpOwkz/tscfQuOrjTAuYs8= X-Google-DKIM-Signature: v=1; a=rsa-sha256; c=relaxed/relaxed; d=1e100.net; s=20230601; t=1738760639; x=1739365439; h=references:in-reply-to:cc:to:from:subject:message-id:date :x-gm-message-state:from:to:cc:subject:date:message-id:reply-to; bh=BqAJF4+S4l3Rancqb4e6z7jaNbSMiNxKwWdJVJuoDZU=; b=dZgtpZmGHL46176qANVsGqTiaN/4I3Vbfa7SGBZseC7y5HxX+mZQSe9ke+l5k7sT1L 1QUooYg3Zy9FGYt1Ik9HU9kyph/ci+DZatw+Vp5WWPKUR9spn4CxV09GmWmgHNmipb6I 8tqPq7WOlNUSeYYBeFLGS6xWHtvtutsUrpJiqcRjH8HmMngO7Q9FsUQrJVwzaRolZ39L 7TPC7urWWii3BIv1LeMp8WwtuE0a9YHeKIOkARIhLqETVJWgspmKKh+hHJl+7t4zxQJT NsizaPlTR5GBXIM8xwtPaBaeMv1+RYDd/xZjzTinAthlNRrOsKDn98diAvJH3KoHqFB0 YXVQ== X-Gm-Message-State: AOJu0YzOxfscuJ3faSpMC2joQh+AoBtyOJSkhc2IuHHdFZ7jdgaSib8L R41Dh06O31GXFxx+xUVjmdb3bM2vhNjvNirSx+2aUSz6K8jb0vWXrPo9F5sOyKnR8ufSPOe0qnV aB+yfXZHr4wdOU+9nryX67Pui+Q1Jb9++5LKi8mKE X-Gm-Gg: ASbGncs0MSWe6fokMZMGBqo4W/hJD14t2q8YoylYrikvZZflQKg6R8FSmMyPqrHYYyp BvHXbCjd/VFvyRk5eDFugNP3ayC6wFE50VGhlfE+28KkMUH7QZATyR0M2YGd3a+8yAZzscrgXjO 7lsGBlMNK8yyjvjg6dBTHps5gMiaXnUd1re8xKGx/iiTGWBXRDH08PbDyYMMgpBvpFHje4ZHvJV B8XdnJvOziNRfO7mC2sfd+dWMxT+i7LQvE6TI4KEHchX1xlR5bNcdtlAyY6Wndqx5H58PzJYLBh nBFposnxWh4tJQ9pXuqWXUQIilciAA== X-Google-Smtp-Source: AGHT+IERMaJe1jH/ioo7jNZJ96Ujoq+pFDFfkbhpiUZiYGsHZ4TkgikjFhvxmriPRuKgOrxsBIZ724Qp4wxD X-Received: by 2002:a17:902:d50e:b0:216:3c2b:a5d0 with SMTP id d9443c01a7336-21f17f31eb7mr50975095ad.51.1738760639383; Wed, 05 Feb 2025 05:03:59 -0800 (PST) Received: from postal.iol.unh.edu (postal.iol.unh.edu. [132.177.123.84]) by smtp-relay.gmail.com with ESMTPS id d9443c01a7336-21de3325597sm6524355ad.73.2025.02.05.05.03.59 (version=TLS1_2 cipher=ECDHE-ECDSA-AES128-GCM-SHA256 bits=128/128); Wed, 05 Feb 2025 05:03:59 -0800 (PST) X-Relaying-Domain: iol.unh.edu Date: Wed, 05 Feb 2025 05:03:59 -0800 (PST) Message-ID: <67a361bf.170a0220.1eb14a.dd69SMTPIN_ADDED_MISSING@mx.google.com> Received: from [172.21.0.5] (unknown [172.18.0.240]) by postal.iol.unh.edu (Postfix) with ESMTP id CA4536052471; Wed, 5 Feb 2025 08:03:58 -0500 (EST) Subject: |WARNING| pw150449-150451 [PATCH] [v2,3/3] net/mlx5: add port and qu From: dpdklab@iol.unh.edu To: Test Report Cc: dpdk-test-reports@iol.unh.edu In-Reply-To: <20250124114336.16610-4-shperetz@nvidia.com> References: <20250124114336.16610-4-shperetz@nvidia.com> Content-Type: text/plain X-BeenThere: test-report@dpdk.org X-Mailman-Version: 2.1.29 Precedence: list List-Id: automatic DPDK test reports List-Unsubscribe: , List-Archive: List-Post: List-Help: List-Subscribe: , Errors-To: test-report-bounces@dpdk.org Test-Label: iol-compile-amd64-testing Test-Status: WARNING http://dpdk.org/patch/150451 _Testing issues_ Submitter: Shani Peretz Date: Friday, January 24 2025 11:43:35 DPDK git baseline: Repo:dpdk Branch: master CommitID:c5b363510f8319b4c89f4ed45568864968fa156d 150449-150451 --> testing issues Upstream job id: Windows-Compile-DPDK-Native#26402 Test environment and result as below: +---------------------+--------------------+------------------+-------------------+-------------------+----------------------+-------------------------+ | Environment | dpdk_meson_compile | dpdk_compile_ovs | dpdk_compile_spdk | dpdk_msvc_compile | dpdk_mingw64_compile | dpdk_llvm_clang_compile | +=====================+====================+==================+===================+===================+======================+=========================+ | CentOS Stream 9 | PASS | PASS | PASS | SKIPPED | SKIPPED | SKIPPED | +---------------------+--------------------+------------------+-------------------+-------------------+----------------------+-------------------------+ | Debian Bullseye | PASS | PASS | PASS | SKIPPED | SKIPPED | SKIPPED | +---------------------+--------------------+------------------+-------------------+-------------------+----------------------+-------------------------+ | Debian 12 | PASS | PASS | PASS | SKIPPED | SKIPPED | SKIPPED | +---------------------+--------------------+------------------+-------------------+-------------------+----------------------+-------------------------+ | Fedora 40 (Clang) | PASS | PASS | PASS | SKIPPED | SKIPPED | SKIPPED | +---------------------+--------------------+------------------+-------------------+-------------------+----------------------+-------------------------+ | Fedora 40 | PASS | PASS | PASS | SKIPPED | SKIPPED | SKIPPED | +---------------------+--------------------+------------------+-------------------+-------------------+----------------------+-------------------------+ | RHEL9 | PASS | PASS | SKIPPED | SKIPPED | SKIPPED | SKIPPED | +---------------------+--------------------+------------------+-------------------+-------------------+----------------------+-------------------------+ | Fedora 41 | PASS | PASS | PASS | SKIPPED | SKIPPED | SKIPPED | +---------------------+--------------------+------------------+-------------------+-------------------+----------------------+-------------------------+ | Ubuntu 20.04 | PASS | WARN | SKIPPED | SKIPPED | SKIPPED | SKIPPED | +---------------------+--------------------+------------------+-------------------+-------------------+----------------------+-------------------------+ | RHEL8 | PASS | PASS | SKIPPED | SKIPPED | SKIPPED | SKIPPED | +---------------------+--------------------+------------------+-------------------+-------------------+----------------------+-------------------------+ | openSUSE Leap 15 | PASS | SKIPPED | SKIPPED | SKIPPED | SKIPPED | SKIPPED | +---------------------+--------------------+------------------+-------------------+-------------------+----------------------+-------------------------+ | Ubuntu 22.04 | PASS | PASS | PASS | SKIPPED | SKIPPED | SKIPPED | +---------------------+--------------------+------------------+-------------------+-------------------+----------------------+-------------------------+ | Ubuntu 24.04 | PASS | PASS | PASS | SKIPPED | SKIPPED | SKIPPED | +---------------------+--------------------+------------------+-------------------+-------------------+----------------------+-------------------------+ | Alpine | PASS | PASS | SKIPPED | SKIPPED | SKIPPED | SKIPPED | +---------------------+--------------------+------------------+-------------------+-------------------+----------------------+-------------------------+ | FreeBSD 13.4 | PASS | SKIPPED | SKIPPED | SKIPPED | SKIPPED | SKIPPED | +---------------------+--------------------+------------------+-------------------+-------------------+----------------------+-------------------------+ | FreeBSD 14.2 | PASS | SKIPPED | SKIPPED | SKIPPED | SKIPPED | SKIPPED | +---------------------+--------------------+------------------+-------------------+-------------------+----------------------+-------------------------+ | Fedora 41 (Clang) | PASS | PASS | PASS | SKIPPED | SKIPPED | SKIPPED | +---------------------+--------------------+------------------+-------------------+-------------------+----------------------+-------------------------+ | Windows Server 2022 | SKIPPED | SKIPPED | SKIPPED | PASS | PASS | PASS | +---------------------+--------------------+------------------+-------------------+-------------------+----------------------+-------------------------+ ==== 20 line log output for Ubuntu 20.04 (dpdk_compile_ovs): ==== --- Failed to get log output --- ==== End log output ==== CentOS Stream 9 Kernel: Depends on container host Compiler: gcc 11.5.0 20240719 (Red Hat 11.5.0-2) Debian Bullseye Kernel: Depends on container host Compiler: gcc (Debian 10.2.1-6) 10.2.1 20210110 Debian 12 Kernel: Depends on container host Compiler: gcc (Debian 12.2.0-14) 12.2.0 Fedora 40 (Clang) Kernel: Depends on container host Compiler: clang 18.1.8 (Fedora 18.1.8-1.fc40) Fedora 40 Kernel: Depends on container host Compiler: gcc 14.2.1 20240912 (Red Hat 14.2.1-3) RHEL9 Kernel: Depends on container host Compiler: gcc 11.5.0 20240719 (Red Hat 11.5.0-2) Fedora 41 Kernel: Depends on container host Compiler: gcc 14.2.1 20240912 (Red Hat 14.2.1-3) Ubuntu 20.04 Kernel: Depends on container host Compiler: gcc (Ubuntu 9.4.0-1ubuntu1~20.04.2) 9.4.0 RHEL8 Kernel: Depends on container host Compiler: gcc 8.5.0 20210514 (Red Hat 8.5.0-22) openSUSE Leap 15 Kernel: Depends on container host Compiler: gcc (SUSE Linux) 7.5.0 Ubuntu 22.04 Kernel: Depends on container host Compiler: gcc (Ubuntu 11.4.0-1ubuntu1~22.04) 11.4.0 Ubuntu 24.04 Kernel: Depends on container host Compiler: gcc (Ubuntu 13.3.0-6ubuntu2~24.04) 13.3.0 Alpine Kernel: Depends on container host Compiler: gcc (Alpine 14.2.0) 14.2.0 FreeBSD 13.4 Kernel: 13.4-RELEASE-p1 Compiler: clang 18.1.6 FreeBSD 14.2 Kernel: 14.2-RELEASE Compiler: clang 18.1.6 Fedora 41 (Clang) Kernel: Depends on container host Compiler: clang 19.1.5 (Fedora 19.1.5-1.fc41) Windows Server 2022 Kernel: 10.0.20348.2031 Compiler: clang 15.0.7, gcc 14.1.0 (MinGW), and MSVC VS 19.39.33521 To view detailed results, visit: https://lab.dpdk.org/results/dashboard/patchsets/32413/ UNH-IOL DPDK Community Lab To manage your email subscriptions, visit: https://lab.dpdk.org/results/dashboard/preferences/subscriptions/