From mboxrd@z Thu Jan 1 00:00:00 1970 Return-Path: Received: from mails.dpdk.org (mails.dpdk.org [217.70.189.124]) by inbox.dpdk.org (Postfix) with ESMTP id D68FB4619C for ; Wed, 5 Feb 2025 14:15:35 +0100 (CET) Received: from mails.dpdk.org (localhost [127.0.0.1]) by mails.dpdk.org (Postfix) with ESMTP id BCC94402B3; Wed, 5 Feb 2025 14:15:35 +0100 (CET) Received: from mail-pl1-f227.google.com (mail-pl1-f227.google.com [209.85.214.227]) by mails.dpdk.org (Postfix) with ESMTP id 87E2940270 for ; Wed, 5 Feb 2025 14:15:34 +0100 (CET) Received: by mail-pl1-f227.google.com with SMTP id d9443c01a7336-21644aca3a0so4172875ad.3 for ; Wed, 05 Feb 2025 05:15:34 -0800 (PST) DKIM-Signature: v=1; a=rsa-sha256; c=relaxed/relaxed; d=iol.unh.edu; s=unh-iol; t=1738761333; x=1739366133; darn=dpdk.org; h=references:in-reply-to:cc:to:from:subject:message-id:date:from:to :cc:subject:date:message-id:reply-to; bh=+jOUqG+RRoyjyWOTh+qz147X0gsKqM4GXPLZ99AaFP4=; b=ciKv3oDLnGNECKhiDoqaphdzKFr8jrVsygyQ4yeAyTBwkp3rRIeI6Ybt/K/l3tVAvz fa8IZ6yjOzOTUk9jhZY4Dw4hu67I/CZU80FTaREKPpdBdIOKgklalGKkuYzbSAi4gZgr lwCmXmcGIQnxroIJKc2MwoL+NKUHAudVyDfsc= X-Google-DKIM-Signature: v=1; a=rsa-sha256; c=relaxed/relaxed; d=1e100.net; s=20230601; t=1738761333; x=1739366133; h=references:in-reply-to:cc:to:from:subject:message-id:date :x-gm-message-state:from:to:cc:subject:date:message-id:reply-to; bh=+jOUqG+RRoyjyWOTh+qz147X0gsKqM4GXPLZ99AaFP4=; b=dUyYn62Od7Jq/Ln59AK9rajfO8V3pui2rxC1NZt2uho5qZ3VhKMLK2mWCQnY9z7Ouv mCTNLPeOFjd0YW6++dMZes9A8sqFTMXJsFKAwabMQrV+LvI/QT50df6fQAzpJRVmJsY2 rQ9QpuPlQdgCt7mQFhx2FdSJ52/7c91i7vUPJp9PdzeNNzBA3oogEg4JVlggS2vmvk5v UUa1r5UcjvDnmXkkVQz2401K+myVmuEZqhVeB0V4LX+rCCHm2qC6Lku2GMhcTF1VLIDR DuGVWdtyEjlOELmsrY4/ixzOOyo7sV5ymAidHpTiCXFJ+hGToLRl+TLgnv+9hWWabHkT mdHA== X-Gm-Message-State: AOJu0YzAZMm8wQ2j1Z5UlKs72aoFjR+HzwG5wMRBhbMBkoWA9Yc+sdRx 1rA+HYF03g4dlyDSm5Djcjkj9PNoM2gcWJV2avmIK4mX4HwaYicaWO2HWzlg3nycOpepWnG551A h9SndrBjaxfEESRRDdUORyNz68gPLi2WQYyhxh7Cn X-Gm-Gg: ASbGncsw33R+C6IauCeqTO9YrhIbTAfYrU8flM4rjoCRLuK/58PdX6KXdoOzmgs0KVl LJNJAPNHxKX0KqS8cY37BuQJhExGtDgT5xBYsNy9bajMlDZy5a1VYxhCj+ZE/U3rOw0VGWP296e Muv960QR/m42il0aPUSRNWuYOrgvLG2E8vOVmdQj1h8X5Za+kinfdQlf/epWh039K+Ykc1QOVjK 5L8PuqMMOOV8a7/7BXhXd65LjO616TZBkQ1PVLx1bASq5T+eAcRtkU4Nfbcmf2eQn1Wvhf4GQ3f zdD1aGINayjRxZM/RJ2j09NOvV0owA== X-Google-Smtp-Source: AGHT+IFdO02gZAKd34yGUM9/rSVa334HzFLlsctkoKrH+58C5HqPABUF7D/SeZiq5PLxAmbCu5v06qUT3KJJ X-Received: by 2002:a05:6a00:3393:b0:725:973f:9d53 with SMTP id d2e1a72fcca58-730351ead83mr4266778b3a.15.1738761333551; Wed, 05 Feb 2025 05:15:33 -0800 (PST) Received: from postal.iol.unh.edu (postal.iol.unh.edu. [132.177.123.84]) by smtp-relay.gmail.com with ESMTPS id d2e1a72fcca58-72fe6424e8esm1070003b3a.7.2025.02.05.05.15.33 (version=TLS1_2 cipher=ECDHE-ECDSA-AES128-GCM-SHA256 bits=128/128); Wed, 05 Feb 2025 05:15:33 -0800 (PST) X-Relaying-Domain: iol.unh.edu Date: Wed, 05 Feb 2025 05:15:33 -0800 (PST) Message-ID: <67a36475.050a0220.209acf.253aSMTPIN_ADDED_MISSING@mx.google.com> Received: from [172.17.0.4] (unknown [172.18.0.217]) by postal.iol.unh.edu (Postfix) with ESMTP id B6C5B6052471; Wed, 5 Feb 2025 08:15:32 -0500 (EST) Subject: |WARNING| pw150452 [PATCH] [1/1] vhost: add NULL callback checks From: dpdklab@iol.unh.edu To: Test Report Cc: dpdk-test-reports@iol.unh.edu In-Reply-To: <20250124141408.419674-2-ktraynor@redhat.com> References: <20250124141408.419674-2-ktraynor@redhat.com> Content-Type: text/plain X-BeenThere: test-report@dpdk.org X-Mailman-Version: 2.1.29 Precedence: list List-Id: automatic DPDK test reports List-Unsubscribe: , List-Archive: List-Post: List-Help: List-Subscribe: , Errors-To: test-report-bounces@dpdk.org Test-Label: iol-compile-amd64-testing Test-Status: WARNING http://dpdk.org/patch/150452 _Testing issues_ Submitter: Kevin Traynor Date: Friday, January 24 2025 14:14:07 DPDK git baseline: Repo:dpdk Branch: master CommitID:d92688baedcfc963b7539899347012a09c45a15b 150452 --> testing issues Upstream job id: Windows-Compile-DPDK-Native#26403 Test environment and result as below: +---------------------+--------------------+------------------+-------------------+-------------------+----------------------+-------------------------+ | Environment | dpdk_meson_compile | dpdk_compile_ovs | dpdk_compile_spdk | dpdk_msvc_compile | dpdk_mingw64_compile | dpdk_llvm_clang_compile | +=====================+====================+==================+===================+===================+======================+=========================+ | CentOS Stream 9 | PASS | PASS | PASS | SKIPPED | SKIPPED | SKIPPED | +---------------------+--------------------+------------------+-------------------+-------------------+----------------------+-------------------------+ | Debian 12 | PASS | PASS | PASS | SKIPPED | SKIPPED | SKIPPED | +---------------------+--------------------+------------------+-------------------+-------------------+----------------------+-------------------------+ | Debian Bullseye | PASS | PASS | PASS | SKIPPED | SKIPPED | SKIPPED | +---------------------+--------------------+------------------+-------------------+-------------------+----------------------+-------------------------+ | Fedora 40 | PASS | PASS | PASS | SKIPPED | SKIPPED | SKIPPED | +---------------------+--------------------+------------------+-------------------+-------------------+----------------------+-------------------------+ | Fedora 40 (Clang) | PASS | PASS | PASS | SKIPPED | SKIPPED | SKIPPED | +---------------------+--------------------+------------------+-------------------+-------------------+----------------------+-------------------------+ | Ubuntu 20.04 | PASS | WARN | SKIPPED | SKIPPED | SKIPPED | SKIPPED | +---------------------+--------------------+------------------+-------------------+-------------------+----------------------+-------------------------+ | Fedora 41 | PASS | PASS | PASS | SKIPPED | SKIPPED | SKIPPED | +---------------------+--------------------+------------------+-------------------+-------------------+----------------------+-------------------------+ | RHEL9 | PASS | PASS | SKIPPED | SKIPPED | SKIPPED | SKIPPED | +---------------------+--------------------+------------------+-------------------+-------------------+----------------------+-------------------------+ | Fedora 41 (Clang) | PASS | PASS | PASS | SKIPPED | SKIPPED | SKIPPED | +---------------------+--------------------+------------------+-------------------+-------------------+----------------------+-------------------------+ | openSUSE Leap 15 | PASS | SKIPPED | SKIPPED | SKIPPED | SKIPPED | SKIPPED | +---------------------+--------------------+------------------+-------------------+-------------------+----------------------+-------------------------+ | RHEL8 | PASS | PASS | SKIPPED | SKIPPED | SKIPPED | SKIPPED | +---------------------+--------------------+------------------+-------------------+-------------------+----------------------+-------------------------+ | Ubuntu 24.04 | PASS | PASS | PASS | SKIPPED | SKIPPED | SKIPPED | +---------------------+--------------------+------------------+-------------------+-------------------+----------------------+-------------------------+ | Ubuntu 22.04 | PASS | PASS | PASS | SKIPPED | SKIPPED | SKIPPED | +---------------------+--------------------+------------------+-------------------+-------------------+----------------------+-------------------------+ | Alpine | PASS | PASS | SKIPPED | SKIPPED | SKIPPED | SKIPPED | +---------------------+--------------------+------------------+-------------------+-------------------+----------------------+-------------------------+ | FreeBSD 13.4 | PASS | SKIPPED | SKIPPED | SKIPPED | SKIPPED | SKIPPED | +---------------------+--------------------+------------------+-------------------+-------------------+----------------------+-------------------------+ | FreeBSD 14.2 | PASS | SKIPPED | SKIPPED | SKIPPED | SKIPPED | SKIPPED | +---------------------+--------------------+------------------+-------------------+-------------------+----------------------+-------------------------+ | Windows Server 2022 | SKIPPED | SKIPPED | SKIPPED | PASS | PASS | PASS | +---------------------+--------------------+------------------+-------------------+-------------------+----------------------+-------------------------+ ==== 20 line log output for Ubuntu 20.04 (dpdk_compile_ovs): ==== --- Failed to get log output --- ==== End log output ==== CentOS Stream 9 Kernel: Depends on container host Compiler: gcc 11.5.0 20240719 (Red Hat 11.5.0-2) Debian 12 Kernel: Depends on container host Compiler: gcc (Debian 12.2.0-14) 12.2.0 Debian Bullseye Kernel: Depends on container host Compiler: gcc (Debian 10.2.1-6) 10.2.1 20210110 Fedora 40 Kernel: Depends on container host Compiler: gcc 14.2.1 20240912 (Red Hat 14.2.1-3) Fedora 40 (Clang) Kernel: Depends on container host Compiler: clang 18.1.8 (Fedora 18.1.8-1.fc40) Ubuntu 20.04 Kernel: Depends on container host Compiler: gcc (Ubuntu 9.4.0-1ubuntu1~20.04.2) 9.4.0 Fedora 41 Kernel: Depends on container host Compiler: gcc 14.2.1 20240912 (Red Hat 14.2.1-3) RHEL9 Kernel: Depends on container host Compiler: gcc 11.5.0 20240719 (Red Hat 11.5.0-2) Fedora 41 (Clang) Kernel: Depends on container host Compiler: clang 19.1.5 (Fedora 19.1.5-1.fc41) openSUSE Leap 15 Kernel: Depends on container host Compiler: gcc (SUSE Linux) 7.5.0 RHEL8 Kernel: Depends on container host Compiler: gcc 8.5.0 20210514 (Red Hat 8.5.0-22) Ubuntu 24.04 Kernel: Depends on container host Compiler: gcc (Ubuntu 13.3.0-6ubuntu2~24.04) 13.3.0 Ubuntu 22.04 Kernel: Depends on container host Compiler: gcc (Ubuntu 11.4.0-1ubuntu1~22.04) 11.4.0 Alpine Kernel: Depends on container host Compiler: gcc (Alpine 14.2.0) 14.2.0 FreeBSD 13.4 Kernel: 13.4-RELEASE-p1 Compiler: clang 18.1.6 FreeBSD 14.2 Kernel: 14.2-RELEASE Compiler: clang 18.1.6 Windows Server 2022 Kernel: 10.0.20348.2031 Compiler: clang 15.0.7, gcc 14.1.0 (MinGW), and MSVC VS 19.39.33521 To view detailed results, visit: https://lab.dpdk.org/results/dashboard/patchsets/32414/ UNH-IOL DPDK Community Lab To manage your email subscriptions, visit: https://lab.dpdk.org/results/dashboard/preferences/subscriptions/