From mboxrd@z Thu Jan 1 00:00:00 1970 Return-Path: Received: from mails.dpdk.org (mails.dpdk.org [217.70.189.124]) by inbox.dpdk.org (Postfix) with ESMTP id 73B144619C for ; Wed, 5 Feb 2025 14:21:14 +0100 (CET) Received: from mails.dpdk.org (localhost [127.0.0.1]) by mails.dpdk.org (Postfix) with ESMTP id 512C4402B3; Wed, 5 Feb 2025 14:21:14 +0100 (CET) Received: from mail-io1-f100.google.com (mail-io1-f100.google.com [209.85.166.100]) by mails.dpdk.org (Postfix) with ESMTP id D425F40270 for ; Wed, 5 Feb 2025 14:21:12 +0100 (CET) Received: by mail-io1-f100.google.com with SMTP id ca18e2360f4ac-844e39439abso176474839f.1 for ; Wed, 05 Feb 2025 05:21:12 -0800 (PST) DKIM-Signature: v=1; a=rsa-sha256; c=relaxed/relaxed; d=iol.unh.edu; s=unh-iol; t=1738761672; x=1739366472; darn=dpdk.org; h=references:in-reply-to:cc:to:from:subject:message-id:date:from:to :cc:subject:date:message-id:reply-to; bh=xwvJzddrqYfQ1G0LBZpMSrLCIIOudxWXX3X0kSwKP3A=; b=eGHqjD41i/2j2piCm2C1gEuDdv90ohLXySsEQYXAR76+loMa7hOjzhMU0BFyejpjAP jg/BCRNq08HC+CbUQLdYADvZBbM+FabBAufe43kKPdPQVQNWZQh87Y1Ftoggpm7bGuoW Y9iDeI6QjO6sMqYIQir93kZ1BgeCbSOUK2vco= X-Google-DKIM-Signature: v=1; a=rsa-sha256; c=relaxed/relaxed; d=1e100.net; s=20230601; t=1738761672; x=1739366472; h=references:in-reply-to:cc:to:from:subject:message-id:date :x-gm-message-state:from:to:cc:subject:date:message-id:reply-to; bh=xwvJzddrqYfQ1G0LBZpMSrLCIIOudxWXX3X0kSwKP3A=; b=GvDE5Z1sMfJ1MapKaSte8nL327Zyv9XVVP32teP80h/i06cCPINr12702ZT5Y7u7Eb HhXYR41dWlB7NNh0mJiKy+YZupcfzMEYqpDs3omVbTj7aHQMvcaMSaNVVi+VM1DziiMx IpuO0Dd1jHrjTL+p2Z9GwekniIc+ms2IWptHKx80Y496ZT/ZN9WCoLXTgEQxlfuG3yfp tTHRf8hzrRq4095vPg3T6YAapD6rjz8wXdippFUxhyIeqL7ssTz16eakCeEdaun9lLQb +OUuKfVAdesHz7Sy0Qn44u8/18T5BhYOgY1FeGVr82XtXdxuUIL655ZzmwsFSxwccBAv GNdg== X-Gm-Message-State: AOJu0Yy3qYfshdttXsw+hpbZxa7P+Fehd7iU9lyotIKJt981dQPCH3Ni 3Xda+jXtrtZBfwcsozn2D0tUmBZKskDHieZoT0JzCYDZdSFE93Arx4RyTtEv9CQ1IsboKrmWMbv pQEUmrQz7eiP5mUL3iE2zG+Q19clsC/Wh924O0yDK X-Gm-Gg: ASbGncv/rEtmORj3TrfJ+BvWIHpFxkxtVLICRg7YXZ3vLs5+TT+3ljh9XgdWZ1ZEPnh sjdcKg0KlZJlBJKOXvteXkXXZ9SFVdK0D+jCGHGBz+NKs+5XQfOL7kBLtmyNfhD+iYfe9s6Gw85 J7px6OvCDKTGynt1SaXq1uisP5a8LZMascxw+HitQz2V4jWfYlFKIBSWV9e4fX2LMo/u0RzzRy/ vRZx1IpdFgGLnl6RQYq5HTk348l5q/6IS2S2HLqPmshJJ6mcGm7c2QkzGgwC8VI1oUx7Vb+SAtg cspMIWi7dJ61mKVynQK/TGckYjhZ6g== X-Google-Smtp-Source: AGHT+IFM/HSwa55rtf1LVjboVOe/dAwf2qajMWEydsNQdTgbAb8lrdcEYZOb8AGn4FkqGDu+lK76/ZB9sVLg X-Received: by 2002:a05:6602:418d:b0:851:f0be:9637 with SMTP id ca18e2360f4ac-854ea35025amr303568039f.0.1738761672134; Wed, 05 Feb 2025 05:21:12 -0800 (PST) Received: from postal.iol.unh.edu (postal.iol.unh.edu. [132.177.123.84]) by smtp-relay.gmail.com with ESMTPS id 8926c6da1cb9f-4ec746bfcf8sm823022173.61.2025.02.05.05.21.12 (version=TLS1_2 cipher=ECDHE-ECDSA-AES128-GCM-SHA256 bits=128/128); Wed, 05 Feb 2025 05:21:12 -0800 (PST) X-Relaying-Domain: iol.unh.edu Date: Wed, 05 Feb 2025 05:21:12 -0800 (PST) Message-ID: <67a365c8.050a0220.b3ff6.8374SMTPIN_ADDED_MISSING@mx.google.com> Received: from [172.21.0.5] (unknown [172.18.0.240]) by postal.iol.unh.edu (Postfix) with ESMTP id BB6E06052471; Wed, 5 Feb 2025 08:21:11 -0500 (EST) Subject: |WARNING| pw150436-150437 [PATCH] [v2,2/2] app/test-pmd: use ptype A From: dpdklab@iol.unh.edu To: Test Report Cc: dpdk-test-reports@iol.unh.edu In-Reply-To: <20250124094333.11449-3-haijie1@huawei.com> References: <20250124094333.11449-3-haijie1@huawei.com> Content-Type: text/plain X-BeenThere: test-report@dpdk.org X-Mailman-Version: 2.1.29 Precedence: list List-Id: automatic DPDK test reports List-Unsubscribe: , List-Archive: List-Post: List-Help: List-Subscribe: , Errors-To: test-report-bounces@dpdk.org Test-Label: iol-compile-amd64-testing Test-Status: WARNING http://dpdk.org/patch/150437 _Testing issues_ Submitter: Jie Hai Date: Friday, January 24 2025 09:43:32 DPDK git baseline: Repo:dpdk Branch: master CommitID:c5b363510f8319b4c89f4ed45568864968fa156d 150436-150437 --> testing issues Upstream job id: Windows-Compile-DPDK-Native#26404 Test environment and result as below: +---------------------+--------------------+------------------+-------------------+-------------------+----------------------+-------------------------+ | Environment | dpdk_meson_compile | dpdk_compile_ovs | dpdk_compile_spdk | dpdk_msvc_compile | dpdk_mingw64_compile | dpdk_llvm_clang_compile | +=====================+====================+==================+===================+===================+======================+=========================+ | CentOS Stream 9 | PASS | PASS | PASS | SKIPPED | SKIPPED | SKIPPED | +---------------------+--------------------+------------------+-------------------+-------------------+----------------------+-------------------------+ | Debian Bullseye | PASS | PASS | PASS | SKIPPED | SKIPPED | SKIPPED | +---------------------+--------------------+------------------+-------------------+-------------------+----------------------+-------------------------+ | Debian 12 | PASS | PASS | PASS | SKIPPED | SKIPPED | SKIPPED | +---------------------+--------------------+------------------+-------------------+-------------------+----------------------+-------------------------+ | Fedora 40 (Clang) | PASS | PASS | PASS | SKIPPED | SKIPPED | SKIPPED | +---------------------+--------------------+------------------+-------------------+-------------------+----------------------+-------------------------+ | Fedora 40 | PASS | PASS | PASS | SKIPPED | SKIPPED | SKIPPED | +---------------------+--------------------+------------------+-------------------+-------------------+----------------------+-------------------------+ | Fedora 41 | PASS | PASS | PASS | SKIPPED | SKIPPED | SKIPPED | +---------------------+--------------------+------------------+-------------------+-------------------+----------------------+-------------------------+ | openSUSE Leap 15 | PASS | SKIPPED | SKIPPED | SKIPPED | SKIPPED | SKIPPED | +---------------------+--------------------+------------------+-------------------+-------------------+----------------------+-------------------------+ | RHEL8 | PASS | PASS | SKIPPED | SKIPPED | SKIPPED | SKIPPED | +---------------------+--------------------+------------------+-------------------+-------------------+----------------------+-------------------------+ | RHEL9 | PASS | PASS | SKIPPED | SKIPPED | SKIPPED | SKIPPED | +---------------------+--------------------+------------------+-------------------+-------------------+----------------------+-------------------------+ | Ubuntu 20.04 | PASS | WARN | SKIPPED | SKIPPED | SKIPPED | SKIPPED | +---------------------+--------------------+------------------+-------------------+-------------------+----------------------+-------------------------+ | Ubuntu 22.04 | PASS | PASS | PASS | SKIPPED | SKIPPED | SKIPPED | +---------------------+--------------------+------------------+-------------------+-------------------+----------------------+-------------------------+ | Ubuntu 24.04 | PASS | PASS | PASS | SKIPPED | SKIPPED | SKIPPED | +---------------------+--------------------+------------------+-------------------+-------------------+----------------------+-------------------------+ | Alpine | PASS | PASS | SKIPPED | SKIPPED | SKIPPED | SKIPPED | +---------------------+--------------------+------------------+-------------------+-------------------+----------------------+-------------------------+ | FreeBSD 14.2 | PASS | SKIPPED | SKIPPED | SKIPPED | SKIPPED | SKIPPED | +---------------------+--------------------+------------------+-------------------+-------------------+----------------------+-------------------------+ | FreeBSD 13.4 | PASS | SKIPPED | SKIPPED | SKIPPED | SKIPPED | SKIPPED | +---------------------+--------------------+------------------+-------------------+-------------------+----------------------+-------------------------+ | Fedora 41 (Clang) | PASS | PASS | PASS | SKIPPED | SKIPPED | SKIPPED | +---------------------+--------------------+------------------+-------------------+-------------------+----------------------+-------------------------+ | Windows Server 2022 | SKIPPED | SKIPPED | SKIPPED | PASS | PASS | PASS | +---------------------+--------------------+------------------+-------------------+-------------------+----------------------+-------------------------+ ==== 20 line log output for Ubuntu 20.04 (dpdk_compile_ovs): ==== --- Failed to get log output --- ==== End log output ==== CentOS Stream 9 Kernel: Depends on container host Compiler: gcc 11.5.0 20240719 (Red Hat 11.5.0-2) Debian Bullseye Kernel: Depends on container host Compiler: gcc (Debian 10.2.1-6) 10.2.1 20210110 Debian 12 Kernel: Depends on container host Compiler: gcc (Debian 12.2.0-14) 12.2.0 Fedora 40 (Clang) Kernel: Depends on container host Compiler: clang 18.1.8 (Fedora 18.1.8-1.fc40) Fedora 40 Kernel: Depends on container host Compiler: gcc 14.2.1 20240912 (Red Hat 14.2.1-3) Fedora 41 Kernel: Depends on container host Compiler: gcc 14.2.1 20240912 (Red Hat 14.2.1-3) openSUSE Leap 15 Kernel: Depends on container host Compiler: gcc (SUSE Linux) 7.5.0 RHEL8 Kernel: Depends on container host Compiler: gcc 8.5.0 20210514 (Red Hat 8.5.0-22) RHEL9 Kernel: Depends on container host Compiler: gcc 11.5.0 20240719 (Red Hat 11.5.0-2) Ubuntu 20.04 Kernel: Depends on container host Compiler: gcc (Ubuntu 9.4.0-1ubuntu1~20.04.2) 9.4.0 Ubuntu 22.04 Kernel: Depends on container host Compiler: gcc (Ubuntu 11.4.0-1ubuntu1~22.04) 11.4.0 Ubuntu 24.04 Kernel: Depends on container host Compiler: gcc (Ubuntu 13.3.0-6ubuntu2~24.04) 13.3.0 Alpine Kernel: Depends on container host Compiler: gcc (Alpine 14.2.0) 14.2.0 FreeBSD 14.2 Kernel: 14.2-RELEASE Compiler: clang 18.1.6 FreeBSD 13.4 Kernel: 13.4-RELEASE-p1 Compiler: clang 18.1.6 Fedora 41 (Clang) Kernel: Depends on container host Compiler: clang 19.1.5 (Fedora 19.1.5-1.fc41) Windows Server 2022 Kernel: 10.0.20348.2031 Compiler: clang 15.0.7, gcc 14.1.0 (MinGW), and MSVC VS 19.39.33521 To view detailed results, visit: https://lab.dpdk.org/results/dashboard/patchsets/32408/ UNH-IOL DPDK Community Lab To manage your email subscriptions, visit: https://lab.dpdk.org/results/dashboard/preferences/subscriptions/