From mboxrd@z Thu Jan 1 00:00:00 1970 Return-Path: Received: from mails.dpdk.org (mails.dpdk.org [217.70.189.124]) by inbox.dpdk.org (Postfix) with ESMTP id F11054619C for ; Wed, 5 Feb 2025 14:26:37 +0100 (CET) Received: from mails.dpdk.org (localhost [127.0.0.1]) by mails.dpdk.org (Postfix) with ESMTP id E89CF402B3; Wed, 5 Feb 2025 14:26:37 +0100 (CET) Received: from mail-vk1-f225.google.com (mail-vk1-f225.google.com [209.85.221.225]) by mails.dpdk.org (Postfix) with ESMTP id 16CC640270 for ; Wed, 5 Feb 2025 14:26:36 +0100 (CET) Received: by mail-vk1-f225.google.com with SMTP id 71dfb90a1353d-518a861612eso460143e0c.1 for ; Wed, 05 Feb 2025 05:26:36 -0800 (PST) DKIM-Signature: v=1; a=rsa-sha256; c=relaxed/relaxed; d=iol.unh.edu; s=unh-iol; t=1738761995; x=1739366795; darn=dpdk.org; h=cc:to:from:subject:message-id:date:from:to:cc:subject:date :message-id:reply-to; bh=+qUc1o2dM86likhoGiqHz3M9bz00N+wPRPZIj4rasCs=; b=OL2gLJGCaEdmH1xfMZLeVS1QFnHMo0shabJg2B0sOEkBqz7Uic50j7OT7ZU0eVF0DZ WSzVVLw2XFXsnp5mRWKV2jevq+lMaINhvIBIimKHQ1U+sdn266dotyVzvnhs5Kos7y2C IokBE6XQdJ9he3olv9En3dfyeEDkHF/oJTd6w= X-Google-DKIM-Signature: v=1; a=rsa-sha256; c=relaxed/relaxed; d=1e100.net; s=20230601; t=1738761995; x=1739366795; h=cc:to:from:subject:message-id:date:x-gm-message-state:from:to:cc :subject:date:message-id:reply-to; bh=+qUc1o2dM86likhoGiqHz3M9bz00N+wPRPZIj4rasCs=; b=B/Ks5fsmH+4nUpyj1S/k1kmVvvemZOm5iXCtn+v01X3Vk9YyeE3ZctWeleLX7/xNwv s28XhzwEzwIEk+GTo8XVTfPlvW94FXGeDvU9LFULOXnd3x0bg0Ijtm4iAGo3fJtECcy1 JXxFssWeDq9hLWHz25rvXrynygaUveTFXEPpMTlgR5RSUx6zEhn3Si3UtsU6a6iucg86 qgPyu6kgQ8DU+/X+O3S0Z6LQL2NNyeYxnF4sf/FtN7ZDWlub5YAxAz/LKxl51SVqHjw1 IuroWT8sxf3qklhjxz2wjkrHFzeLvQE2pmKvMaYcNDAJMuoHfpefht+Ps0RSsW1+YjLY Yfiw== X-Gm-Message-State: AOJu0Yw1Er4FTBCFMQ0GN+6vbtiJf9PBH26wLKyWdoGGdwcjadXbm0gU aE4xQaXhMRDIa0LItV6iDm/TTlWJ40Q5NnRiIZm5P7Wq5/USIomKo6+Df73gO4Mac+c89hV1kp6 dO6VmlXnzw4hmhCFEm2VAA0bb9Ef6w78eKH6KhCw0rO8WBlaz X-Gm-Gg: ASbGncvEur1BUXHkasUy57BDh+xjK2v5xa4hbNHbwwWZ2utJnMZQUBHAIvhhLD6PUhn PS2zCOv+F9jd3RZpve1nv7KQZFxxI9msoofCIPX8R6A61TOg9wmnLU4QQkg+SgMvGOTKXze88+U m1yxx/bf2/f9lxI7881LChvv0MeYw777mZH7NHMBKezXO9WHm4pKCXdx6yOzzwKQpnYLhDVWeuU mzrJ8rpZUQGlmCcp5xErkOcQFPXFGtw3Qj06vEY5z5JfsSFs2KhX6C08Oy9JEzwASuhwcQsP6ND zociqJ4MvoZ7iUC7tE8ru70yICQ0O5yQT6uoozZyng== X-Google-Smtp-Source: AGHT+IGIOHPDUBBl8HwB8PDr2xsICG8Wqp5/oWMI5PD6UQAjwAgs/u0+TqsOyB4HqeF7zVSn+0gmpzE3HO9z X-Received: by 2002:a05:6122:1c87:b0:50d:39aa:7881 with SMTP id 71dfb90a1353d-51f0c5c89e5mr1758087e0c.0.1738761995421; Wed, 05 Feb 2025 05:26:35 -0800 (PST) Received: from postal.iol.unh.edu (postal.iol.unh.edu. [2606:4100:3880:1234::84]) by smtp-relay.gmail.com with ESMTPS id 71dfb90a1353d-51eb1db76b2sm555406e0c.8.2025.02.05.05.26.35 (version=TLS1_2 cipher=ECDHE-ECDSA-AES128-GCM-SHA256 bits=128/128); Wed, 05 Feb 2025 05:26:35 -0800 (PST) X-Relaying-Domain: iol.unh.edu Date: Wed, 05 Feb 2025 05:26:35 -0800 (PST) Message-ID: <67a3670b.050a0220.29fe90.98d4SMTPIN_ADDED_MISSING@mx.google.com> Received: from [172.21.0.5] (unknown [172.18.0.240]) by postal.iol.unh.edu (Postfix) with ESMTP id BFA0E6052471; Wed, 5 Feb 2025 08:26:34 -0500 (EST) Subject: |SUCCESS| [GIT MASTER] c66daa12e76d7b4912cfb7109a761856a7a873ab From: dpdklab@iol.unh.edu To: Test Report Cc: dpdk-test-reports@iol.unh.edu, Xueming Li , Christian Ehrhardt , Kevin Traynor , Luca Boccassi Content-Type: text/plain X-BeenThere: test-report@dpdk.org X-Mailman-Version: 2.1.29 Precedence: list List-Id: automatic DPDK test reports List-Unsubscribe: , List-Archive: List-Post: List-Help: List-Subscribe: , Errors-To: test-report-bounces@dpdk.org _Testing PASS_ Branch: tags/v23.11 c66daa12e76d7b4912cfb7109a761856a7a873ab --> testing pass Upstream job id: ACVP-FIPS-testing#8787 Test environment and result as below: +--------------------+----------------------+----------------------+ | Environment | compressdev_zlib_pmd | dpdk_fips_validation | +====================+======================+======================+ | Ubuntu 22.04 (ARM) | PASS | SKIPPED | +--------------------+----------------------+----------------------+ | Ubuntu 22.04 | PASS | SKIPPED | +--------------------+----------------------+----------------------+ | Ubuntu 20.04 | SKIPPED | PASS | +--------------------+----------------------+----------------------+ Ubuntu 22.04 (ARM) Kernel: 5.15.0-97-generic Compiler: gcc gcc (Ubuntu 11.4.0-1ubuntu1~22.04) 11.4.0 Ubuntu 22.04 Kernel: 5.15.0-100-generic Compiler: gcc gcc (Ubuntu 11.4.0-1ubuntu1~22.04) 11.4.0 Ubuntu 20.04 Kernel: Depends on container host Compiler: gcc (Ubuntu 9.4.0-1ubuntu1~20.04.2) 9.4.0 To view detailed results, visit: https://lab.dpdk.org/results/dashboard/tarballs/32447/ UNH-IOL DPDK Community Lab To manage your email subscriptions, visit: https://lab.dpdk.org/results/dashboard/preferences/subscriptions/