From mboxrd@z Thu Jan 1 00:00:00 1970 Return-Path: Received: from mails.dpdk.org (mails.dpdk.org [217.70.189.124]) by inbox.dpdk.org (Postfix) with ESMTP id 0EC7D4619C for ; Wed, 5 Feb 2025 14:26:38 +0100 (CET) Received: from mails.dpdk.org (localhost [127.0.0.1]) by mails.dpdk.org (Postfix) with ESMTP id 0384D402E1; Wed, 5 Feb 2025 14:26:38 +0100 (CET) Received: from mail-yw1-f226.google.com (mail-yw1-f226.google.com [209.85.128.226]) by mails.dpdk.org (Postfix) with ESMTP id A7CEA40270 for ; Wed, 5 Feb 2025 14:26:36 +0100 (CET) Received: by mail-yw1-f226.google.com with SMTP id 00721157ae682-6f74b78df93so50575707b3.0 for ; Wed, 05 Feb 2025 05:26:36 -0800 (PST) DKIM-Signature: v=1; a=rsa-sha256; c=relaxed/relaxed; d=iol.unh.edu; s=unh-iol; t=1738761996; x=1739366796; darn=dpdk.org; h=references:in-reply-to:cc:to:from:subject:message-id:date:from:to :cc:subject:date:message-id:reply-to; bh=Dc9HfkUiwdoN/rRVn0tBV3gGVULBW3yAhaWzk+ck+Gw=; b=bV1cWUDsFlV4gYAC40c1k3PBcKOFn9qE6V7PLFdMUXeVUCyo7MDa5PYgQbePcc89KD n5y8dY0hGR8worCU9UiUiuK5fBdyEZHPFp4Mxuu0tEB181Vm+5JUAz24EmseRF2IFzwd NO91W6nA78vpQdrcS9ztvFSNrc+/CCOcXILtM= X-Google-DKIM-Signature: v=1; a=rsa-sha256; c=relaxed/relaxed; d=1e100.net; s=20230601; t=1738761996; x=1739366796; h=references:in-reply-to:cc:to:from:subject:message-id:date :x-gm-message-state:from:to:cc:subject:date:message-id:reply-to; bh=Dc9HfkUiwdoN/rRVn0tBV3gGVULBW3yAhaWzk+ck+Gw=; b=OFILbPhjV3oeFWsNXDUPuOYsd1RxDukYas3URFtYb87SjEKBcq/voW1bwNoMZVieda B/q0YwjaH92HMb0Nlwpwpep6grg5en9yODSxpbypgNKlR5iqjdgxtvw2n6etO2ZNoW5M owkhQkq3CEFXi/96JbkhHDrMNY0pE7p6AJ84ShkYG2vpfMAj5kYNM4t97nqDxx7kDp6f is+AgdPOCjykBhKtCkFpsIFiBueuT/nxpLc/9uoF7dXBaeauRG+SwCJ4P6WbwgPUCLL1 Svr7+7/Mg/nB3VzWOvO4JJ5x4aoLY5WxcL5WmPTcXvqgLGhfHxEUE41i8cNw2+/WQ/7r yDug== X-Gm-Message-State: AOJu0Yzc8yn2IAxpw66RSNb+Ul/Gh4CWoWQI1vyeq1ZkiScZKlvvL52G D7EEcEohtddPbRj/H3+gqaurZEo5sqk7TBo9aHlYhwykSOCT4LvIjp1d9/uYGMK0DUlnyvm0eDO oU0bKLmxhdp6usOwEAAuGw5hLXvezqBIdoSd3ZbtFPYLfHNROXue5yugp X-Gm-Gg: ASbGnctEjb0Kraq124q6hqb0sMIVfpbIeNnNxE76WeQC6Fhf+Ab6V24aZCGur8yMTxa 0nqb7zcsPL3s2R1sULXJuv2ZM60BpDJyokjitLQssHcbfnJ3JGiZXq4p153cubFAX/DVihEYZoj xYXcrssIEBcyMhjP1GziArbHmidtwX2GlYk8hPEnUdnJu6l3I9wx0c5AUVkmLIau831VUPBIxoR DvmivjJPHGlIcDMHZ/+1qmV+4AoCsf7OYBMgTmlGquWkjLGkp30z9QYkoWSIdf+XIBKMwzhOeGj XqKqCP+C4CpfNoTjdDHedKzCHIjxjGlqaW4+ceKcbw== X-Google-Smtp-Source: AGHT+IF9dgoxIbIAzSXL24aHmOOI3yI7xxgTllnexoQiTQ1yUpM3PMqA34i/rTHcuZHH2z5xQDmiZS5Xbf9o X-Received: by 2002:a05:690c:c93:b0:6f9:4212:bea2 with SMTP id 00721157ae682-6f989ed9f3cmr24926587b3.15.1738761995939; Wed, 05 Feb 2025 05:26:35 -0800 (PST) Received: from postal.iol.unh.edu (postal.iol.unh.edu. [2606:4100:3880:1234::84]) by smtp-relay.gmail.com with ESMTPS id 00721157ae682-6f8c460be78sm6899587b3.13.2025.02.05.05.26.35 (version=TLS1_2 cipher=ECDHE-ECDSA-AES128-GCM-SHA256 bits=128/128); Wed, 05 Feb 2025 05:26:35 -0800 (PST) X-Relaying-Domain: iol.unh.edu Date: Wed, 05 Feb 2025 05:26:35 -0800 (PST) Message-ID: <67a3670b.050a0220.a25c4.0234SMTPIN_ADDED_MISSING@mx.google.com> Received: from [172.17.0.4] (unknown [172.18.0.217]) by postal.iol.unh.edu (Postfix) with ESMTP id A25546052471; Wed, 5 Feb 2025 08:26:35 -0500 (EST) Subject: |WARNING| pw150440 [PATCH] mbuf: add packet offload Rx flag for keep From: dpdklab@iol.unh.edu To: Test Report Cc: dpdk-test-reports@iol.unh.edu In-Reply-To: <20250124095957.3496874-1-huangdengdui@huawei.com> References: <20250124095957.3496874-1-huangdengdui@huawei.com> Content-Type: text/plain X-BeenThere: test-report@dpdk.org X-Mailman-Version: 2.1.29 Precedence: list List-Id: automatic DPDK test reports List-Unsubscribe: , List-Archive: List-Post: List-Help: List-Subscribe: , Errors-To: test-report-bounces@dpdk.org Test-Label: iol-compile-amd64-testing Test-Status: WARNING http://dpdk.org/patch/150440 _Testing issues_ Submitter: Dengdui Huang Date: Friday, January 24 2025 09:59:57 DPDK git baseline: Repo:dpdk Branch: master CommitID:5b856206c74bbcf19e12cafa15382a7e15b0a1b5 150440 --> testing issues Upstream job id: Windows-Compile-DPDK-Native#26405 Test environment and result as below: +---------------------+--------------------+------------------+-------------------+-------------------+----------------------+-------------------------+ | Environment | dpdk_meson_compile | dpdk_compile_ovs | dpdk_compile_spdk | dpdk_msvc_compile | dpdk_mingw64_compile | dpdk_llvm_clang_compile | +=====================+====================+==================+===================+===================+======================+=========================+ | CentOS Stream 9 | PASS | PASS | PASS | SKIPPED | SKIPPED | SKIPPED | +---------------------+--------------------+------------------+-------------------+-------------------+----------------------+-------------------------+ | Debian Bullseye | PASS | PASS | PASS | SKIPPED | SKIPPED | SKIPPED | +---------------------+--------------------+------------------+-------------------+-------------------+----------------------+-------------------------+ | Debian 12 | PASS | PASS | PASS | SKIPPED | SKIPPED | SKIPPED | +---------------------+--------------------+------------------+-------------------+-------------------+----------------------+-------------------------+ | Fedora 40 (Clang) | PASS | PASS | PASS | SKIPPED | SKIPPED | SKIPPED | +---------------------+--------------------+------------------+-------------------+-------------------+----------------------+-------------------------+ | Fedora 41 (Clang) | PASS | PASS | PASS | SKIPPED | SKIPPED | SKIPPED | +---------------------+--------------------+------------------+-------------------+-------------------+----------------------+-------------------------+ | Fedora 40 | PASS | PASS | PASS | SKIPPED | SKIPPED | SKIPPED | +---------------------+--------------------+------------------+-------------------+-------------------+----------------------+-------------------------+ | Fedora 41 | PASS | PASS | PASS | SKIPPED | SKIPPED | SKIPPED | +---------------------+--------------------+------------------+-------------------+-------------------+----------------------+-------------------------+ | openSUSE Leap 15 | PASS | SKIPPED | SKIPPED | SKIPPED | SKIPPED | SKIPPED | +---------------------+--------------------+------------------+-------------------+-------------------+----------------------+-------------------------+ | RHEL8 | PASS | PASS | SKIPPED | SKIPPED | SKIPPED | SKIPPED | +---------------------+--------------------+------------------+-------------------+-------------------+----------------------+-------------------------+ | Ubuntu 20.04 | PASS | WARN | SKIPPED | SKIPPED | SKIPPED | SKIPPED | +---------------------+--------------------+------------------+-------------------+-------------------+----------------------+-------------------------+ | Ubuntu 22.04 | PASS | PASS | PASS | SKIPPED | SKIPPED | SKIPPED | +---------------------+--------------------+------------------+-------------------+-------------------+----------------------+-------------------------+ | Ubuntu 24.04 | PASS | PASS | PASS | SKIPPED | SKIPPED | SKIPPED | +---------------------+--------------------+------------------+-------------------+-------------------+----------------------+-------------------------+ | Alpine | PASS | PASS | SKIPPED | SKIPPED | SKIPPED | SKIPPED | +---------------------+--------------------+------------------+-------------------+-------------------+----------------------+-------------------------+ | FreeBSD 13.4 | PASS | SKIPPED | SKIPPED | SKIPPED | SKIPPED | SKIPPED | +---------------------+--------------------+------------------+-------------------+-------------------+----------------------+-------------------------+ | RHEL9 | PASS | PASS | SKIPPED | SKIPPED | SKIPPED | SKIPPED | +---------------------+--------------------+------------------+-------------------+-------------------+----------------------+-------------------------+ | FreeBSD 14.2 | PASS | SKIPPED | SKIPPED | SKIPPED | SKIPPED | SKIPPED | +---------------------+--------------------+------------------+-------------------+-------------------+----------------------+-------------------------+ | Windows Server 2022 | SKIPPED | SKIPPED | SKIPPED | PASS | PASS | PASS | +---------------------+--------------------+------------------+-------------------+-------------------+----------------------+-------------------------+ ==== 20 line log output for Ubuntu 20.04 (dpdk_compile_ovs): ==== --- Failed to get log output --- ==== End log output ==== CentOS Stream 9 Kernel: Depends on container host Compiler: gcc 11.5.0 20240719 (Red Hat 11.5.0-2) Debian Bullseye Kernel: Depends on container host Compiler: gcc (Debian 10.2.1-6) 10.2.1 20210110 Debian 12 Kernel: Depends on container host Compiler: gcc (Debian 12.2.0-14) 12.2.0 Fedora 40 (Clang) Kernel: Depends on container host Compiler: clang 18.1.8 (Fedora 18.1.8-1.fc40) Fedora 41 (Clang) Kernel: Depends on container host Compiler: clang 19.1.5 (Fedora 19.1.5-1.fc41) Fedora 40 Kernel: Depends on container host Compiler: gcc 14.2.1 20240912 (Red Hat 14.2.1-3) Fedora 41 Kernel: Depends on container host Compiler: gcc 14.2.1 20240912 (Red Hat 14.2.1-3) openSUSE Leap 15 Kernel: Depends on container host Compiler: gcc (SUSE Linux) 7.5.0 RHEL8 Kernel: Depends on container host Compiler: gcc 8.5.0 20210514 (Red Hat 8.5.0-22) Ubuntu 20.04 Kernel: Depends on container host Compiler: gcc (Ubuntu 9.4.0-1ubuntu1~20.04.2) 9.4.0 Ubuntu 22.04 Kernel: Depends on container host Compiler: gcc (Ubuntu 11.4.0-1ubuntu1~22.04) 11.4.0 Ubuntu 24.04 Kernel: Depends on container host Compiler: gcc (Ubuntu 13.3.0-6ubuntu2~24.04) 13.3.0 Alpine Kernel: Depends on container host Compiler: gcc (Alpine 14.2.0) 14.2.0 FreeBSD 13.4 Kernel: 13.4-RELEASE-p1 Compiler: clang 18.1.6 RHEL9 Kernel: Depends on container host Compiler: gcc 11.5.0 20240719 (Red Hat 11.5.0-2) FreeBSD 14.2 Kernel: 14.2-RELEASE Compiler: clang 18.1.6 Windows Server 2022 Kernel: 10.0.20348.2031 Compiler: clang 15.0.7, gcc 14.1.0 (MinGW), and MSVC VS 19.39.33521 To view detailed results, visit: https://lab.dpdk.org/results/dashboard/patchsets/32410/ UNH-IOL DPDK Community Lab To manage your email subscriptions, visit: https://lab.dpdk.org/results/dashboard/preferences/subscriptions/