automatic DPDK test reports
 help / color / mirror / Atom feed
From: dpdklab@iol.unh.edu
To: Test Report <test-report@dpdk.org>
Cc: dpdk-test-reports@iol.unh.edu
Subject: |SUCCESS| pw150966-150969 [PATCH] [v4,4/4] net/intel: allow building
Date: Wed, 05 Feb 2025 05:31:20 -0800 (PST)	[thread overview]
Message-ID: <67a36828.050a0220.11d0ae.13f2SMTPIN_ADDED_MISSING@mx.google.com> (raw)
In-Reply-To: <20250205115533.2746196-5-bruce.richardson@intel.com>

Test-Label: iol-sample-apps-testing
Test-Status: SUCCESS
http://dpdk.org/patch/150969

_Testing PASS_

Submitter: Bruce Richardson <bruce.richardson@intel.com>
Date: Wednesday, February 05 2025 11:55:31 
DPDK git baseline: Repo:dpdk
  Branch: master
  CommitID:595535be66b103f7ce3ba61939b8013032987404

150966-150969 --> testing pass

Upstream job id: Template-DTS-Pipeline#210853

Test environment and result as below:

+--------------------+----------------------+
|    Environment     | compressdev_zlib_pmd |
+====================+======================+
| Ubuntu 22.04 (ARM) | PASS                 |
+--------------------+----------------------+
| Ubuntu 22.04       | PASS                 |
+--------------------+----------------------+


Ubuntu 22.04 (ARM)
	Kernel: 5.15.0-97-generic
	Compiler: gcc gcc (Ubuntu 11.4.0-1ubuntu1~22.04) 11.4.0

Ubuntu 22.04
	Kernel: 5.15.0-100-generic
	Compiler: gcc gcc (Ubuntu 11.4.0-1ubuntu1~22.04) 11.4.0

To view detailed results, visit:
https://lab.dpdk.org/results/dashboard/patchsets/32497/

UNH-IOL DPDK Community Lab

To manage your email subscriptions, visit: 
https://lab.dpdk.org/results/dashboard/preferences/subscriptions/

  parent reply	other threads:[~2025-02-05 13:31 UTC|newest]

Thread overview: 17+ messages / expand[flat|nested]  mbox.gz  Atom feed  top
     [not found] <20250205115533.2746196-5-bruce.richardson@intel.com>
2025-02-05 11:21 ` |SUCCESS| pw150966-150969 [PATCH v4 4/4] net/intel: allow building ice driver without iavf qemudev
2025-02-05 11:26 ` qemudev
2025-02-05 11:55 ` |WARNING| pw150969 " checkpatch
2025-02-05 12:45 ` |SUCCESS| " 0-day Robot
2025-02-05 12:53 ` |PENDING| pw150966-150969 [PATCH] [v4,4/4] net/intel: allow building dpdklab
2025-02-05 12:59 ` |SUCCESS| " dpdklab
2025-02-05 13:01 ` dpdklab
2025-02-05 13:06 ` |PENDING| " dpdklab
2025-02-05 13:11 ` |SUCCESS| " dpdklab
2025-02-05 13:12 ` |PENDING| " dpdklab
2025-02-05 13:16 ` |SUCCESS| " dpdklab
2025-02-05 13:31 ` dpdklab [this message]
2025-02-05 13:52 ` dpdklab
2025-02-05 13:54 ` dpdklab
2025-02-05 15:21 ` dpdklab
2025-02-05 16:01 ` dpdklab
2025-02-05 16:06 ` dpdklab

Reply instructions:

You may reply publicly to this message via plain-text email
using any one of the following methods:

* Save the following mbox file, import it into your mail client,
  and reply-to-all from there: mbox

  Avoid top-posting and favor interleaved quoting:
  https://en.wikipedia.org/wiki/Posting_style#Interleaved_style

* Reply using the --to, --cc, and --in-reply-to
  switches of git-send-email(1):

  git send-email \
    --in-reply-to=67a36828.050a0220.11d0ae.13f2SMTPIN_ADDED_MISSING@mx.google.com \
    --to=dpdklab@iol.unh.edu \
    --cc=dpdk-test-reports@iol.unh.edu \
    --cc=test-report@dpdk.org \
    /path/to/YOUR_REPLY

  https://kernel.org/pub/software/scm/git/docs/git-send-email.html

* If your mail client supports setting the In-Reply-To header
  via mailto: links, try the mailto: link
Be sure your reply has a Subject: header at the top and a blank line before the message body.
This is a public inbox, see mirroring instructions
for how to clone and mirror all data and code used for this inbox;
as well as URLs for NNTP newsgroup(s).