From mboxrd@z Thu Jan 1 00:00:00 1970 Return-Path: Received: from mails.dpdk.org (mails.dpdk.org [217.70.189.124]) by inbox.dpdk.org (Postfix) with ESMTP id 5B7964619C for ; Wed, 5 Feb 2025 14:52:24 +0100 (CET) Received: from mails.dpdk.org (localhost [127.0.0.1]) by mails.dpdk.org (Postfix) with ESMTP id 556EA4029A; Wed, 5 Feb 2025 14:52:24 +0100 (CET) Received: from mail-pl1-f225.google.com (mail-pl1-f225.google.com [209.85.214.225]) by mails.dpdk.org (Postfix) with ESMTP id 7841940270 for ; Wed, 5 Feb 2025 14:52:23 +0100 (CET) Received: by mail-pl1-f225.google.com with SMTP id d9443c01a7336-21f1d4111d4so6809305ad.0 for ; Wed, 05 Feb 2025 05:52:23 -0800 (PST) DKIM-Signature: v=1; a=rsa-sha256; c=relaxed/relaxed; d=iol.unh.edu; s=unh-iol; t=1738763542; x=1739368342; darn=dpdk.org; h=references:in-reply-to:cc:to:from:subject:message-id:date:from:to :cc:subject:date:message-id:reply-to; bh=2lTxRdne+EXwpIkE57J3JM7RpByEpbqQolm61GHsIYI=; b=BYMYrN+vm3Y26VG6xsHn+8+mLBcHXt1JxX791HjtisXzCEm6qyAjtNszTsUVJxuQGz ntcbn6pzG2KvIW6QJZVo+FhpvB6M0a2CeN7WEK/eD3IvdSx569TfT48K76g3nBg7sepU HcYDls2bu4Euyg0QOnNaiW0CBWuzn0IWhILx0= X-Google-DKIM-Signature: v=1; a=rsa-sha256; c=relaxed/relaxed; d=1e100.net; s=20230601; t=1738763542; x=1739368342; h=references:in-reply-to:cc:to:from:subject:message-id:date :x-gm-message-state:from:to:cc:subject:date:message-id:reply-to; bh=2lTxRdne+EXwpIkE57J3JM7RpByEpbqQolm61GHsIYI=; b=laGo0fH+GpI3vvnVFohW2l0dgWA880IgVtC2zxl2jal/waQvjWseK0wPnsDmtoJ4OI TD4HREzWjgZuB1h6Z6zjXY6vi1+IO+SHtnUxj7H5uIOFeDMJ4AnW6eW2ygmpLoFqMq+W nncNgChyE7Oo8xv+gwHWj3GDJxYTtN7+PXX5kBUc+GNilcISigUYKHtorB9qOaSJpMkJ 3fm90OHrhYvtoGY3H5Tu3KF0W1p6oVl4Vyn0b9Bk6EiVZYoNYg/IYOksW66cV6OlY/L0 pE0HIja0FII++1SGo6qlT8SC+2bbVeXXM2so2tbQ6yDNvDHy1Go3CUJfHuo6Bg6gWL+0 D0mQ== X-Gm-Message-State: AOJu0YyUML4mnWlJvyOzsPOayPNJHlDDU71wNVKq8Gk4aP6LnqhxApzT xR7VBvNUdWLsIxqw/kqJvafV56lvyzWmyTaoeHvqlBZkOZ4m1g8wRTaLUUBA3TGnRfulI9H9Mqs TdcyiImsBblX3qlhJ/mSWmfEgl0vPSF7dqRcH/hFlU+ojv+xHbfxquTiT X-Gm-Gg: ASbGncuG1qPkdeIqvWoSqVpua6Mfiv8wIKMo2qzUPfuVLih5bc8oe62bAZH5vqp1/PP vVSaA8IWjsHlgbGdEeCoCP78r6o0DOish3unv7Ouw/vCdPqbSTbqfBd1hWI3tZmFlI2MEINP2u6 5S59zWLFIiUPBAGl93aocLlo/3CFZjOd8zwzT3Ehjhl/I+C2kkLRIVdrI4hukv2DPQ1fET5WtEB tdlMeKmpNBjYDlOM50wERyCq4Pe24X1+Ixnv9bcKGleI5JRUg/VGNZUAGuGR3bmBTKDE1ZPnFz7 +VY2RPzn7pLJSzxZhSxgqoVoQNK/03PA3RIuMeC6Rg== X-Google-Smtp-Source: AGHT+IEX49FmjvNbh0GoHw6U5jauJddo9eJzq0M5AJy4aUoKED3x6Jn7sR9A6hwFm8R7XcZ7Clk8g8gCaXJP X-Received: by 2002:a17:902:ecc8:b0:216:7ee9:2235 with SMTP id d9443c01a7336-21f17ed018fmr54225975ad.43.1738763541060; Wed, 05 Feb 2025 05:52:21 -0800 (PST) Received: from postal.iol.unh.edu (postal.iol.unh.edu. [2606:4100:3880:1234::84]) by smtp-relay.gmail.com with ESMTPS id d9443c01a7336-21de326bf82sm7085295ad.56.2025.02.05.05.52.20 (version=TLS1_2 cipher=ECDHE-ECDSA-AES128-GCM-SHA256 bits=128/128); Wed, 05 Feb 2025 05:52:21 -0800 (PST) X-Relaying-Domain: iol.unh.edu Date: Wed, 05 Feb 2025 05:52:21 -0800 (PST) Message-ID: <67a36d15.170a0220.2036cd.0e31SMTPIN_ADDED_MISSING@mx.google.com> Received: from [172.17.0.6] (unknown [172.18.0.217]) by postal.iol.unh.edu (Postfix) with ESMTP id 7BAC56052471; Wed, 5 Feb 2025 08:52:20 -0500 (EST) Subject: |SUCCESS| pw150966-150969 [PATCH] [v4,4/4] net/intel: allow building From: dpdklab@iol.unh.edu To: Test Report Cc: dpdk-test-reports@iol.unh.edu In-Reply-To: <20250205115533.2746196-5-bruce.richardson@intel.com> References: <20250205115533.2746196-5-bruce.richardson@intel.com> Content-Type: text/plain X-BeenThere: test-report@dpdk.org X-Mailman-Version: 2.1.29 Precedence: list List-Id: automatic DPDK test reports List-Unsubscribe: , List-Archive: List-Post: List-Help: List-Subscribe: , Errors-To: test-report-bounces@dpdk.org Test-Label: iol-unit-amd64-testing Test-Status: SUCCESS http://dpdk.org/patch/150969 _Testing PASS_ Submitter: Bruce Richardson Date: Wednesday, February 05 2025 11:55:31 DPDK git baseline: Repo:dpdk Branch: master CommitID:595535be66b103f7ce3ba61939b8013032987404 150966-150969 --> testing pass Upstream job id: Generic-Unit-Test-DPDK#311832 Test environment and result as below: +---------------------+----------------+ | Environment | dpdk_unit_test | +=====================+================+ | Debian Bullseye | PASS | +---------------------+----------------+ | Debian 12 | PASS | +---------------------+----------------+ | CentOS Stream 9 | PASS | +---------------------+----------------+ | Fedora 40 | PASS | +---------------------+----------------+ | Ubuntu 20.04 | PASS | +---------------------+----------------+ | Ubuntu 22.04 | PASS | +---------------------+----------------+ | Fedora 41 | PASS | +---------------------+----------------+ | Fedora 40 (Clang) | PASS | +---------------------+----------------+ | RHEL8 | PASS | +---------------------+----------------+ | Fedora 41 (Clang) | PASS | +---------------------+----------------+ | RHEL9 | PASS | +---------------------+----------------+ | Ubuntu 24.04 | PASS | +---------------------+----------------+ | Windows Server 2022 | PASS | +---------------------+----------------+ Debian Bullseye Kernel: Depends on container host Compiler: gcc (Debian 10.2.1-6) 10.2.1 20210110 Debian 12 Kernel: Depends on container host Compiler: gcc (Debian 12.2.0-14) 12.2.0 CentOS Stream 9 Kernel: Depends on container host Compiler: gcc 11.5.0 20240719 (Red Hat 11.5.0-2) Fedora 40 Kernel: Depends on container host Compiler: gcc 14.2.1 20240912 (Red Hat 14.2.1-3) Ubuntu 20.04 Kernel: Depends on container host Compiler: gcc (Ubuntu 9.4.0-1ubuntu1~20.04.2) 9.4.0 Ubuntu 22.04 Kernel: Depends on container host Compiler: gcc (Ubuntu 11.4.0-1ubuntu1~22.04) 11.4.0 Fedora 41 Kernel: Depends on container host Compiler: gcc 14.2.1 20240912 (Red Hat 14.2.1-3) Fedora 40 (Clang) Kernel: Depends on container host Compiler: clang 18.1.8 (Fedora 18.1.8-1.fc40) RHEL8 Kernel: Depends on container host Compiler: gcc 8.5.0 20210514 (Red Hat 8.5.0-22) Fedora 41 (Clang) Kernel: Depends on container host Compiler: clang 19.1.5 (Fedora 19.1.5-1.fc41) RHEL9 Kernel: Depends on container host Compiler: gcc 11.5.0 20240719 (Red Hat 11.5.0-2) Ubuntu 24.04 Kernel: Depends on container host Compiler: gcc (Ubuntu 13.3.0-6ubuntu2~24.04) 13.3.0 Windows Server 2022 Kernel: 10.0.20348.2031 Compiler: clang 15.0.7, gcc 14.1.0 (MinGW), and MSVC VS 19.39.33521 To view detailed results, visit: https://lab.dpdk.org/results/dashboard/patchsets/32497/ UNH-IOL DPDK Community Lab To manage your email subscriptions, visit: https://lab.dpdk.org/results/dashboard/preferences/subscriptions/