From mboxrd@z Thu Jan 1 00:00:00 1970 Return-Path: Received: from mails.dpdk.org (mails.dpdk.org [217.70.189.124]) by inbox.dpdk.org (Postfix) with ESMTP id B38364619C for ; Wed, 5 Feb 2025 14:54:54 +0100 (CET) Received: from mails.dpdk.org (localhost [127.0.0.1]) by mails.dpdk.org (Postfix) with ESMTP id 99D424029A; Wed, 5 Feb 2025 14:54:54 +0100 (CET) Received: from mail-yw1-f228.google.com (mail-yw1-f228.google.com [209.85.128.228]) by mails.dpdk.org (Postfix) with ESMTP id 4BA3540270 for ; Wed, 5 Feb 2025 14:54:53 +0100 (CET) Received: by mail-yw1-f228.google.com with SMTP id 00721157ae682-6f768e9be1aso7334197b3.0 for ; Wed, 05 Feb 2025 05:54:53 -0800 (PST) DKIM-Signature: v=1; a=rsa-sha256; c=relaxed/relaxed; d=iol.unh.edu; s=unh-iol; t=1738763692; x=1739368492; darn=dpdk.org; h=references:in-reply-to:cc:to:from:subject:message-id:date:from:to :cc:subject:date:message-id:reply-to; bh=xxkl7hl5qp89UzvdeIAW9b8lH6iewxmudHIE0eh625g=; b=N5ca/AV+t4FXbeqmqWTpfUQQg6xDoAS6QmbRW09YKY76rZqOOzuqekwbqBoUFZwjnC eWRDUj+0fagAJAl7UFeouKGM08K7gf2XL+R/stowuRPexA0b/M8bVKg2ZsSNccgG4uTM 7O9uZuPufYXpCgVE78xohFPa1FHu5JAjXQky4= X-Google-DKIM-Signature: v=1; a=rsa-sha256; c=relaxed/relaxed; d=1e100.net; s=20230601; t=1738763692; x=1739368492; h=references:in-reply-to:cc:to:from:subject:message-id:date :x-gm-message-state:from:to:cc:subject:date:message-id:reply-to; bh=xxkl7hl5qp89UzvdeIAW9b8lH6iewxmudHIE0eh625g=; b=BlMhbwzzqbVuATrx3ovr3LmNdC7rfnCLpfXvtRNcHKel6O1jsvDy4WqyiJGJYiNt+F DlP13rWpKSWXF9TNYaZNiIBNCcyvn5cYBoqBfvX4Da5ZrTuc5RgQ6hGau53faXAERugU 5+hmuQXOadprXtRs9McAhzYtG5HknF5BLXh3B2LE8bLImGkW/Zrjg0tzEZRV1W9MQAG3 sCRuujpPfW4KLy33a4QTOz4q/kwoT+G4n3ISWpzZukQXyjDB8dJNY4uTKfPVq97JiIVt d7E9kzoh2TQfhFddy8aFTz2/k1ZCw2O5qw2CY3sSSaWVRQUWE7X4IqtzhtK45Q65Jpmv LhtA== X-Gm-Message-State: AOJu0Yz9vmHIKgx/ufkfnbSDqtLxL0k6jMQKgXijdGsN25Yg0FTpWM9d s9TJqXz5HHuPMLR78DATwW1D6PE6cmjnYMBNazWhHRjvtdhxp4ciiip4AhphktffnnrW+gd/RsW ezQ2f2dEJu5ZTizIGR1IJTZNi0QkrHAYTc1hlhjUu X-Gm-Gg: ASbGnct2pu9SKlKxVXZciGHrn1FINSR24fzJ7WQ7DXaJX2n5IVMOWHTsvOcEhrz2m1C xlxJvShF+xCHzF3JuRsdau9r9F4E6cglFDErrE3AzfTXCnwsSlr9tWhiNKLWIuV+vaL/YP5v+e6 UHue5OIYQdXCkS8Plp+wXjWipKqhuYePog0PUrDkIqDfd4D9COT2pzm/krEIAaYqPzyFIOdaiot 4WvxdWrZUhezOXcr/ACTdzS8oc1t3mBwx46ftAbtDYDWUT8BiYZ6cGJ9K5ZiVUqq60VvxSSJ+T5 R84zyVcdln0TRVo00CnXwgQXCzjWOg== X-Google-Smtp-Source: AGHT+IHLUG0ByYZJalWMDP6bkZqdD20nIBrvkJ3qY5xWnLyXEVKgfddkHgXae/cPUtVZso5kKxvyDGOxfmL1 X-Received: by 2002:a05:690c:4a09:b0:6f9:4b81:3dc7 with SMTP id 00721157ae682-6f9898aeffamr23956207b3.1.1738763692567; Wed, 05 Feb 2025 05:54:52 -0800 (PST) Received: from postal.iol.unh.edu (postal.iol.unh.edu. [132.177.123.84]) by smtp-relay.gmail.com with ESMTPS id 00721157ae682-6f983487125sm1829067b3.65.2025.02.05.05.54.52 (version=TLS1_2 cipher=ECDHE-ECDSA-AES128-GCM-SHA256 bits=128/128); Wed, 05 Feb 2025 05:54:52 -0800 (PST) X-Relaying-Domain: iol.unh.edu Date: Wed, 05 Feb 2025 05:54:52 -0800 (PST) Message-ID: <67a36dac.0d0a0220.7c159.9a0cSMTPIN_ADDED_MISSING@mx.google.com> Received: from [172.17.0.4] (unknown [172.18.0.217]) by postal.iol.unh.edu (Postfix) with ESMTP id 3A8FF6052471; Wed, 5 Feb 2025 08:54:52 -0500 (EST) Subject: |SUCCESS| pw150966-150969 [PATCH] [v4,4/4] net/intel: allow building From: dpdklab@iol.unh.edu To: Test Report Cc: dpdk-test-reports@iol.unh.edu In-Reply-To: <20250205115533.2746196-5-bruce.richardson@intel.com> References: <20250205115533.2746196-5-bruce.richardson@intel.com> Content-Type: text/plain X-BeenThere: test-report@dpdk.org X-Mailman-Version: 2.1.29 Precedence: list List-Id: automatic DPDK test reports List-Unsubscribe: , List-Archive: List-Post: List-Help: List-Subscribe: , Errors-To: test-report-bounces@dpdk.org Test-Label: iol-abi-testing Test-Status: SUCCESS http://dpdk.org/patch/150969 _Testing PASS_ Submitter: Bruce Richardson Date: Wednesday, February 05 2025 11:55:31 DPDK git baseline: Repo:dpdk Branch: master CommitID:595535be66b103f7ce3ba61939b8013032987404 150966-150969 --> testing pass Upstream job id: Generic-DPDK-Compile-ABI#114874 Test environment and result as below: +-------------------+----------+ | Environment | abi_test | +===================+==========+ | CentOS Stream 9 | PASS | +-------------------+----------+ | Debian Bullseye | PASS | +-------------------+----------+ | Debian 12 | PASS | +-------------------+----------+ | Fedora 40 (Clang) | PASS | +-------------------+----------+ | Fedora 41 | PASS | +-------------------+----------+ | Fedora 41 (Clang) | PASS | +-------------------+----------+ | Fedora 40 | PASS | +-------------------+----------+ | openSUSE Leap 15 | PASS | +-------------------+----------+ | RHEL9 | PASS | +-------------------+----------+ | Ubuntu 22.04 | PASS | +-------------------+----------+ | Ubuntu 24.04 | PASS | +-------------------+----------+ | RHEL8 | PASS | +-------------------+----------+ CentOS Stream 9 Kernel: Depends on container host Compiler: gcc 11.5.0 20240719 (Red Hat 11.5.0-2) Debian Bullseye Kernel: Depends on container host Compiler: gcc (Debian 10.2.1-6) 10.2.1 20210110 Debian 12 Kernel: Depends on container host Compiler: gcc (Debian 12.2.0-14) 12.2.0 Fedora 40 (Clang) Kernel: Depends on container host Compiler: clang 18.1.8 (Fedora 18.1.8-1.fc40) Fedora 41 Kernel: Depends on container host Compiler: gcc 14.2.1 20240912 (Red Hat 14.2.1-3) Fedora 41 (Clang) Kernel: Depends on container host Compiler: clang 19.1.5 (Fedora 19.1.5-1.fc41) Fedora 40 Kernel: Depends on container host Compiler: gcc 14.2.1 20240912 (Red Hat 14.2.1-3) openSUSE Leap 15 Kernel: Depends on container host Compiler: gcc (SUSE Linux) 7.5.0 RHEL9 Kernel: Depends on container host Compiler: gcc 11.5.0 20240719 (Red Hat 11.5.0-2) Ubuntu 22.04 Kernel: Depends on container host Compiler: gcc (Ubuntu 11.4.0-1ubuntu1~22.04) 11.4.0 Ubuntu 24.04 Kernel: Depends on container host Compiler: gcc (Ubuntu 13.3.0-6ubuntu2~24.04) 13.3.0 RHEL8 Kernel: Depends on container host Compiler: gcc 8.5.0 20210514 (Red Hat 8.5.0-22) To view detailed results, visit: https://lab.dpdk.org/results/dashboard/patchsets/32497/ UNH-IOL DPDK Community Lab To manage your email subscriptions, visit: https://lab.dpdk.org/results/dashboard/preferences/subscriptions/