From mboxrd@z Thu Jan 1 00:00:00 1970 Return-Path: Received: from mails.dpdk.org (mails.dpdk.org [217.70.189.124]) by inbox.dpdk.org (Postfix) with ESMTP id D217A4619C for ; Wed, 5 Feb 2025 14:56:32 +0100 (CET) Received: from mails.dpdk.org (localhost [127.0.0.1]) by mails.dpdk.org (Postfix) with ESMTP id CE6B34029A; Wed, 5 Feb 2025 14:56:32 +0100 (CET) Received: from mail-pj1-f98.google.com (mail-pj1-f98.google.com [209.85.216.98]) by mails.dpdk.org (Postfix) with ESMTP id 889D240270 for ; Wed, 5 Feb 2025 14:56:31 +0100 (CET) Received: by mail-pj1-f98.google.com with SMTP id 98e67ed59e1d1-2ee9a780de4so9117957a91.3 for ; Wed, 05 Feb 2025 05:56:31 -0800 (PST) DKIM-Signature: v=1; a=rsa-sha256; c=relaxed/relaxed; d=iol.unh.edu; s=unh-iol; t=1738763791; x=1739368591; darn=dpdk.org; h=references:in-reply-to:cc:to:from:subject:message-id:date:from:to :cc:subject:date:message-id:reply-to; bh=Cc9TU36ZSV0FIzdVmgtgQdsB+eBtW3Nj8213FLkUPyg=; b=X3QfnJ2uz8C3178UeG7cw5rqJsCa9yyajeIMhu/RrvfdKOBZXnN9LhXww50FNl4WXY HT5mH7XLsf3uZGDf0PPsWlVuT/fExy7RfQTLGl2LCOnWpOGrbM5ECcXik2sOyjW5e3q/ Jo78Q5d8mz458/S5BBvoc4GOKALywEqvIcoiY= X-Google-DKIM-Signature: v=1; a=rsa-sha256; c=relaxed/relaxed; d=1e100.net; s=20230601; t=1738763791; x=1739368591; h=references:in-reply-to:cc:to:from:subject:message-id:date :x-gm-message-state:from:to:cc:subject:date:message-id:reply-to; bh=Cc9TU36ZSV0FIzdVmgtgQdsB+eBtW3Nj8213FLkUPyg=; b=qQjb7+PuKbMXoxEGgbUD2hXMgS9UEeD5OjWkzgdjKr399ZRpG+2tz92RxpkCAlUMfV 25r5TKtdkOx3j/fTHmQe+bm9hqx1gu+eyOmn0PQzWt2bpJWcZOhgJE0u/UOSWfkbnxIl RJGM+ttHRUjFnZSsciodukw5aztWxJmylPdKZ0x12xGJZzp/cwKQgyz/IGUqm/2HBPs7 jrSNcKTieS19nUFrEjCFCOPc/1xYM5/sE5ieg4IxHQBBon4UtDXRrW+v+EjPz8HyokCR 0ZYFLntOsACTrS+s1PtLUefcu4mngkBekaSeJqMgiXTj/1ebNokziBWiVd1mI9VCSfEK veWA== X-Gm-Message-State: AOJu0YzTHmbgk4QOb4uWlUOhNeVlrJ7jODT4SMMlHZ86G/UikjEsZ6+y Ehr4YFEdo6wVxe3Hl6OMv3otZEiSA+uQoRetsDmA8wcmHpsuM+B0Tx+jPxflHvjP/n1Yu5+NPCA sTNNEq4kHpHEWaFG19Uub8lttnZlAY84/rUINTDgqOudQx4yFl8ADwA56 X-Gm-Gg: ASbGnct5oTSmeLxdPyLy9Q8aFTU0yumdeTjFw1D1Q/qwmuTErDd89qsibXvT/J5ErBJ ykQy6y3+vwipISp3pmYgMyMp34yPFhGWbcLGrLUVI+pE9vX1l+kdu+/LZNj6oUV53uB09+rqquM a+jsrz4IW1Agzu9rrQ5xElLCXkyYzrKr/xhKM/DqKT1zGkjxkOTkZtatQ6ZvbA8QaycV+FiFqD0 bJep+n8CWnh9ZBRh0pfaq1YTaCWC4bkjZ0O/Aksg3FKBlpKPIryInKzfW4acViYQ/n0TnKMNtnU SkSJQIawaKnHxYnaXAhklW3jBN1QZ2z17a482c9ohA== X-Google-Smtp-Source: AGHT+IE4IDIyWcIyLPPs6TkGjDttQNzaLoelREVKgygmOTM2hqEkAd9kYh1PjvZu2ochtjvLS1AlBEYwAm4t X-Received: by 2002:a17:90b:314e:b0:2ee:dcf6:1c77 with SMTP id 98e67ed59e1d1-2f9e07891bdmr5111932a91.16.1738763790665; Wed, 05 Feb 2025 05:56:30 -0800 (PST) Received: from postal.iol.unh.edu (postal.iol.unh.edu. [2606:4100:3880:1234::84]) by smtp-relay.gmail.com with ESMTPS id 98e67ed59e1d1-2f9e1da9443sm139546a91.10.2025.02.05.05.56.30 (version=TLS1_2 cipher=ECDHE-ECDSA-AES128-GCM-SHA256 bits=128/128); Wed, 05 Feb 2025 05:56:30 -0800 (PST) X-Relaying-Domain: iol.unh.edu Date: Wed, 05 Feb 2025 05:56:30 -0800 (PST) Message-ID: <67a36e0e.170a0220.10f811.5da1SMTPIN_ADDED_MISSING@mx.google.com> Received: from [172.17.0.4] (unknown [172.18.0.217]) by postal.iol.unh.edu (Postfix) with ESMTP id D3EC06052471; Wed, 5 Feb 2025 08:56:29 -0500 (EST) Subject: |SUCCESS| pw150930-150931 [PATCH] [v5,2/2] net/cnxk: support rte flo From: dpdklab@iol.unh.edu To: Test Report Cc: dpdk-test-reports@iol.unh.edu In-Reply-To: <20250205054247.1214565-2-psatheesh@marvell.com> References: <20250205054247.1214565-2-psatheesh@marvell.com> Content-Type: text/plain X-BeenThere: test-report@dpdk.org X-Mailman-Version: 2.1.29 Precedence: list List-Id: automatic DPDK test reports List-Unsubscribe: , List-Archive: List-Post: List-Help: List-Subscribe: , Errors-To: test-report-bounces@dpdk.org Test-Label: iol-sample-apps-testing Test-Status: SUCCESS http://dpdk.org/patch/150931 _Testing PASS_ Submitter: Satheesh Paul Antonysamy Date: Wednesday, February 05 2025 05:42:47 DPDK git baseline: Repo:dpdk Branch: master CommitID:1509e93efb980d1e4da3dabd332748b26cab76fd 150930-150931 --> testing pass Upstream job id: ACVP-FIPS-testing#8788 Test environment and result as below: +--------------------+----------------------+----------------------+ | Environment | compressdev_zlib_pmd | dpdk_fips_validation | +====================+======================+======================+ | Ubuntu 22.04 (ARM) | PASS | SKIPPED | +--------------------+----------------------+----------------------+ | Ubuntu 22.04 | PASS | SKIPPED | +--------------------+----------------------+----------------------+ | Ubuntu 20.04 | SKIPPED | PASS | +--------------------+----------------------+----------------------+ Ubuntu 22.04 (ARM) Kernel: 5.15.0-97-generic Compiler: gcc gcc (Ubuntu 11.4.0-1ubuntu1~22.04) 11.4.0 Ubuntu 22.04 Kernel: 5.15.0-100-generic Compiler: gcc gcc (Ubuntu 11.4.0-1ubuntu1~22.04) 11.4.0 Ubuntu 20.04 Kernel: Depends on container host Compiler: gcc (Ubuntu 9.4.0-1ubuntu1~20.04.2) 9.4.0 To view detailed results, visit: https://lab.dpdk.org/results/dashboard/patchsets/32495/ UNH-IOL DPDK Community Lab To manage your email subscriptions, visit: https://lab.dpdk.org/results/dashboard/preferences/subscriptions/