From mboxrd@z Thu Jan 1 00:00:00 1970 Return-Path: Received: from mails.dpdk.org (mails.dpdk.org [217.70.189.124]) by inbox.dpdk.org (Postfix) with ESMTP id 5DD934619C for ; Wed, 5 Feb 2025 15:01:43 +0100 (CET) Received: from mails.dpdk.org (localhost [127.0.0.1]) by mails.dpdk.org (Postfix) with ESMTP id 5F7354029A; Wed, 5 Feb 2025 15:01:42 +0100 (CET) Received: from mail-pl1-f226.google.com (mail-pl1-f226.google.com [209.85.214.226]) by mails.dpdk.org (Postfix) with ESMTP id EBE3F40270 for ; Wed, 5 Feb 2025 15:01:40 +0100 (CET) Received: by mail-pl1-f226.google.com with SMTP id d9443c01a7336-2166360285dso115778895ad.1 for ; Wed, 05 Feb 2025 06:01:40 -0800 (PST) DKIM-Signature: v=1; a=rsa-sha256; c=relaxed/relaxed; d=iol.unh.edu; s=unh-iol; t=1738764100; x=1739368900; darn=dpdk.org; h=cc:to:from:subject:message-id:date:from:to:cc:subject:date :message-id:reply-to; bh=8IvoobPxagcOR1e0rUSQDPLn2CLPuzGBnMMOgFI/CDA=; b=QvpFhdLmv1oAxiPkgrTAaOAzzuO5UFvHBrP65MQFWFr2/OxR1FWEDBlCvgmN+sGm9F lzO9ElOyOQJ5wUBdIKc8rveTP/2mEPECfokFD1P6ZOPgbYbb/i+o+9fkU3u4iTHT2aVm 2jMSejW9JnGbNaQ1UuayuUGi3z5uZlVfPkBjE= X-Google-DKIM-Signature: v=1; a=rsa-sha256; c=relaxed/relaxed; d=1e100.net; s=20230601; t=1738764100; x=1739368900; h=cc:to:from:subject:message-id:date:x-gm-message-state:from:to:cc :subject:date:message-id:reply-to; bh=8IvoobPxagcOR1e0rUSQDPLn2CLPuzGBnMMOgFI/CDA=; b=QHaHc6IyelmRZrNtjqG/AebxpZ0JgYhkRKpONNoYgQ3MW7nuUyX+t4iRFpPkBtePgP LwhGsX+xCYjR3U9dr6HS577cH1cQuos6XWPrKK6I0w4zBeKLb59c6Ni/7ourlflWpJIO qWCpX1cI7zUXE/SPwfDEnSgTm3jDSTXPPVpYe9cEf2SY1UgVWz7tEfKnZgJLHApAwkMu vvHmDNBqreyhIArHO3PryHnaiUZSP1I/i/UbXeWgRlZZXEV1hVHVKRX2+5Mun0YyZU0p wwnmnoAu2V56ETPFnqTzsBtJ7BatUd8In3H0TZu7C/JRRyVjJMukEumAddP2yZWdKtYZ aGQQ== X-Gm-Message-State: AOJu0YzVbLj63J4XQEyqyi4E4M3YujGwrWx8ctL9RZHJk1R5pc7Y6vGK s8hWC2UbiZvtjL+9K5gp/UvxQ/XcItp0kuv3f6bVROsqdb28FWUBY75JIGv3Me56aZQ/8jvuWgq eSR2qG5zGu78TlHvJngYV9xMoF6V7v5hqpBsy6aZS X-Gm-Gg: ASbGncuZ53CzpWB6VQWGc9ykD4/9vTYUuv+sR/JVh7ZZUl+OijUOOp436NfJ9A2yXIy TWVmutUX+mimqhEchMiT2draQkiplJyvJEuBo3Z58EzIjU2CgZp2JS/Xlgn/4tVlGFcTSITVB2s xWbCsAWO8EiV5qqWQRpT7yS/+8kleT74mNxa4uJj4UyaYj+YklzJlhmWWroOodLcm8yW+KQIteU +Nj24Kv5V2e3sJCsJa1y65a+K9vm7KSH+CShVyOSqOfVbXRgtefDUGQCgUd6Zww6G785onDVg7o OVRw5qK33OXG+UcA3DQSame29BGQ3g== X-Google-Smtp-Source: AGHT+IEinlbJgkj82/A6dOIr/WdI4YXFkwLA7Qj1Yc2MVUvxoPjAj6iO2dltKniKWEE9o2+cVJM2p3Oi8zg8 X-Received: by 2002:a17:902:f64b:b0:215:5bd8:9f92 with SMTP id d9443c01a7336-21f17e2bfe0mr55396455ad.5.1738764099636; Wed, 05 Feb 2025 06:01:39 -0800 (PST) Received: from postal.iol.unh.edu (postal.iol.unh.edu. [132.177.123.84]) by smtp-relay.gmail.com with ESMTPS id d9443c01a7336-21de325293bsm6618555ad.51.2025.02.05.06.01.39 (version=TLS1_2 cipher=ECDHE-ECDSA-AES128-GCM-SHA256 bits=128/128); Wed, 05 Feb 2025 06:01:39 -0800 (PST) X-Relaying-Domain: iol.unh.edu Date: Wed, 05 Feb 2025 06:01:39 -0800 (PST) Message-ID: <67a36f43.170a0220.19d7ae.d827SMTPIN_ADDED_MISSING@mx.google.com> Received: from [172.17.0.4] (unknown [172.18.0.217]) by postal.iol.unh.edu (Postfix) with ESMTP id CAE6A6052471; Wed, 5 Feb 2025 09:01:38 -0500 (EST) Subject: |WARNING| [GIT MASTER] 5b856206c74bbcf19e12cafa15382a7e15b0a1b5 From: dpdklab@iol.unh.edu To: Test Report Cc: dpdk-test-reports@iol.unh.edu Content-Type: text/plain X-BeenThere: test-report@dpdk.org X-Mailman-Version: 2.1.29 Precedence: list List-Id: automatic DPDK test reports List-Unsubscribe: , List-Archive: List-Post: List-Help: List-Subscribe: , Errors-To: test-report-bounces@dpdk.org _Testing issues_ Branch: dpdk 5b856206c74bbcf19e12cafa15382a7e15b0a1b5 --> testing issues Upstream job id: Windows-Compile-DPDK-Native#26413 Test environment and result as below: +---------------------+--------------------+------------------+-------------------+-------------------+----------------------+-------------------------+ | Environment | dpdk_meson_compile | dpdk_compile_ovs | dpdk_compile_spdk | dpdk_msvc_compile | dpdk_mingw64_compile | dpdk_llvm_clang_compile | +=====================+====================+==================+===================+===================+======================+=========================+ | Debian 12 | PASS | PASS | PASS | SKIPPED | SKIPPED | SKIPPED | +---------------------+--------------------+------------------+-------------------+-------------------+----------------------+-------------------------+ | Debian Bullseye | PASS | PASS | PASS | SKIPPED | SKIPPED | SKIPPED | +---------------------+--------------------+------------------+-------------------+-------------------+----------------------+-------------------------+ | Fedora 40 (Clang) | PASS | PASS | PASS | SKIPPED | SKIPPED | SKIPPED | +---------------------+--------------------+------------------+-------------------+-------------------+----------------------+-------------------------+ | Fedora 41 (Clang) | PASS | PASS | PASS | SKIPPED | SKIPPED | SKIPPED | +---------------------+--------------------+------------------+-------------------+-------------------+----------------------+-------------------------+ | RHEL8 | PASS | PASS | SKIPPED | SKIPPED | SKIPPED | SKIPPED | +---------------------+--------------------+------------------+-------------------+-------------------+----------------------+-------------------------+ | Fedora 40 | PASS | PASS | PASS | SKIPPED | SKIPPED | SKIPPED | +---------------------+--------------------+------------------+-------------------+-------------------+----------------------+-------------------------+ | Fedora 41 | PASS | PASS | PASS | SKIPPED | SKIPPED | SKIPPED | +---------------------+--------------------+------------------+-------------------+-------------------+----------------------+-------------------------+ | openSUSE Leap 15 | PASS | SKIPPED | SKIPPED | SKIPPED | SKIPPED | SKIPPED | +---------------------+--------------------+------------------+-------------------+-------------------+----------------------+-------------------------+ | RHEL9 | PASS | PASS | SKIPPED | SKIPPED | SKIPPED | SKIPPED | +---------------------+--------------------+------------------+-------------------+-------------------+----------------------+-------------------------+ | Ubuntu 24.04 | PASS | PASS | PASS | SKIPPED | SKIPPED | SKIPPED | +---------------------+--------------------+------------------+-------------------+-------------------+----------------------+-------------------------+ | Ubuntu 20.04 | PASS | WARN | SKIPPED | SKIPPED | SKIPPED | SKIPPED | +---------------------+--------------------+------------------+-------------------+-------------------+----------------------+-------------------------+ | Ubuntu 22.04 | PASS | PASS | PASS | SKIPPED | SKIPPED | SKIPPED | +---------------------+--------------------+------------------+-------------------+-------------------+----------------------+-------------------------+ | Alpine | PASS | PASS | SKIPPED | SKIPPED | SKIPPED | SKIPPED | +---------------------+--------------------+------------------+-------------------+-------------------+----------------------+-------------------------+ | Arch Linux | PASS | PASS | SKIPPED | SKIPPED | SKIPPED | SKIPPED | +---------------------+--------------------+------------------+-------------------+-------------------+----------------------+-------------------------+ | FreeBSD 13.4 | PASS | SKIPPED | SKIPPED | SKIPPED | SKIPPED | SKIPPED | +---------------------+--------------------+------------------+-------------------+-------------------+----------------------+-------------------------+ | FreeBSD 14.2 | PASS | SKIPPED | SKIPPED | SKIPPED | SKIPPED | SKIPPED | +---------------------+--------------------+------------------+-------------------+-------------------+----------------------+-------------------------+ | CentOS Stream 9 | PASS | PASS | PASS | SKIPPED | SKIPPED | SKIPPED | +---------------------+--------------------+------------------+-------------------+-------------------+----------------------+-------------------------+ | Windows Server 2022 | SKIPPED | SKIPPED | SKIPPED | PASS | PASS | PASS | +---------------------+--------------------+------------------+-------------------+-------------------+----------------------+-------------------------+ ==== 20 line log output for Ubuntu 20.04 (dpdk_compile_ovs): ==== --- Failed to get log output --- ==== End log output ==== Debian 12 Kernel: Depends on container host Compiler: gcc (Debian 12.2.0-14) 12.2.0 Debian Bullseye Kernel: Depends on container host Compiler: gcc (Debian 10.2.1-6) 10.2.1 20210110 Fedora 40 (Clang) Kernel: Depends on container host Compiler: clang 18.1.8 (Fedora 18.1.8-1.fc40) Fedora 41 (Clang) Kernel: Depends on container host Compiler: clang 19.1.5 (Fedora 19.1.5-1.fc41) RHEL8 Kernel: Depends on container host Compiler: gcc 8.5.0 20210514 (Red Hat 8.5.0-22) Fedora 40 Kernel: Depends on container host Compiler: gcc 14.2.1 20240912 (Red Hat 14.2.1-3) Fedora 41 Kernel: Depends on container host Compiler: gcc 14.2.1 20240912 (Red Hat 14.2.1-3) openSUSE Leap 15 Kernel: Depends on container host Compiler: gcc (SUSE Linux) 7.5.0 RHEL9 Kernel: Depends on container host Compiler: gcc 11.5.0 20240719 (Red Hat 11.5.0-2) Ubuntu 24.04 Kernel: Depends on container host Compiler: gcc (Ubuntu 13.3.0-6ubuntu2~24.04) 13.3.0 Ubuntu 20.04 Kernel: Depends on container host Compiler: gcc (Ubuntu 9.4.0-1ubuntu1~20.04.2) 9.4.0 Ubuntu 22.04 Kernel: Depends on container host Compiler: gcc (Ubuntu 11.4.0-1ubuntu1~22.04) 11.4.0 Alpine Kernel: Depends on container host Compiler: gcc (Alpine 14.2.0) 14.2.0 Arch Linux Kernel: Depends on container host Compiler: gcc 14.2.1 20240910 FreeBSD 13.4 Kernel: 13.4-RELEASE-p1 Compiler: clang 18.1.6 FreeBSD 14.2 Kernel: 14.2-RELEASE Compiler: clang 18.1.6 CentOS Stream 9 Kernel: Depends on container host Compiler: gcc 11.5.0 20240719 (Red Hat 11.5.0-2) Windows Server 2022 Kernel: 10.0.20348.2031 Compiler: clang 15.0.7, gcc 14.1.0 (MinGW), and MSVC VS 19.39.33521 To view detailed results, visit: https://lab.dpdk.org/results/dashboard/tarballs/32318/ UNH-IOL DPDK Community Lab To manage your email subscriptions, visit: https://lab.dpdk.org/results/dashboard/preferences/subscriptions/