From mboxrd@z Thu Jan 1 00:00:00 1970 Return-Path: Received: from mails.dpdk.org (mails.dpdk.org [217.70.189.124]) by inbox.dpdk.org (Postfix) with ESMTP id 0282B4619C for ; Wed, 5 Feb 2025 15:26:57 +0100 (CET) Received: from mails.dpdk.org (localhost [127.0.0.1]) by mails.dpdk.org (Postfix) with ESMTP id D17D34029A; Wed, 5 Feb 2025 15:26:57 +0100 (CET) Received: from mail-pl1-f226.google.com (mail-pl1-f226.google.com [209.85.214.226]) by mails.dpdk.org (Postfix) with ESMTP id A19FF40270 for ; Wed, 5 Feb 2025 15:26:56 +0100 (CET) Received: by mail-pl1-f226.google.com with SMTP id d9443c01a7336-21619108a6bso114567555ad.3 for ; Wed, 05 Feb 2025 06:26:56 -0800 (PST) DKIM-Signature: v=1; a=rsa-sha256; c=relaxed/relaxed; d=iol.unh.edu; s=unh-iol; t=1738765616; x=1739370416; darn=dpdk.org; h=cc:to:from:subject:message-id:date:from:to:cc:subject:date :message-id:reply-to; bh=WmK7eOlnMYZ+RfJDBRT5orfXfoYosYe2S6D7IFptGxo=; b=f9B2602t5BNyGx5LnkuEhtgMeGJsY3xQyzRizTNIRAme+QwRAc5ILKnKCgO+a1s2c2 HQxS28IYRvHkFERS37TulYTh26EgRFjakI3ZffRspFrtToU8alTPHcinVtAxOVOIVb4+ oAgIAGRyOIhHp3SA18YogENwZ6NG+Vs4ltFms= X-Google-DKIM-Signature: v=1; a=rsa-sha256; c=relaxed/relaxed; d=1e100.net; s=20230601; t=1738765616; x=1739370416; h=cc:to:from:subject:message-id:date:x-gm-message-state:from:to:cc :subject:date:message-id:reply-to; bh=WmK7eOlnMYZ+RfJDBRT5orfXfoYosYe2S6D7IFptGxo=; b=CXszyb4bL8MfxaW9QGZBK3SZC5WAhrxr5+jV+Mu/hW1d+YH3DB/6XARsm/3dUrU5qi k33F2RqzYIWf3gQzPSsGjpx0Ng0Z2fHAXKZVK8Vp1z1z/bk/PH/wOhiQz4JG46J00J7X Cx9OOtqbqiwQ1w63TuCg4OT1QmEM/9RYzeN2IcHzSGGQKFX3RWyk2YqeB4B+WX/hvY7c GYBXn11amEXdEj1b92ZYbVWn6MItS8CcFi5z2QVbOOBY+tkrYkkYOefmkSsoxMzF1FBd XDR7s8AEXMIW6FTeQe4EpRU0OGOt9JrMvRQkxj7E5hiPjiHEpc6z4m48kTJpIeWJPCet +86Q== X-Gm-Message-State: AOJu0Yyx4jt3784iof9nnEjuuMmBjzWp4m3LvGcX4AhHqXoFAtne3e4M NT1wLZSO3eVU6nobK3KGZcc5rgyAP9IG2XPaKJLA1KcK07foFafWxKoXOUkqmbxRflziQvqZVJb uRp3Xdal9sXnSVs5AWhW4u88AXlxtahAN846Wj8it X-Gm-Gg: ASbGncsBWyXYLbCFDQisAywwD6jg+8jDkOTKa1GcNOqrlOK1SBX/wrLvfcZX+jHNtTm UIznTwtfSsSMAmfO6VEvrQsINXhcC5yDXBU0bhVkP0miu30TBVl7COtzEc24cYxHjUD9BsmEFXA dN/lRWrDaV6wmX7mGn9oC43K5+VYUC/L/D/2RkH0B4l0ZHOSz0cbhi6VyAb7Ry1Pkra1JR2zQMi jkdJht1YlK/kd8PUVb8G9cjHZLADRrOJGvwcRkw0TslQ1jyXV5e8Hs9tz0bCPqeg9pkglJ9kvgL waP9hTiHV0D3Lgu46bMI6kivnv7i2g== X-Google-Smtp-Source: AGHT+IFo6FbylRwp8tiXHeQjkfVAF2gwzjzrswQLbK7CGFldlt4vYzyTiHHkOLDYgefd+r0eNAChpchvO9Ny X-Received: by 2002:a17:902:e841:b0:215:522d:72d6 with SMTP id d9443c01a7336-21f17ecd69amr52077385ad.38.1738765615695; Wed, 05 Feb 2025 06:26:55 -0800 (PST) Received: from postal.iol.unh.edu (postal.iol.unh.edu. [132.177.123.84]) by smtp-relay.gmail.com with ESMTPS id d9443c01a7336-21de326bf11sm6316655ad.53.2025.02.05.06.26.55 (version=TLS1_2 cipher=ECDHE-ECDSA-AES128-GCM-SHA256 bits=128/128); Wed, 05 Feb 2025 06:26:55 -0800 (PST) X-Relaying-Domain: iol.unh.edu Date: Wed, 05 Feb 2025 06:26:55 -0800 (PST) Message-ID: <67a3752f.170a0220.310144.c27fSMTPIN_ADDED_MISSING@mx.google.com> Received: from [172.17.0.4] (unknown [172.18.0.217]) by postal.iol.unh.edu (Postfix) with ESMTP id CB7356052471; Wed, 5 Feb 2025 09:26:54 -0500 (EST) Subject: |SUCCESS| [GIT MASTER] 595535be66b103f7ce3ba61939b8013032987404 From: dpdklab@iol.unh.edu To: Test Report Cc: dpdk-test-reports@iol.unh.edu, Stephen Hemminger Content-Type: text/plain X-BeenThere: test-report@dpdk.org X-Mailman-Version: 2.1.29 Precedence: list List-Id: automatic DPDK test reports List-Unsubscribe: , List-Archive: List-Post: List-Help: List-Subscribe: , Errors-To: test-report-bounces@dpdk.org _Testing PASS_ Branch: dpdk-next-net 595535be66b103f7ce3ba61939b8013032987404 --> testing pass Upstream job id: ACVP-FIPS-testing#8789 Test environment and result as below: +--------------------+----------------------+----------------------+ | Environment | compressdev_zlib_pmd | dpdk_fips_validation | +====================+======================+======================+ | Ubuntu 22.04 (ARM) | PASS | SKIPPED | +--------------------+----------------------+----------------------+ | Ubuntu 22.04 | PASS | SKIPPED | +--------------------+----------------------+----------------------+ | Ubuntu 20.04 | SKIPPED | PASS | +--------------------+----------------------+----------------------+ Ubuntu 22.04 (ARM) Kernel: 5.15.0-97-generic Compiler: gcc gcc (Ubuntu 11.4.0-1ubuntu1~22.04) 11.4.0 Ubuntu 22.04 Kernel: 5.15.0-100-generic Compiler: gcc gcc (Ubuntu 11.4.0-1ubuntu1~22.04) 11.4.0 Ubuntu 20.04 Kernel: Depends on container host Compiler: gcc (Ubuntu 9.4.0-1ubuntu1~20.04.2) 9.4.0 To view detailed results, visit: https://lab.dpdk.org/results/dashboard/tarballs/32449/ UNH-IOL DPDK Community Lab To manage your email subscriptions, visit: https://lab.dpdk.org/results/dashboard/preferences/subscriptions/