From mboxrd@z Thu Jan 1 00:00:00 1970 Return-Path: Received: from mails.dpdk.org (mails.dpdk.org [217.70.189.124]) by inbox.dpdk.org (Postfix) with ESMTP id 6648B4619C for ; Wed, 5 Feb 2025 15:30:39 +0100 (CET) Received: from mails.dpdk.org (localhost [127.0.0.1]) by mails.dpdk.org (Postfix) with ESMTP id 30F634029A; Wed, 5 Feb 2025 15:30:39 +0100 (CET) Received: from mail-pj1-f100.google.com (mail-pj1-f100.google.com [209.85.216.100]) by mails.dpdk.org (Postfix) with ESMTP id 9E7DF40270 for ; Wed, 5 Feb 2025 15:30:37 +0100 (CET) Received: by mail-pj1-f100.google.com with SMTP id 98e67ed59e1d1-2f9bd7c480eso3827185a91.1 for ; Wed, 05 Feb 2025 06:30:37 -0800 (PST) DKIM-Signature: v=1; a=rsa-sha256; c=relaxed/relaxed; d=iol.unh.edu; s=unh-iol; t=1738765837; x=1739370637; darn=dpdk.org; h=references:in-reply-to:cc:to:from:subject:message-id:date:from:to :cc:subject:date:message-id:reply-to; bh=fOXohPGKQJMUe7g17tJWUjCPIBD4/kA1P0Lirjl2MKM=; b=OAFJVmSPE1ldYT+anVcNpesm8JEMRE8bXL8wkQIo3jU/FZiSMhBj0mPJNwk4KwIyoJ GSKRIrD/5KbD4DJAzzl4v3sQaf11HGBKFIhRB6DcH+BI1AEwdu9/FE0U619oHnd6/n5R IjCXHUd+Y1qssjT0LGkoWORzQSF0cqwAlYrf0= X-Google-DKIM-Signature: v=1; a=rsa-sha256; c=relaxed/relaxed; d=1e100.net; s=20230601; t=1738765837; x=1739370637; h=references:in-reply-to:cc:to:from:subject:message-id:date :x-gm-message-state:from:to:cc:subject:date:message-id:reply-to; bh=fOXohPGKQJMUe7g17tJWUjCPIBD4/kA1P0Lirjl2MKM=; b=O2Uq+pLEEfmQ+pTRDSx0pev3jXu+xxu8UX+1+/lmvTiNL0nCNqxYsVJ6UWCNmDWMM7 CD5W6eXnqT8RmqH0PC1r1ELMGo0vfD74rGGVL0HCEKynboZMjf3H6naG3kk6PMbaTKIc ROjhhR0ICLARz2HEQmHbs7VhSh2og3vt5E53USV86nTG1PEmtkZj2T28phQrZiXi9VM5 8TMxBDXoSHxw98hgLKCQ5I3trad/ZOL4RHtduyGrvfxpoOT3PFpEkY9V8j/GdynuArwJ Q4y4pRtWJDr+iu6Q/bgxq67KpP91R2a57oUvnAfBpLowBqpFr2TNWNy08Z/1+b+XCVvy 2MEA== X-Gm-Message-State: AOJu0YxwjrSyYZY8oDw4ylB+6L2RKlgbLPJCrOxcYwj38/pe3Vre3dNB 4K5Ib9D+44kHb7PIb1OP669AO2Wo4LgcAJyzIs6vjWrBwp8AnBGsLxtHcka5itBqLvSjJ6IK8qE +HmsRW3m7NO6zkAgG06znP257nK2d0f01QPjK2R55tJhE21JdfhIURRQ/ X-Gm-Gg: ASbGncs5B3YLjdaeXJpi4gBCWOTd36luD2aji3l1OhJVs9VfdK+YGIKtdFAWwMWCtVN G2/ZsFIgw1+ocJes3EaW2RW2aWwtxAb3A830pwd2AmRpwM7ZO9bLe4JGEPbcx3cLFiq3VJ72jZP Iy6fvqhdYsPZo7ZLwmITAtMuNaacAyaJ4aruYYM0ZknkOT9jsjA0+mWiVmTyWJQ8eGnNwQwWKGJ mqXOf6EIC1S0dmQ6lc+pkMOWOdhcuEHBO9e4+374LSQiZUeW8desMPlg3GcFe8uZDf+NJ4UsTf1 obgGQ/VylcD+5LZaMJOI+a/D/sHcdHIE13XM4hJODQ== X-Google-Smtp-Source: AGHT+IGlrqUTgmnvEvzSXMxwB2k+kLILmjZvvMeig1YWeM1LtY25F74Dhiaa/cYf/kIyMh3cIOSur4oPkJnc X-Received: by 2002:a17:90b:4cc2:b0:2ea:77d9:6345 with SMTP id 98e67ed59e1d1-2f9e0810789mr4141241a91.22.1738765836499; Wed, 05 Feb 2025 06:30:36 -0800 (PST) Received: from postal.iol.unh.edu (postal.iol.unh.edu. [2606:4100:3880:1234::84]) by smtp-relay.gmail.com with ESMTPS id 98e67ed59e1d1-2f9e1e2f00dsm147107a91.12.2025.02.05.06.30.36 (version=TLS1_2 cipher=ECDHE-ECDSA-AES128-GCM-SHA256 bits=128/128); Wed, 05 Feb 2025 06:30:36 -0800 (PST) X-Relaying-Domain: iol.unh.edu Date: Wed, 05 Feb 2025 06:30:36 -0800 (PST) Message-ID: <67a3760c.170a0220.bc96f.65f3SMTPIN_ADDED_MISSING@mx.google.com> Received: from [172.17.0.4] (unknown [172.18.0.217]) by postal.iol.unh.edu (Postfix) with ESMTP id 2BF6F6052471; Wed, 5 Feb 2025 09:30:35 -0500 (EST) Subject: |WARNING| pw150389-150390 [PATCH] [v2,2/2] drivers/net: fix void fun From: dpdklab@iol.unh.edu To: Test Report Cc: dpdk-test-reports@iol.unh.edu In-Reply-To: <1737559244-9107-3-git-send-email-andremue@linux.microsoft.com> References: <1737559244-9107-3-git-send-email-andremue@linux.microsoft.com> Content-Type: text/plain X-BeenThere: test-report@dpdk.org X-Mailman-Version: 2.1.29 Precedence: list List-Id: automatic DPDK test reports List-Unsubscribe: , List-Archive: List-Post: List-Help: List-Subscribe: , Errors-To: test-report-bounces@dpdk.org Test-Label: iol-compile-amd64-testing Test-Status: WARNING http://dpdk.org/patch/150390 _Testing issues_ Submitter: Andre Muezerie Date: Wednesday, January 22 2025 15:20:44 DPDK git baseline: Repo:dpdk Branch: master CommitID:e931818831336de2732ca29082e47799359d9c71 150389-150390 --> testing issues Upstream job id: Windows-Compile-DPDK-Native#26421 Test environment and result as below: +---------------------+--------------------+------------------+-------------------+-------------------+----------------------+ | Environment | dpdk_meson_compile | dpdk_compile_ovs | dpdk_compile_spdk | dpdk_msvc_compile | dpdk_mingw64_compile | +=====================+====================+==================+===================+===================+======================+ | CentOS Stream 9 | PASS | PASS | PASS | SKIPPED | SKIPPED | +---------------------+--------------------+------------------+-------------------+-------------------+----------------------+ | Debian Bullseye | PASS | PASS | PASS | SKIPPED | SKIPPED | +---------------------+--------------------+------------------+-------------------+-------------------+----------------------+ | Debian 12 | PASS | PASS | PASS | SKIPPED | SKIPPED | +---------------------+--------------------+------------------+-------------------+-------------------+----------------------+ | Fedora 40 (Clang) | PASS | PASS | PASS | SKIPPED | SKIPPED | +---------------------+--------------------+------------------+-------------------+-------------------+----------------------+ | Fedora 40 | PASS | PASS | PASS | SKIPPED | SKIPPED | +---------------------+--------------------+------------------+-------------------+-------------------+----------------------+ | Fedora 41 (Clang) | PASS | PASS | PASS | SKIPPED | SKIPPED | +---------------------+--------------------+------------------+-------------------+-------------------+----------------------+ | openSUSE Leap 15 | PASS | SKIPPED | SKIPPED | SKIPPED | SKIPPED | +---------------------+--------------------+------------------+-------------------+-------------------+----------------------+ | RHEL8 | PASS | PASS | SKIPPED | SKIPPED | SKIPPED | +---------------------+--------------------+------------------+-------------------+-------------------+----------------------+ | Fedora 41 | PASS | PASS | PASS | SKIPPED | SKIPPED | +---------------------+--------------------+------------------+-------------------+-------------------+----------------------+ | RHEL9 | PASS | PASS | SKIPPED | SKIPPED | SKIPPED | +---------------------+--------------------+------------------+-------------------+-------------------+----------------------+ | Ubuntu 20.04 | PASS | WARN | SKIPPED | SKIPPED | SKIPPED | +---------------------+--------------------+------------------+-------------------+-------------------+----------------------+ | Ubuntu 22.04 | PASS | PASS | PASS | SKIPPED | SKIPPED | +---------------------+--------------------+------------------+-------------------+-------------------+----------------------+ | Ubuntu 24.04 | PASS | PASS | PASS | SKIPPED | SKIPPED | +---------------------+--------------------+------------------+-------------------+-------------------+----------------------+ | Alpine | PASS | PASS | SKIPPED | SKIPPED | SKIPPED | +---------------------+--------------------+------------------+-------------------+-------------------+----------------------+ | FreeBSD 13.4 | PASS | SKIPPED | SKIPPED | SKIPPED | SKIPPED | +---------------------+--------------------+------------------+-------------------+-------------------+----------------------+ | FreeBSD 14.2 | PASS | SKIPPED | SKIPPED | SKIPPED | SKIPPED | +---------------------+--------------------+------------------+-------------------+-------------------+----------------------+ | Windows Server 2022 | SKIPPED | SKIPPED | SKIPPED | PASS | PASS | +---------------------+--------------------+------------------+-------------------+-------------------+----------------------+ ==== 20 line log output for Ubuntu 20.04 (dpdk_compile_ovs): ==== --- Failed to get log output --- ==== End log output ==== CentOS Stream 9 Kernel: Depends on container host Compiler: gcc 11.5.0 20240719 (Red Hat 11.5.0-2) Debian Bullseye Kernel: Depends on container host Compiler: gcc (Debian 10.2.1-6) 10.2.1 20210110 Debian 12 Kernel: Depends on container host Compiler: gcc (Debian 12.2.0-14) 12.2.0 Fedora 40 (Clang) Kernel: Depends on container host Compiler: clang 18.1.8 (Fedora 18.1.8-1.fc40) Fedora 40 Kernel: Depends on container host Compiler: gcc 14.2.1 20240912 (Red Hat 14.2.1-3) Fedora 41 (Clang) Kernel: Depends on container host Compiler: clang 19.1.5 (Fedora 19.1.5-1.fc41) openSUSE Leap 15 Kernel: Depends on container host Compiler: gcc (SUSE Linux) 7.5.0 RHEL8 Kernel: Depends on container host Compiler: gcc 8.5.0 20210514 (Red Hat 8.5.0-22) Fedora 41 Kernel: Depends on container host Compiler: gcc 14.2.1 20240912 (Red Hat 14.2.1-3) RHEL9 Kernel: Depends on container host Compiler: gcc 11.5.0 20240719 (Red Hat 11.5.0-2) Ubuntu 20.04 Kernel: Depends on container host Compiler: gcc (Ubuntu 9.4.0-1ubuntu1~20.04.2) 9.4.0 Ubuntu 22.04 Kernel: Depends on container host Compiler: gcc (Ubuntu 11.4.0-1ubuntu1~22.04) 11.4.0 Ubuntu 24.04 Kernel: Depends on container host Compiler: gcc (Ubuntu 13.3.0-6ubuntu2~24.04) 13.3.0 Alpine Kernel: Depends on container host Compiler: gcc (Alpine 14.2.0) 14.2.0 FreeBSD 13.4 Kernel: 13.4-RELEASE-p1 Compiler: clang 18.1.6 FreeBSD 14.2 Kernel: 14.2-RELEASE Compiler: clang 18.1.6 Windows Server 2022 Kernel: 10.0.20348.2031 Compiler: clang 15.0.7, gcc 14.1.0 (MinGW), and MSVC VS 19.39.33521 To view detailed results, visit: https://lab.dpdk.org/results/dashboard/patchsets/32397/ UNH-IOL DPDK Community Lab To manage your email subscriptions, visit: https://lab.dpdk.org/results/dashboard/preferences/subscriptions/