From mboxrd@z Thu Jan 1 00:00:00 1970 Return-Path: Received: from mails.dpdk.org (mails.dpdk.org [217.70.189.124]) by inbox.dpdk.org (Postfix) with ESMTP id DE3404619C for ; Wed, 5 Feb 2025 15:34:32 +0100 (CET) Received: from mails.dpdk.org (localhost [127.0.0.1]) by mails.dpdk.org (Postfix) with ESMTP id B30104029A; Wed, 5 Feb 2025 15:34:32 +0100 (CET) Received: from mail-il1-f228.google.com (mail-il1-f228.google.com [209.85.166.228]) by mails.dpdk.org (Postfix) with ESMTP id D0DFC40270 for ; Wed, 5 Feb 2025 15:34:30 +0100 (CET) Received: by mail-il1-f228.google.com with SMTP id e9e14a558f8ab-3cfeff44d94so17595495ab.0 for ; Wed, 05 Feb 2025 06:34:30 -0800 (PST) DKIM-Signature: v=1; a=rsa-sha256; c=relaxed/relaxed; d=iol.unh.edu; s=unh-iol; t=1738766070; x=1739370870; darn=dpdk.org; h=references:in-reply-to:cc:to:from:subject:message-id:date:from:to :cc:subject:date:message-id:reply-to; bh=cNybI5IUtBij7mctUuJ2DioGj15V8/Q7chuDkTPv9Hc=; b=dN2qMoCIm89IDrdRD9hoBy4QjKLo0zhTdfhR16AbRce+waOtaA06NqZHOYfNUS/vvJ nz4K3roz5p/VlDkLet5NkFTXguNyHcQUu+ZUldrXYdJ7+MEVYet/DvQF6O9bCv9/NwQA KONcrmrnlK0cRt/MVW4cLmMBIP0PnmcEoTcnM= X-Google-DKIM-Signature: v=1; a=rsa-sha256; c=relaxed/relaxed; d=1e100.net; s=20230601; t=1738766070; x=1739370870; h=references:in-reply-to:cc:to:from:subject:message-id:date :x-gm-message-state:from:to:cc:subject:date:message-id:reply-to; bh=cNybI5IUtBij7mctUuJ2DioGj15V8/Q7chuDkTPv9Hc=; b=aYv1XYPuu2z84at7lbh1VgoB6YBMVB0jc5m50ql69wndQ9k3SGGpA/KkRpJaj5/Kqk esaKrFH5p6fPcPRshvTlmsBHTW7YPSSCaUXFD78tcNlivSdm9kl0l3poZUaJYIW/o96k qUHw7Bn+HMm6HMNrvT/1w5aseiZ77/NTKMD8DZ6/SwpSaBmTFM7YGodOa+lj9nllMu4c 1XOuHGRqPVU0fxMETuciXbgHMTBnydngBL3iS9bqzTr3ewMHYcRy4nvZJmRK00FjpE1w 3lxl/1JvkMNv5qLHQF6AeDm1npUi+hI/3WM3C3R81Ud5DHEyv0A/0MBIYbNg3meP60ay x4Ow== X-Gm-Message-State: AOJu0YwVZFLC3tTqcCpUhK4hkLYN648nzRxdzjtU/p0jboR8me5xJXVf rTFVbFB7kgRUZdZNdFfx9mpZa8ONunYj4o4243uN4SakmiafrrwPO5slIaXkP7kSK3xISFkiy9D S1Ax9BTS5qkdr0npF1xYVT3i0xOxTZyxkJKH0KHYR X-Gm-Gg: ASbGncs7p/ew52Vp6lf4SgBATOgTSn9T8VDJRHNElWydYKGwVVKiTRUgEm44Y6V5ank uDR2JexqIj0iCK8agxeDmjTQNu0RPcYNegRJ7B3zBUIhoKoGK/fGRX1qlSGt67bUNZXeOe4OCzJ VsAH5DAqfsEsaAE7U6L/1h5SugLcXc+xiQ42pBGB7pq7ypgKFk4HV6HHV5SnzmBonKHkqFWhI13 q9Yrk1lPWlXFsQIqBkn0Pl/CkwybwKh0gcLYdApfSQbZV5xRjPHq8RpfX/FLruPI1kKTN/ridiB gUGOjjfRJP9plGc4UtjCO596oifTiQ== X-Google-Smtp-Source: AGHT+IH+VAqxv9EazIJ0Li588KT4+tccHxuDSzkVqucx6UeJ5KuX9P7NI2CaE3sCg/XNMc6j5DTm2dlxJUo8 X-Received: by 2002:a05:6e02:12e8:b0:3d0:255e:fdc with SMTP id e9e14a558f8ab-3d04f917a09mr24225085ab.15.1738766070097; Wed, 05 Feb 2025 06:34:30 -0800 (PST) Received: from postal.iol.unh.edu (postal.iol.unh.edu. [132.177.123.84]) by smtp-relay.gmail.com with ESMTPS id 8926c6da1cb9f-4ec745b6577sm820529173.27.2025.02.05.06.34.30 (version=TLS1_2 cipher=ECDHE-ECDSA-AES128-GCM-SHA256 bits=128/128); Wed, 05 Feb 2025 06:34:30 -0800 (PST) X-Relaying-Domain: iol.unh.edu Date: Wed, 05 Feb 2025 06:34:30 -0800 (PST) Message-ID: <67a376f6.050a0220.32848e.6443SMTPIN_ADDED_MISSING@mx.google.com> Received: from [172.17.0.4] (unknown [172.18.0.217]) by postal.iol.unh.edu (Postfix) with ESMTP id 9A1B06052471; Wed, 5 Feb 2025 09:34:29 -0500 (EST) Subject: |WARNING| pw150389-150390 [PATCH] [v2,2/2] drivers/net: fix void fun From: dpdklab@iol.unh.edu To: Test Report Cc: dpdk-test-reports@iol.unh.edu In-Reply-To: <1737559244-9107-3-git-send-email-andremue@linux.microsoft.com> References: <1737559244-9107-3-git-send-email-andremue@linux.microsoft.com> Content-Type: text/plain X-BeenThere: test-report@dpdk.org X-Mailman-Version: 2.1.29 Precedence: list List-Id: automatic DPDK test reports List-Unsubscribe: , List-Archive: List-Post: List-Help: List-Subscribe: , Errors-To: test-report-bounces@dpdk.org Test-Label: iol-compile-amd64-testing Test-Status: WARNING http://dpdk.org/patch/150390 _Testing issues_ Submitter: Andre Muezerie Date: Wednesday, January 22 2025 15:20:44 DPDK git baseline: Repo:dpdk Branch: master CommitID:e931818831336de2732ca29082e47799359d9c71 150389-150390 --> testing issues Upstream job id: Windows-Compile-DPDK-Native#26422 Test environment and result as below: +---------------------+--------------------+------------------+-------------------+-------------------+----------------------+-------------------------+ | Environment | dpdk_meson_compile | dpdk_compile_ovs | dpdk_compile_spdk | dpdk_msvc_compile | dpdk_mingw64_compile | dpdk_llvm_clang_compile | +=====================+====================+==================+===================+===================+======================+=========================+ | CentOS Stream 9 | PASS | PASS | PASS | SKIPPED | SKIPPED | SKIPPED | +---------------------+--------------------+------------------+-------------------+-------------------+----------------------+-------------------------+ | Debian Bullseye | PASS | PASS | PASS | SKIPPED | SKIPPED | SKIPPED | +---------------------+--------------------+------------------+-------------------+-------------------+----------------------+-------------------------+ | Debian 12 | PASS | PASS | PASS | SKIPPED | SKIPPED | SKIPPED | +---------------------+--------------------+------------------+-------------------+-------------------+----------------------+-------------------------+ | Fedora 40 (Clang) | PASS | PASS | PASS | SKIPPED | SKIPPED | SKIPPED | +---------------------+--------------------+------------------+-------------------+-------------------+----------------------+-------------------------+ | Fedora 40 | PASS | PASS | PASS | SKIPPED | SKIPPED | SKIPPED | +---------------------+--------------------+------------------+-------------------+-------------------+----------------------+-------------------------+ | Fedora 41 (Clang) | PASS | PASS | PASS | SKIPPED | SKIPPED | SKIPPED | +---------------------+--------------------+------------------+-------------------+-------------------+----------------------+-------------------------+ | openSUSE Leap 15 | PASS | SKIPPED | SKIPPED | SKIPPED | SKIPPED | SKIPPED | +---------------------+--------------------+------------------+-------------------+-------------------+----------------------+-------------------------+ | RHEL8 | PASS | PASS | SKIPPED | SKIPPED | SKIPPED | SKIPPED | +---------------------+--------------------+------------------+-------------------+-------------------+----------------------+-------------------------+ | Fedora 41 | PASS | PASS | PASS | SKIPPED | SKIPPED | SKIPPED | +---------------------+--------------------+------------------+-------------------+-------------------+----------------------+-------------------------+ | RHEL9 | PASS | PASS | SKIPPED | SKIPPED | SKIPPED | SKIPPED | +---------------------+--------------------+------------------+-------------------+-------------------+----------------------+-------------------------+ | Ubuntu 20.04 | PASS | WARN | SKIPPED | SKIPPED | SKIPPED | SKIPPED | +---------------------+--------------------+------------------+-------------------+-------------------+----------------------+-------------------------+ | Ubuntu 22.04 | PASS | PASS | PASS | SKIPPED | SKIPPED | SKIPPED | +---------------------+--------------------+------------------+-------------------+-------------------+----------------------+-------------------------+ | Ubuntu 24.04 | PASS | PASS | PASS | SKIPPED | SKIPPED | SKIPPED | +---------------------+--------------------+------------------+-------------------+-------------------+----------------------+-------------------------+ | Alpine | PASS | PASS | SKIPPED | SKIPPED | SKIPPED | SKIPPED | +---------------------+--------------------+------------------+-------------------+-------------------+----------------------+-------------------------+ | FreeBSD 13.4 | PASS | SKIPPED | SKIPPED | SKIPPED | SKIPPED | SKIPPED | +---------------------+--------------------+------------------+-------------------+-------------------+----------------------+-------------------------+ | FreeBSD 14.2 | PASS | SKIPPED | SKIPPED | SKIPPED | SKIPPED | SKIPPED | +---------------------+--------------------+------------------+-------------------+-------------------+----------------------+-------------------------+ | Windows Server 2022 | SKIPPED | SKIPPED | SKIPPED | PASS | PASS | PASS | +---------------------+--------------------+------------------+-------------------+-------------------+----------------------+-------------------------+ ==== 20 line log output for Ubuntu 20.04 (dpdk_compile_ovs): ==== --- Failed to get log output --- ==== End log output ==== CentOS Stream 9 Kernel: Depends on container host Compiler: gcc 11.5.0 20240719 (Red Hat 11.5.0-2) Debian Bullseye Kernel: Depends on container host Compiler: gcc (Debian 10.2.1-6) 10.2.1 20210110 Debian 12 Kernel: Depends on container host Compiler: gcc (Debian 12.2.0-14) 12.2.0 Fedora 40 (Clang) Kernel: Depends on container host Compiler: clang 18.1.8 (Fedora 18.1.8-1.fc40) Fedora 40 Kernel: Depends on container host Compiler: gcc 14.2.1 20240912 (Red Hat 14.2.1-3) Fedora 41 (Clang) Kernel: Depends on container host Compiler: clang 19.1.5 (Fedora 19.1.5-1.fc41) openSUSE Leap 15 Kernel: Depends on container host Compiler: gcc (SUSE Linux) 7.5.0 RHEL8 Kernel: Depends on container host Compiler: gcc 8.5.0 20210514 (Red Hat 8.5.0-22) Fedora 41 Kernel: Depends on container host Compiler: gcc 14.2.1 20240912 (Red Hat 14.2.1-3) RHEL9 Kernel: Depends on container host Compiler: gcc 11.5.0 20240719 (Red Hat 11.5.0-2) Ubuntu 20.04 Kernel: Depends on container host Compiler: gcc (Ubuntu 9.4.0-1ubuntu1~20.04.2) 9.4.0 Ubuntu 22.04 Kernel: Depends on container host Compiler: gcc (Ubuntu 11.4.0-1ubuntu1~22.04) 11.4.0 Ubuntu 24.04 Kernel: Depends on container host Compiler: gcc (Ubuntu 13.3.0-6ubuntu2~24.04) 13.3.0 Alpine Kernel: Depends on container host Compiler: gcc (Alpine 14.2.0) 14.2.0 FreeBSD 13.4 Kernel: 13.4-RELEASE-p1 Compiler: clang 18.1.6 FreeBSD 14.2 Kernel: 14.2-RELEASE Compiler: clang 18.1.6 Windows Server 2022 Kernel: 10.0.20348.2031 Compiler: clang 15.0.7, gcc 14.1.0 (MinGW), and MSVC VS 19.39.33521 To view detailed results, visit: https://lab.dpdk.org/results/dashboard/patchsets/32397/ UNH-IOL DPDK Community Lab To manage your email subscriptions, visit: https://lab.dpdk.org/results/dashboard/preferences/subscriptions/