From mboxrd@z Thu Jan 1 00:00:00 1970 Return-Path: Received: from mails.dpdk.org (mails.dpdk.org [217.70.189.124]) by inbox.dpdk.org (Postfix) with ESMTP id 3B3924619C for ; Wed, 5 Feb 2025 15:37:31 +0100 (CET) Received: from mails.dpdk.org (localhost [127.0.0.1]) by mails.dpdk.org (Postfix) with ESMTP id 0DF1B4029A; Wed, 5 Feb 2025 15:37:31 +0100 (CET) Received: from mail-il1-f226.google.com (mail-il1-f226.google.com [209.85.166.226]) by mails.dpdk.org (Postfix) with ESMTP id D1D0A40270 for ; Wed, 5 Feb 2025 15:37:29 +0100 (CET) Received: by mail-il1-f226.google.com with SMTP id e9e14a558f8ab-3cf880d90bdso22592565ab.3 for ; Wed, 05 Feb 2025 06:37:29 -0800 (PST) DKIM-Signature: v=1; a=rsa-sha256; c=relaxed/relaxed; d=iol.unh.edu; s=unh-iol; t=1738766249; x=1739371049; darn=dpdk.org; h=references:in-reply-to:cc:to:from:subject:message-id:date:from:to :cc:subject:date:message-id:reply-to; bh=in9N7H5Dj5Z5gLLVZMmu0XiBK8KQ4V5itzgfoMHS1Jk=; b=bDfEHbWQQlF4/x3r+zRh+2y5JjD+PfnDWIJOrFwjBGx6cs/FC8Yu2p1QSTkkfT4EGz IJZ0qH61L9qeHyIRgKluREccbkyldpwOjOTu3SMwlvdJeHi9wR6CIrhFaQ7m4UbZEdxg Am7pKSd9pumEU4XSrEbUPyN9Rl9KvnBR3bf5w= X-Google-DKIM-Signature: v=1; a=rsa-sha256; c=relaxed/relaxed; d=1e100.net; s=20230601; t=1738766249; x=1739371049; h=references:in-reply-to:cc:to:from:subject:message-id:date :x-gm-message-state:from:to:cc:subject:date:message-id:reply-to; bh=in9N7H5Dj5Z5gLLVZMmu0XiBK8KQ4V5itzgfoMHS1Jk=; b=ddhVN3eLrlZuiWqqRvBGwFbVBD0hAI3a51M9N1u5CeJizeqL5yMufR3dqyCpwK6EYB s0Cej/VQ/8SHiOT7MLLsFj2LaoEVjBG5q3/YarBpeH7k8W/EVPi13ZDlc7BXfXa4DSxh 4aBcIB6agRsnLL7jbWn+hlvul0C2e1U6vJj4jYEnP877RbAn2aCeDwqHfCmmsONBRXLj iev14NCDjqSxMy+fL751HstFUGkpmKNS0Fpc59AI/4sVO6Lm9uVUMBVP0BnFO9sx09IX BcfdHoK0O6jP84o79BcxdkiArCmKCfEcsF3OaWfniXuQbbrbI0ZuM9ggP9wrzL0F7x3X i6hg== X-Gm-Message-State: AOJu0Yyy96iQvhpd2h/TfayZDumIfAQsC2LCepDV01mDgjgI60kC29z8 IaxZRrqo6uW3/AL+c3fxvWGueISpNjoISNh5PBxrtLxLxCe+LcMERbcOb0X8jeNxjEuWCy4nR9t sP8sXNRZ7SoJC+fbQ8IMIPvoJ2jmitDIKiMAmkekpYeAjPV+rFa/fIsuV X-Gm-Gg: ASbGncstTNutrhWlRtS39ZKZ6VCc1KeauT3pi/6wNBUEs/6fgRU8eho6TZJi7Ya/e1S EmW5qbMpHLoRFQqitCh0suQPoSpsCbDu5NDz8LFzL644/O79YUsTentBIPShpgEY8t6JwS4dPbu ip1Al3XZJZa2ADnfEraMedcBnZTuDvMbYnf9bpTWe82etX9SGxxDKDOPNVW2JmgqyCaRf1F3q3Z qxhBFfD2vIXUTJvyemeF1ceTlm1bLSsYpCp0jDkbsc0D9Ag4BYfiyAwUBf+M4O/Jq4+nWI2KIir fwuDZwP6hUufoivGTecgWK5zLtrJ4VPSzJ46p9x3RQ== X-Google-Smtp-Source: AGHT+IG7sliuPdoJmgjUFBoU1vPP6wp0U1IQc9dbpFeOKVr6Syp+sanoKITGzWLl+gESvXMmF7ZPi5x7mVeV X-Received: by 2002:a05:6e02:1d1d:b0:3d0:17d2:a02c with SMTP id e9e14a558f8ab-3d04f91787bmr25346215ab.20.1738766249088; Wed, 05 Feb 2025 06:37:29 -0800 (PST) Received: from postal.iol.unh.edu (postal.iol.unh.edu. [2606:4100:3880:1234::84]) by smtp-relay.gmail.com with ESMTPS id 8926c6da1cb9f-4ec745b6622sm819438173.26.2025.02.05.06.37.29 (version=TLS1_2 cipher=ECDHE-ECDSA-AES128-GCM-SHA256 bits=128/128); Wed, 05 Feb 2025 06:37:29 -0800 (PST) X-Relaying-Domain: iol.unh.edu Date: Wed, 05 Feb 2025 06:37:29 -0800 (PST) Message-ID: <67a377a9.050a0220.28f98e.778cSMTPIN_ADDED_MISSING@mx.google.com> Received: from [172.17.0.4] (unknown [172.18.0.217]) by postal.iol.unh.edu (Postfix) with ESMTP id 949836052471; Wed, 5 Feb 2025 09:37:28 -0500 (EST) Subject: |WARNING| pw150370-150372 [PATCH] [3/3] net/ice: ACL filter support From: dpdklab@iol.unh.edu To: Test Report Cc: dpdk-test-reports@iol.unh.edu In-Reply-To: <20250122082310.380054-4-mingjinx.ye@intel.com> References: <20250122082310.380054-4-mingjinx.ye@intel.com> Content-Type: text/plain X-BeenThere: test-report@dpdk.org X-Mailman-Version: 2.1.29 Precedence: list List-Id: automatic DPDK test reports List-Unsubscribe: , List-Archive: List-Post: List-Help: List-Subscribe: , Errors-To: test-report-bounces@dpdk.org Test-Label: iol-compile-amd64-testing Test-Status: WARNING http://dpdk.org/patch/150372 _Testing issues_ Submitter: Mingjin Ye Date: Wednesday, January 22 2025 08:23:10 DPDK git baseline: Repo:dpdk Branch: master CommitID:5c318e37541dbe80b9f07e184850b1382f2a54d5 150370-150372 --> testing issues Upstream job id: Windows-Compile-DPDK-Native#26423 Test environment and result as below: +---------------------+--------------------+------------------+-------------------+-------------------+-------------------------+----------------------+ | Environment | dpdk_meson_compile | dpdk_compile_ovs | dpdk_compile_spdk | dpdk_msvc_compile | dpdk_llvm_clang_compile | dpdk_mingw64_compile | +=====================+====================+==================+===================+===================+=========================+======================+ | CentOS Stream 9 | PASS | PASS | PASS | SKIPPED | SKIPPED | SKIPPED | +---------------------+--------------------+------------------+-------------------+-------------------+-------------------------+----------------------+ | Debian 12 | PASS | PASS | PASS | SKIPPED | SKIPPED | SKIPPED | +---------------------+--------------------+------------------+-------------------+-------------------+-------------------------+----------------------+ | Debian Bullseye | PASS | PASS | PASS | SKIPPED | SKIPPED | SKIPPED | +---------------------+--------------------+------------------+-------------------+-------------------+-------------------------+----------------------+ | Fedora 41 | PASS | PASS | PASS | SKIPPED | SKIPPED | SKIPPED | +---------------------+--------------------+------------------+-------------------+-------------------+-------------------------+----------------------+ | Fedora 40 (Clang) | PASS | PASS | PASS | SKIPPED | SKIPPED | SKIPPED | +---------------------+--------------------+------------------+-------------------+-------------------+-------------------------+----------------------+ | Fedora 41 (Clang) | PASS | PASS | PASS | SKIPPED | SKIPPED | SKIPPED | +---------------------+--------------------+------------------+-------------------+-------------------+-------------------------+----------------------+ | Fedora 40 | PASS | PASS | PASS | SKIPPED | SKIPPED | SKIPPED | +---------------------+--------------------+------------------+-------------------+-------------------+-------------------------+----------------------+ | RHEL9 | PASS | PASS | SKIPPED | SKIPPED | SKIPPED | SKIPPED | +---------------------+--------------------+------------------+-------------------+-------------------+-------------------------+----------------------+ | RHEL8 | PASS | PASS | SKIPPED | SKIPPED | SKIPPED | SKIPPED | +---------------------+--------------------+------------------+-------------------+-------------------+-------------------------+----------------------+ | Ubuntu 20.04 | PASS | WARN | SKIPPED | SKIPPED | SKIPPED | SKIPPED | +---------------------+--------------------+------------------+-------------------+-------------------+-------------------------+----------------------+ | Ubuntu 22.04 | PASS | PASS | PASS | SKIPPED | SKIPPED | SKIPPED | +---------------------+--------------------+------------------+-------------------+-------------------+-------------------------+----------------------+ | Ubuntu 24.04 | PASS | PASS | PASS | SKIPPED | SKIPPED | SKIPPED | +---------------------+--------------------+------------------+-------------------+-------------------+-------------------------+----------------------+ | Alpine | PASS | PASS | SKIPPED | SKIPPED | SKIPPED | SKIPPED | +---------------------+--------------------+------------------+-------------------+-------------------+-------------------------+----------------------+ | FreeBSD 13.4 | PASS | SKIPPED | SKIPPED | SKIPPED | SKIPPED | SKIPPED | +---------------------+--------------------+------------------+-------------------+-------------------+-------------------------+----------------------+ | FreeBSD 14.2 | PASS | SKIPPED | SKIPPED | SKIPPED | SKIPPED | SKIPPED | +---------------------+--------------------+------------------+-------------------+-------------------+-------------------------+----------------------+ | openSUSE Leap 15 | PASS | SKIPPED | SKIPPED | SKIPPED | SKIPPED | SKIPPED | +---------------------+--------------------+------------------+-------------------+-------------------+-------------------------+----------------------+ | Windows Server 2022 | SKIPPED | SKIPPED | SKIPPED | PASS | PASS | PASS | +---------------------+--------------------+------------------+-------------------+-------------------+-------------------------+----------------------+ ==== 20 line log output for Ubuntu 20.04 (dpdk_compile_ovs): ==== --- Failed to get log output --- ==== End log output ==== CentOS Stream 9 Kernel: Depends on container host Compiler: gcc 11.5.0 20240719 (Red Hat 11.5.0-2) Debian 12 Kernel: Depends on container host Compiler: gcc (Debian 12.2.0-14) 12.2.0 Debian Bullseye Kernel: Depends on container host Compiler: gcc (Debian 10.2.1-6) 10.2.1 20210110 Fedora 41 Kernel: Depends on container host Compiler: gcc 14.2.1 20240912 (Red Hat 14.2.1-3) Fedora 40 (Clang) Kernel: Depends on container host Compiler: clang 18.1.8 (Fedora 18.1.8-1.fc40) Fedora 41 (Clang) Kernel: Depends on container host Compiler: clang 19.1.5 (Fedora 19.1.5-1.fc41) Fedora 40 Kernel: Depends on container host Compiler: gcc 14.2.1 20240912 (Red Hat 14.2.1-3) RHEL9 Kernel: Depends on container host Compiler: gcc 11.5.0 20240719 (Red Hat 11.5.0-2) RHEL8 Kernel: Depends on container host Compiler: gcc 8.5.0 20210514 (Red Hat 8.5.0-22) Ubuntu 20.04 Kernel: Depends on container host Compiler: gcc (Ubuntu 9.4.0-1ubuntu1~20.04.2) 9.4.0 Ubuntu 22.04 Kernel: Depends on container host Compiler: gcc (Ubuntu 11.4.0-1ubuntu1~22.04) 11.4.0 Ubuntu 24.04 Kernel: Depends on container host Compiler: gcc (Ubuntu 13.3.0-6ubuntu2~24.04) 13.3.0 Alpine Kernel: Depends on container host Compiler: gcc (Alpine 14.2.0) 14.2.0 FreeBSD 13.4 Kernel: 13.4-RELEASE-p1 Compiler: clang 18.1.6 FreeBSD 14.2 Kernel: 14.2-RELEASE Compiler: clang 18.1.6 openSUSE Leap 15 Kernel: Depends on container host Compiler: gcc (SUSE Linux) 7.5.0 Windows Server 2022 Kernel: 10.0.20348.2031 Compiler: clang 15.0.7, gcc 14.1.0 (MinGW), and MSVC VS 19.39.33521 To view detailed results, visit: https://lab.dpdk.org/results/dashboard/patchsets/32394/ UNH-IOL DPDK Community Lab To manage your email subscriptions, visit: https://lab.dpdk.org/results/dashboard/preferences/subscriptions/