From mboxrd@z Thu Jan 1 00:00:00 1970 Return-Path: Received: from mails.dpdk.org (mails.dpdk.org [217.70.189.124]) by inbox.dpdk.org (Postfix) with ESMTP id 0552B4619E for ; Wed, 5 Feb 2025 15:52:29 +0100 (CET) Received: from mails.dpdk.org (localhost [127.0.0.1]) by mails.dpdk.org (Postfix) with ESMTP id F1E934029A; Wed, 5 Feb 2025 15:52:28 +0100 (CET) Received: from mail-pl1-f225.google.com (mail-pl1-f225.google.com [209.85.214.225]) by mails.dpdk.org (Postfix) with ESMTP id E2DE540270 for ; Wed, 5 Feb 2025 15:52:27 +0100 (CET) Received: by mail-pl1-f225.google.com with SMTP id d9443c01a7336-21f0c4275a1so26843365ad.2 for ; Wed, 05 Feb 2025 06:52:27 -0800 (PST) DKIM-Signature: v=1; a=rsa-sha256; c=relaxed/relaxed; d=iol.unh.edu; s=unh-iol; t=1738767147; x=1739371947; darn=dpdk.org; h=references:in-reply-to:cc:to:from:subject:message-id:date:from:to :cc:subject:date:message-id:reply-to; bh=NLnOlftn9BCBlwOgr4bNuNazRlj2ZHbWUCoP5TSp+hM=; b=UbVthflfI8IfdAzz8HhN4FhwWMl+ugrqxgQeN4bSWfDKaO17FDQ3AMDAzGhh+bRluo 7ok/lNn/ykKsucQ16QfLAIfhitmHNPb7TvOt7hmoPhBjDwkV/Zv5d8t9i2vu5+S+1cnd /wbm6Cx/VgyKN6PCJDX+VAa+RcntvMCNUpRpU= X-Google-DKIM-Signature: v=1; a=rsa-sha256; c=relaxed/relaxed; d=1e100.net; s=20230601; t=1738767147; x=1739371947; h=references:in-reply-to:cc:to:from:subject:message-id:date :x-gm-message-state:from:to:cc:subject:date:message-id:reply-to; bh=NLnOlftn9BCBlwOgr4bNuNazRlj2ZHbWUCoP5TSp+hM=; b=sh8UQy0LGw7UqQTyC6Ohq1o0eRKS2tdBt0g3DhvdvMKVM4eW80ifVfH/Dgq/0VPSv3 6eIzQgS6CmMNfMGk1jgttQ+ZfnPnt61PGuzzA1hOlEZFCT4KLuHyBWOCvno+slytfrbe 5VdUPLBJQGHnBlW56joHjxZHzO403Sd/Vuoc7LC2ypouyY8Wvllia98ET8lMLoOU4jGi hCztfFpF6jSeVx8LlcjOiCmscE1OP/lkhGi426vJ2Bll6P7MTkqoQFoF7OM2EcaDE9V6 PClZ/8b8daONv8efO1KRmSLma86a6Uhn0yq8LvcdRFg47eHv15VUwPXKMWi0S7Qxpmlk bCdA== X-Gm-Message-State: AOJu0YwE4xAr0uFF14vqdoyoZqnsvzVfJEM3SrNCGltZxkbv93xDH7Xg 0f6ySAnRxoGShHtStucxFOtSZDVFK7lpu0TFDu7022E0oQuXTlpBj3NRLhOGztpdzIsTRlC4E2o miyOAuJtQihhZbm5fbO93iyhOYBJ9HPh8jsktjVXvRRLGtCbxUZBIn7jO X-Gm-Gg: ASbGncun5VMo3Djd0NPKAiIBeUl0C+z7Co2+NXh5pQ/yGldomhzsSgYIq4MHdtSWlXx len7zReOsSVqzT+lIvYNzxsczA92ffS5BXLosA62KVQFq14S1Fe/XijC7Qs/v/z6xHURbpiM7ch 42wh8rxDAvric55DQsXsPK0q9wZR8273hosdv+NyI8krobsbzGTLutjNA1tWiuF5sQMY6+ZiL6/ P7o1a36UkwMM5w685UVBckHA/2WMOC/ARmNJ3ze6J62iEqXfaRTGZMzJRw4UoFZTOlTpIEogfFG V+oR45Sq1b91GYq8WvLj9cT2HlXKb/yrSOsIB8ekxQ== X-Google-Smtp-Source: AGHT+IEloHUAu09hlFBJxoMucDPjZIaFUobaX9RvZ+pZQfckFiUh2+pbSz78RgGJCmskBjopHMCOa0Qn233a X-Received: by 2002:a05:6a21:a44:b0:1ed:a4ad:78aa with SMTP id adf61e73a8af0-1ede88ca51dmr6454985637.37.1738767146860; Wed, 05 Feb 2025 06:52:26 -0800 (PST) Received: from postal.iol.unh.edu (postal.iol.unh.edu. [2606:4100:3880:1234::84]) by smtp-relay.gmail.com with ESMTPS id 41be03b00d2f7-acebe7617f5sm768449a12.14.2025.02.05.06.52.26 (version=TLS1_2 cipher=ECDHE-ECDSA-AES128-GCM-SHA256 bits=128/128); Wed, 05 Feb 2025 06:52:26 -0800 (PST) X-Relaying-Domain: iol.unh.edu Date: Wed, 05 Feb 2025 06:52:26 -0800 (PST) Message-ID: <67a37b2a.630a0220.326e31.525dSMTPIN_ADDED_MISSING@mx.google.com> Received: from [172.17.0.4] (unknown [172.18.0.217]) by postal.iol.unh.edu (Postfix) with ESMTP id 0961C6052471; Wed, 5 Feb 2025 09:52:26 -0500 (EST) Subject: |SUCCESS| pw150893 [PATCH] net/af_packet: fix socket close on device From: dpdklab@iol.unh.edu To: Test Report Cc: dpdk-test-reports@iol.unh.edu In-Reply-To: <20250204164508.864080-1-tudor.cornea@gmail.com> References: <20250204164508.864080-1-tudor.cornea@gmail.com> Content-Type: text/plain X-BeenThere: test-report@dpdk.org X-Mailman-Version: 2.1.29 Precedence: list List-Id: automatic DPDK test reports List-Unsubscribe: , List-Archive: List-Post: List-Help: List-Subscribe: , Errors-To: test-report-bounces@dpdk.org Test-Label: iol-compile-amd64-testing Test-Status: SUCCESS http://dpdk.org/patch/150893 _Testing PASS_ Submitter: Tudor Cornea Date: Tuesday, February 04 2025 16:45:08 DPDK git baseline: Repo:dpdk Branch: master CommitID:595535be66b103f7ce3ba61939b8013032987404 150893 --> testing pass Upstream job id: Windows-Compile-DPDK-Native#26425 Test environment and result as below: +---------------------+-------------------+--------------------+------------------+-------------------+-------------------------+ | Environment | dpdk_msvc_compile | dpdk_meson_compile | dpdk_compile_ovs | dpdk_compile_spdk | dpdk_llvm_clang_compile | +=====================+===================+====================+==================+===================+=========================+ | Windows Server 2022 | PASS | SKIPPED | SKIPPED | SKIPPED | PASS | +---------------------+-------------------+--------------------+------------------+-------------------+-------------------------+ | FreeBSD 13.4 | SKIPPED | PASS | SKIPPED | SKIPPED | SKIPPED | +---------------------+-------------------+--------------------+------------------+-------------------+-------------------------+ | FreeBSD 14.2 | SKIPPED | PASS | SKIPPED | SKIPPED | SKIPPED | +---------------------+-------------------+--------------------+------------------+-------------------+-------------------------+ | CentOS Stream 9 | SKIPPED | PASS | PASS | PASS | SKIPPED | +---------------------+-------------------+--------------------+------------------+-------------------+-------------------------+ | Debian Bullseye | SKIPPED | PASS | PASS | PASS | SKIPPED | +---------------------+-------------------+--------------------+------------------+-------------------+-------------------------+ | Debian 12 | SKIPPED | PASS | PASS | PASS | SKIPPED | +---------------------+-------------------+--------------------+------------------+-------------------+-------------------------+ | Fedora 40 | SKIPPED | PASS | PASS | PASS | SKIPPED | +---------------------+-------------------+--------------------+------------------+-------------------+-------------------------+ | Fedora 41 (Clang) | SKIPPED | PASS | PASS | PASS | SKIPPED | +---------------------+-------------------+--------------------+------------------+-------------------+-------------------------+ | Fedora 41 | SKIPPED | PASS | PASS | PASS | SKIPPED | +---------------------+-------------------+--------------------+------------------+-------------------+-------------------------+ | openSUSE Leap 15 | SKIPPED | PASS | SKIPPED | SKIPPED | SKIPPED | +---------------------+-------------------+--------------------+------------------+-------------------+-------------------------+ | RHEL8 | SKIPPED | PASS | PASS | SKIPPED | SKIPPED | +---------------------+-------------------+--------------------+------------------+-------------------+-------------------------+ | RHEL9 | SKIPPED | PASS | PASS | SKIPPED | SKIPPED | +---------------------+-------------------+--------------------+------------------+-------------------+-------------------------+ | Ubuntu 20.04 | SKIPPED | PASS | SKIPPED | SKIPPED | SKIPPED | +---------------------+-------------------+--------------------+------------------+-------------------+-------------------------+ | Ubuntu 22.04 | SKIPPED | PASS | PASS | PASS | SKIPPED | +---------------------+-------------------+--------------------+------------------+-------------------+-------------------------+ | Ubuntu 24.04 | SKIPPED | PASS | PASS | PASS | SKIPPED | +---------------------+-------------------+--------------------+------------------+-------------------+-------------------------+ | Alpine | SKIPPED | PASS | PASS | SKIPPED | SKIPPED | +---------------------+-------------------+--------------------+------------------+-------------------+-------------------------+ | Fedora 40 (Clang) | SKIPPED | PASS | PASS | PASS | SKIPPED | +---------------------+-------------------+--------------------+------------------+-------------------+-------------------------+ Windows Server 2022 Kernel: 10.0.20348.2031 Compiler: clang 15.0.7, gcc 14.1.0 (MinGW), and MSVC VS 19.39.33521 FreeBSD 13.4 Kernel: 13.4-RELEASE-p1 Compiler: clang 18.1.6 FreeBSD 14.2 Kernel: 14.2-RELEASE Compiler: clang 18.1.6 CentOS Stream 9 Kernel: Depends on container host Compiler: gcc 11.5.0 20240719 (Red Hat 11.5.0-2) Debian Bullseye Kernel: Depends on container host Compiler: gcc (Debian 10.2.1-6) 10.2.1 20210110 Debian 12 Kernel: Depends on container host Compiler: gcc (Debian 12.2.0-14) 12.2.0 Fedora 40 Kernel: Depends on container host Compiler: gcc 14.2.1 20240912 (Red Hat 14.2.1-3) Fedora 41 (Clang) Kernel: Depends on container host Compiler: clang 19.1.5 (Fedora 19.1.5-1.fc41) Fedora 41 Kernel: Depends on container host Compiler: gcc 14.2.1 20240912 (Red Hat 14.2.1-3) openSUSE Leap 15 Kernel: Depends on container host Compiler: gcc (SUSE Linux) 7.5.0 RHEL8 Kernel: Depends on container host Compiler: gcc 8.5.0 20210514 (Red Hat 8.5.0-22) RHEL9 Kernel: Depends on container host Compiler: gcc 11.5.0 20240719 (Red Hat 11.5.0-2) Ubuntu 20.04 Kernel: Depends on container host Compiler: gcc (Ubuntu 9.4.0-1ubuntu1~20.04.2) 9.4.0 Ubuntu 22.04 Kernel: Depends on container host Compiler: gcc (Ubuntu 11.4.0-1ubuntu1~22.04) 11.4.0 Ubuntu 24.04 Kernel: Depends on container host Compiler: gcc (Ubuntu 13.3.0-6ubuntu2~24.04) 13.3.0 Alpine Kernel: Depends on container host Compiler: gcc (Alpine 14.2.0) 14.2.0 Fedora 40 (Clang) Kernel: Depends on container host Compiler: clang 18.1.8 (Fedora 18.1.8-1.fc40) To view detailed results, visit: https://lab.dpdk.org/results/dashboard/patchsets/32490/ UNH-IOL DPDK Community Lab To manage your email subscriptions, visit: https://lab.dpdk.org/results/dashboard/preferences/subscriptions/